BEGIN:VCALENDAR
VERSION:2.0
PRODID:-//BishopLocal.com - ECPv6.15.18//NONSGML v1.0//EN
CALSCALE:GREGORIAN
METHOD:PUBLISH
X-WR-CALNAME:BishopLocal.com
X-ORIGINAL-URL:https://bishoplocal.com
X-WR-CALDESC:Events for BishopLocal.com
REFRESH-INTERVAL;VALUE=DURATION:PT1H
X-Robots-Tag:noindex
X-PUBLISHED-TTL:PT1H
BEGIN:VTIMEZONE
TZID:America/Los_Angeles
BEGIN:DAYLIGHT
TZOFFSETFROM:-0800
TZOFFSETTO:-0700
TZNAME:PDT
DTSTART:20250309T100000
END:DAYLIGHT
BEGIN:STANDARD
TZOFFSETFROM:-0700
TZOFFSETTO:-0800
TZNAME:PST
DTSTART:20251102T090000
END:STANDARD
BEGIN:DAYLIGHT
TZOFFSETFROM:-0800
TZOFFSETTO:-0700
TZNAME:PDT
DTSTART:20260308T100000
END:DAYLIGHT
BEGIN:STANDARD
TZOFFSETFROM:-0700
TZOFFSETTO:-0800
TZNAME:PST
DTSTART:20261101T090000
END:STANDARD
BEGIN:DAYLIGHT
TZOFFSETFROM:-0800
TZOFFSETTO:-0700
TZNAME:PDT
DTSTART:20270314T100000
END:DAYLIGHT
BEGIN:STANDARD
TZOFFSETFROM:-0700
TZOFFSETTO:-0800
TZNAME:PST
DTSTART:20271107T090000
END:STANDARD
END:VTIMEZONE
BEGIN:VEVENT
DTSTART;TZID=America/Los_Angeles:20260522T090000
DTEND;TZID=America/Los_Angeles:20260525T140000
DTSTAMP:20260420T083223
CREATED:20260409T203205Z
LAST-MODIFIED:20260409T223020Z
UID:10001682-1779440400-1779717600@bishoplocal.com
SUMMARY:Memorial Day Weekend Arts & Crafts Fair
DESCRIPTION:Four-day arts and crafts show in Bishop City Park running alongside the Mule Days celebration. Features approximately 100 artists selling photography\, jewelry\, woodworking\, watercolors\, sculpture\, clothing\, and more. Food vendors and free musical entertainment on Sunday.
URL:https://bishoplocal.com/event/memorial-day-weekend-arts-crafts-fair/
LOCATION:Bishop City Park\, 690 N Main St\, Bishop\, CA\, 93514\, United States
CATEGORIES:arts-culture
ATTACH;FMTTYPE=image/jpeg:https://bishoplocal.com/wp-content/uploads/2026/04/IMG_0462-1.jpg
END:VEVENT
BEGIN:VEVENT
DTSTART;TZID=America/Los_Angeles:20260525T053000
DTEND;TZID=America/Los_Angeles:20260525T063000
DTSTAMP:20260420T083223
CREATED:20260415T192343Z
LAST-MODIFIED:20260415T192343Z
UID:10002563-1779687000-1779690600@bishoplocal.com
SUMMARY:Weightlifting (BTB)
DESCRIPTION:Barbell weightlifting class at Bishop Strength with Jared Waasdorp.
URL:https://bishoplocal.com/event/weightlifting-btb-6/
LOCATION:Bishop Strength\, 162 Willow St\, Bishop\, 93514\, USA
CATEGORIES:Wellness
END:VEVENT
BEGIN:VEVENT
DTSTART;TZID=America/Los_Angeles:20260525T081500
DTEND;TZID=America/Los_Angeles:20260525T091000
DTSTAMP:20260420T083223
CREATED:20260409T201905Z
LAST-MODIFIED:20260409T201905Z
UID:10002420-1779696900-1779700200@bishoplocal.com
SUMMARY:Gentle Flow Pilates
DESCRIPTION:All-levels reformer Pilates class using the reformer\, tower\, and stability chair. Suitable for all experience levels with options offered for beginners through advanced practitioners.
URL:https://bishoplocal.com/event/gentle-flow-pilates-16/
LOCATION:Hummingbird Movement Collective\, 126 N Main St\, Bishop\, 93514\, USA
CATEGORIES:Wellness
END:VEVENT
BEGIN:VEVENT
DTSTART;TZID=America/Los_Angeles:20260525T091500
DTEND;TZID=America/Los_Angeles:20260525T101000
DTSTAMP:20260420T083223
CREATED:20260409T201904Z
LAST-MODIFIED:20260409T201904Z
UID:10002421-1779700500-1779703800@bishoplocal.com
SUMMARY:Gentle Flow Pilates
DESCRIPTION:All-levels reformer Pilates class using the reformer\, tower\, and stability chair. Suitable for all experience levels with options offered for beginners through advanced practitioners.
URL:https://bishoplocal.com/event/gentle-flow-pilates-15/
LOCATION:Hummingbird Movement Collective\, 126 N Main St\, Bishop\, 93514\, USA
CATEGORIES:Wellness
END:VEVENT
BEGIN:VEVENT
DTSTART;TZID=America/Los_Angeles:20260525T101500
DTEND;TZID=America/Los_Angeles:20260525T111000
DTSTAMP:20260420T083223
CREATED:20260409T201904Z
LAST-MODIFIED:20260409T201904Z
UID:10002422-1779704100-1779707400@bishoplocal.com
SUMMARY:Gentle Flow Pilates
DESCRIPTION:All-levels reformer Pilates class using the reformer\, tower\, and stability chair. Suitable for all experience levels with options offered for beginners through advanced practitioners.
URL:https://bishoplocal.com/event/gentle-flow-pilates-14/
LOCATION:Hummingbird Movement Collective\, 126 N Main St\, Bishop\, 93514\, USA
CATEGORIES:Wellness
END:VEVENT
BEGIN:VEVENT
DTSTART;TZID=America/Los_Angeles:20260525T113000
DTEND;TZID=America/Los_Angeles:20260525T130000
DTSTAMP:20260420T083223
CREATED:20260409T202817Z
LAST-MODIFIED:20260409T202817Z
UID:10001900-1779708600-1779714000@bishoplocal.com
SUMMARY:Tai Chi
DESCRIPTION:Tai chi class focused on mindful movement\, balance\, and wellness practice. Held at Sierra Shanti Studio in Bishop.
URL:https://bishoplocal.com/event/tai-chi-8/
LOCATION:Sierra Shanti Studio\, 275B S Main St\, Bishop\, CA\, 93514\, United States
CATEGORIES:Wellness
ORGANIZER;CN="Sierra Shanti Studio":MAILTO:sierrashanti108@gmail.com
END:VEVENT
BEGIN:VEVENT
DTSTART;TZID=America/Los_Angeles:20260525T120000
DTEND;TZID=America/Los_Angeles:20260525T125500
DTSTAMP:20260420T083223
CREATED:20260409T201904Z
LAST-MODIFIED:20260409T201904Z
UID:10002423-1779710400-1779713700@bishoplocal.com
SUMMARY:Dynamic Flow Pilates
DESCRIPTION:Intermediate to advanced reformer Pilates class using the reformer\, Cadillac tower\, and stability chair. Best suited for Pilates-experienced clients or fit beginners.
URL:https://bishoplocal.com/event/dynamic-flow-pilates-11/
LOCATION:Hummingbird Movement Collective\, 126 N Main St\, Bishop\, 93514\, USA
CATEGORIES:Wellness
END:VEVENT
BEGIN:VEVENT
DTSTART;TZID=America/Los_Angeles:20260525T120000
DTEND;TZID=America/Los_Angeles:20260525T140000
DTSTAMP:20260420T083223
CREATED:20260409T203123Z
LAST-MODIFIED:20260409T203123Z
UID:10001720-1779710400-1779717600@bishoplocal.com
SUMMARY:Adult All Levels Jiu Jitsu
DESCRIPTION:Adult jiu jitsu class open to all levels\, ages 18 and older. Covers fundamentals and self-defense philosophy with situational and live sparring.
URL:https://bishoplocal.com/event/adult-all-levels-jiu-jitsu-24/
LOCATION:Cattle Dog Jiu Jitsu\, 364 Rose St\, Bishop\, CA\, 93514\, United States
CATEGORIES:sports-recreation
ATTACH;FMTTYPE=image/webp:https://bishoplocal.com/wp-content/uploads/2026/04/16643643750_9e92c5ccf0_o.webp
ORGANIZER;CN="Cattle Dog Jiu Jitsu":MAILTO:cattledogjiujitsu@gmail.com
END:VEVENT
BEGIN:VEVENT
DTSTART;TZID=America/Los_Angeles:20260525T160000
DTEND;TZID=America/Los_Angeles:20260525T170000
DTSTAMP:20260420T083223
CREATED:20260409T203123Z
LAST-MODIFIED:20260409T203123Z
UID:10001721-1779724800-1779728400@bishoplocal.com
SUMMARY:Pups (3-7) Jiu Jitsu
DESCRIPTION:Jiu jitsu class for kids ages 3-7. Focuses on body awareness\, discipline\, and fun games that build motor skills and muscle memory for martial arts progression.
URL:https://bishoplocal.com/event/pups-3-7-jiu-jitsu-23/
LOCATION:Cattle Dog Jiu Jitsu\, 364 Rose St\, Bishop\, CA\, 93514\, United States
CATEGORIES:sports-recreation
ATTACH;FMTTYPE=image/webp:https://bishoplocal.com/wp-content/uploads/2026/04/16643643750_9e92c5ccf0_o.webp
ORGANIZER;CN="Cattle Dog Jiu Jitsu":MAILTO:cattledogjiujitsu@gmail.com
END:VEVENT
BEGIN:VEVENT
DTSTART;TZID=America/Los_Angeles:20260525T160000
DTEND;TZID=America/Los_Angeles:20260525T210000
DTSTAMP:20260420T083223
CREATED:20260409T202516Z
LAST-MODIFIED:20260409T202516Z
UID:10002073-1779724800-1779742800@bishoplocal.com
SUMMARY:Locals Night at Creekside Club
DESCRIPTION:Monday nights are for the locals. Enjoy 25% off your entire bill with proof of local address at Creekside Club.
URL:https://bishoplocal.com/event/locals-night-at-creekside-club/
LOCATION:Creekside Club at Wayfinder Bishop\, 725 N Main Street\, Bishop\, 760-872-3044\, 93514
CATEGORIES:food-drink
ORGANIZER;CN="Wayfinder Bishop":MAILTO:hey@wayfinderbishop.com
END:VEVENT
BEGIN:VEVENT
DTSTART;TZID=America/Los_Angeles:20260525T163000
DTEND;TZID=America/Los_Angeles:20260525T172500
DTSTAMP:20260420T083223
CREATED:20260409T201904Z
LAST-MODIFIED:20260409T201904Z
UID:10002424-1779726600-1779729900@bishoplocal.com
SUMMARY:Gentle Flow Pilates
DESCRIPTION:All-levels reformer Pilates class using the reformer\, tower\, and stability chair. Suitable for all experience levels with options offered for beginners through advanced practitioners.
URL:https://bishoplocal.com/event/gentle-flow-pilates-13/
LOCATION:Hummingbird Movement Collective\, 126 N Main St\, Bishop\, 93514\, USA
CATEGORIES:Wellness
END:VEVENT
BEGIN:VEVENT
DTSTART;TZID=America/Los_Angeles:20260525T170000
DTEND;TZID=America/Los_Angeles:20260525T183000
DTSTAMP:20260420T083223
CREATED:20260409T203123Z
LAST-MODIFIED:20260409T203123Z
UID:10001722-1779728400-1779733800@bishoplocal.com
SUMMARY:Heelers (8 up) Jiu Jitsu
DESCRIPTION:Jiu jitsu class for kids ages 8 and up. Builds on fundamentals with more detailed instruction\, situational rolling\, and self-defense preparation.
URL:https://bishoplocal.com/event/heelers-8-up-jiu-jitsu-23/
LOCATION:Cattle Dog Jiu Jitsu\, 364 Rose St\, Bishop\, CA\, 93514\, United States
CATEGORIES:sports-recreation
ATTACH;FMTTYPE=image/webp:https://bishoplocal.com/wp-content/uploads/2026/04/16643643750_9e92c5ccf0_o.webp
ORGANIZER;CN="Cattle Dog Jiu Jitsu":MAILTO:cattledogjiujitsu@gmail.com
END:VEVENT
BEGIN:VEVENT
DTSTART;TZID=America/Los_Angeles:20260525T173000
DTEND;TZID=America/Los_Angeles:20260525T181500
DTSTAMP:20260420T083223
CREATED:20260409T202817Z
LAST-MODIFIED:20260409T202817Z
UID:10001901-1779730200-1779732900@bishoplocal.com
SUMMARY:Grounding Flow
DESCRIPTION:Grounding yoga flow class emphasizing stability\, breath\, and mindful movement. Held at Sierra Shanti Studio in Bishop.
URL:https://bishoplocal.com/event/grounding-flow-8/
LOCATION:Sierra Shanti Studio\, 275B S Main St\, Bishop\, CA\, 93514\, United States
CATEGORIES:Wellness
ORGANIZER;CN="Sierra Shanti Studio":MAILTO:sierrashanti108@gmail.com
END:VEVENT
BEGIN:VEVENT
DTSTART;TZID=America/Los_Angeles:20260525T173000
DTEND;TZID=America/Los_Angeles:20260525T182500
DTSTAMP:20260420T083223
CREATED:20260409T201904Z
LAST-MODIFIED:20260409T201904Z
UID:10002425-1779730200-1779733500@bishoplocal.com
SUMMARY:Dynamic Flow Pilates
DESCRIPTION:Intermediate to advanced reformer Pilates class using the reformer\, Cadillac tower\, and stability chair. Best suited for Pilates-experienced clients or fit beginners.
URL:https://bishoplocal.com/event/dynamic-flow-pilates-10/
LOCATION:Hummingbird Movement Collective\, 126 N Main St\, Bishop\, 93514\, USA
CATEGORIES:Wellness
END:VEVENT
BEGIN:VEVENT
DTSTART;TZID=America/Los_Angeles:20260525T173000
DTEND;TZID=America/Los_Angeles:20260525T183000
DTSTAMP:20260420T083223
CREATED:20260409T203157Z
LAST-MODIFIED:20260409T203157Z
UID:10001691-1779730200-1779733800@bishoplocal.com
SUMMARY:Community Yoga – Creative Flow Yoga
DESCRIPTION:Drop-in Creative Flow Yoga class with Jean on Monday evenings. Sliding scale pricing\, no advance registration required. Payment via Venmo\, Zelle\, PayPal\, or cash. Mats and props available to borrow.
URL:https://bishoplocal.com/event/community-yoga-creative-flow-yoga/
LOCATION:C5 Studios\, 210 S Warren St\, Bishop\, CA\, 93514\, United States
CATEGORIES:Wellness
ATTACH;FMTTYPE=image/jpeg:https://bishoplocal.com/wp-content/uploads/2026/04/c5Yoga.jpg
END:VEVENT
BEGIN:VEVENT
DTSTART;TZID=America/Los_Angeles:20260525T173000
DTEND;TZID=America/Los_Angeles:20260525T183000
DTSTAMP:20260420T083223
CREATED:20260415T192343Z
LAST-MODIFIED:20260415T192343Z
UID:10002564-1779730200-1779733800@bishoplocal.com
SUMMARY:Olympic Lifting + Technique
DESCRIPTION:Olympic lifting and technique class at Bishop Strength with Paul Mandell.
URL:https://bishoplocal.com/event/olympic-lifting-technique-11/
LOCATION:Bishop Strength\, 162 Willow St\, Bishop\, 93514\, USA
CATEGORIES:Wellness
END:VEVENT
BEGIN:VEVENT
DTSTART;TZID=America/Los_Angeles:20260525T183000
DTEND;TZID=America/Los_Angeles:20260525T193000
DTSTAMP:20260420T083223
CREATED:20260415T192344Z
LAST-MODIFIED:20260415T192344Z
UID:10002565-1779733800-1779737400@bishoplocal.com
SUMMARY:Olympic Lifting + Technique
DESCRIPTION:Olympic lifting and technique class at Bishop Strength with Paul Mandell. Second session.
URL:https://bishoplocal.com/event/olympic-lifting-technique-12/
LOCATION:Bishop Strength\, 162 Willow St\, Bishop\, 93514\, USA
CATEGORIES:Wellness
END:VEVENT
BEGIN:VEVENT
DTSTART;TZID=America/Los_Angeles:20260525T183000
DTEND;TZID=America/Los_Angeles:20260525T203000
DTSTAMP:20260420T083223
CREATED:20260409T203123Z
LAST-MODIFIED:20260409T203123Z
UID:10001723-1779733800-1779741000@bishoplocal.com
SUMMARY:Adult All Levels Jiu Jitsu
DESCRIPTION:Adult jiu jitsu class open to all levels\, ages 18 and older. Covers fundamentals and self-defense philosophy with situational and live sparring.
URL:https://bishoplocal.com/event/adult-all-levels-jiu-jitsu-23/
LOCATION:Cattle Dog Jiu Jitsu\, 364 Rose St\, Bishop\, CA\, 93514\, United States
CATEGORIES:sports-recreation
ATTACH;FMTTYPE=image/webp:https://bishoplocal.com/wp-content/uploads/2026/04/16643643750_9e92c5ccf0_o.webp
ORGANIZER;CN="Cattle Dog Jiu Jitsu":MAILTO:cattledogjiujitsu@gmail.com
END:VEVENT
BEGIN:VEVENT
DTSTART;TZID=America/Los_Angeles:20260525T190000
DTEND;TZID=America/Los_Angeles:20260525T200000
DTSTAMP:20260420T083223
CREATED:20260415T192553Z
LAST-MODIFIED:20260415T192553Z
UID:10002667-1779735600-1779739200@bishoplocal.com
SUMMARY:Monday Night Meditation: Flowing Waters Sangha
DESCRIPTION:Community meditation group exploring Buddhist and earth-based teachings informed by Plum Village Zen and Theravada traditions. No prior experience needed\, beginners welcome.
URL:https://bishoplocal.com/event/monday-night-meditation-flowing-waters-sangha-6/
LOCATION:Root Down Community Hub\, Bishop\, 93514\, USA
CATEGORIES:Wellness
END:VEVENT
BEGIN:VEVENT
DTSTART;TZID=America/Los_Angeles:20260525T191500
DTEND;TZID=America/Los_Angeles:20260525T201500
DTSTAMP:20260420T083223
CREATED:20260409T202817Z
LAST-MODIFIED:20260409T202817Z
UID:10001902-1779736500-1779740100@bishoplocal.com
SUMMARY:Monday Reset Flow
DESCRIPTION:Monday evening yoga flow class designed to reset and restore through guided movement and breathwork. Held at Sierra Shanti Studio in Bishop.
URL:https://bishoplocal.com/event/monday-reset-flow-8/
LOCATION:Sierra Shanti Studio\, 275B S Main St\, Bishop\, CA\, 93514\, United States
CATEGORIES:Wellness
ORGANIZER;CN="Sierra Shanti Studio":MAILTO:sierrashanti108@gmail.com
END:VEVENT
BEGIN:VEVENT
DTSTART;TZID=America/Los_Angeles:20260526T051500
DTEND;TZID=America/Los_Angeles:20260526T061500
DTSTAMP:20260420T083223
CREATED:20260415T192406Z
LAST-MODIFIED:20260415T192406Z
UID:10002586-1779772500-1779776100@bishoplocal.com
SUMMARY:Bootcamp
DESCRIPTION:Bootcamp class at Bishop Strength with Kelly Ludwick.
URL:https://bishoplocal.com/event/bootcamp-11/
LOCATION:Bishop Strength\, 162 Willow St\, Bishop\, 93514\, USA
CATEGORIES:Wellness
END:VEVENT
BEGIN:VEVENT
DTSTART;TZID=America/Los_Angeles:20260526T064500
DTEND;TZID=America/Los_Angeles:20260526T074000
DTSTAMP:20260420T083223
CREATED:20260409T201904Z
LAST-MODIFIED:20260409T201904Z
UID:10002426-1779777900-1779781200@bishoplocal.com
SUMMARY:Dynamic Flow Pilates
DESCRIPTION:Intermediate to advanced reformer Pilates class using the reformer\, Cadillac tower\, and stability chair. Best suited for Pilates-experienced clients or fit beginners.
URL:https://bishoplocal.com/event/dynamic-flow-pilates-9/
LOCATION:Hummingbird Movement Collective\, 126 N Main St\, Bishop\, 93514\, USA
CATEGORIES:Wellness
END:VEVENT
BEGIN:VEVENT
DTSTART;TZID=America/Los_Angeles:20260526T081500
DTEND;TZID=America/Los_Angeles:20260526T091000
DTSTAMP:20260420T083223
CREATED:20260409T201856Z
LAST-MODIFIED:20260409T201856Z
UID:10002427-1779783300-1779786600@bishoplocal.com
SUMMARY:Spin & Strength
DESCRIPTION:A dynamic blend of cycling and strength training for a balanced full-body workout. Combines heart-pumping cycling intervals with strength exercises.
URL:https://bishoplocal.com/event/spin-strength-2/
LOCATION:Hummingbird Movement Collective\, 126 N Main St\, Bishop\, 93514\, USA
CATEGORIES:Wellness
END:VEVENT
BEGIN:VEVENT
DTSTART;TZID=America/Los_Angeles:20260526T083000
DTEND;TZID=America/Los_Angeles:20260526T093000
DTSTAMP:20260420T083223
CREATED:20260415T192415Z
LAST-MODIFIED:20260415T192415Z
UID:10002587-1779784200-1779787800@bishoplocal.com
SUMMARY:Bootcamp
DESCRIPTION:Morning bootcamp class at Bishop Strength with Kelly Ludwick.
URL:https://bishoplocal.com/event/bootcamp-12/
LOCATION:Bishop Strength\, 162 Willow St\, Bishop\, 93514\, USA
CATEGORIES:Wellness
END:VEVENT
BEGIN:VEVENT
DTSTART;TZID=America/Los_Angeles:20260526T090000
DTEND;TZID=America/Los_Angeles:20260526T095500
DTSTAMP:20260420T083223
CREATED:20260409T201856Z
LAST-MODIFIED:20260409T201856Z
UID:10002428-1779786000-1779789300@bishoplocal.com
SUMMARY:Gentle Flow Pilates
DESCRIPTION:All-levels reformer Pilates class using the reformer\, tower\, and stability chair. Suitable for all experience levels with options offered for beginners through advanced practitioners.
URL:https://bishoplocal.com/event/gentle-flow-pilates-12/
LOCATION:Hummingbird Movement Collective\, 126 N Main St\, Bishop\, 93514\, USA
CATEGORIES:Wellness
END:VEVENT
BEGIN:VEVENT
DTSTART;TZID=America/Los_Angeles:20260526T091500
DTEND;TZID=America/Los_Angeles:20260526T101000
DTSTAMP:20260420T083223
CREATED:20260409T201856Z
LAST-MODIFIED:20260409T201856Z
UID:10002429-1779786900-1779790200@bishoplocal.com
SUMMARY:Weight Lifting
DESCRIPTION:Small-group weight lifting class with simple programming and progressive instruction. Great for beginners or those who prefer a small-group setting for personalized guidance.
URL:https://bishoplocal.com/event/weight-lifting-8/
LOCATION:Hummingbird Movement Collective\, 126 N Main St\, Bishop\, 93514\, USA
CATEGORIES:Wellness
END:VEVENT
BEGIN:VEVENT
DTSTART;TZID=America/Los_Angeles:20260526T100000
DTEND;TZID=America/Los_Angeles:20260526T105500
DTSTAMP:20260420T083223
CREATED:20260409T201856Z
LAST-MODIFIED:20260409T201856Z
UID:10002430-1779789600-1779792900@bishoplocal.com
SUMMARY:Gentle Flow Pilates
DESCRIPTION:All-levels reformer Pilates class using the reformer\, tower\, and stability chair. Suitable for all experience levels with options offered for beginners through advanced practitioners.
URL:https://bishoplocal.com/event/gentle-flow-pilates-11/
LOCATION:Hummingbird Movement Collective\, 126 N Main St\, Bishop\, 93514\, USA
CATEGORIES:Wellness
END:VEVENT
BEGIN:VEVENT
DTSTART;TZID=America/Los_Angeles:20260526T101500
DTEND;TZID=America/Los_Angeles:20260526T111000
DTSTAMP:20260420T083223
CREATED:20260409T201856Z
LAST-MODIFIED:20260409T201856Z
UID:10002431-1779790500-1779793800@bishoplocal.com
SUMMARY:Weight Lifting
DESCRIPTION:Small-group weight lifting class with simple programming and progressive instruction. Great for beginners or those who prefer a small-group setting for personalized guidance.
URL:https://bishoplocal.com/event/weight-lifting-7/
LOCATION:Hummingbird Movement Collective\, 126 N Main St\, Bishop\, 93514\, USA
CATEGORIES:Wellness
END:VEVENT
BEGIN:VEVENT
DTSTART;TZID=America/Los_Angeles:20260526T111500
DTEND;TZID=America/Los_Angeles:20260526T121000
DTSTAMP:20260420T083223
CREATED:20260409T201856Z
LAST-MODIFIED:20260409T201856Z
UID:10002432-1779794100-1779797400@bishoplocal.com
SUMMARY:Weight Lifting
DESCRIPTION:Small-group weight lifting class with simple programming and progressive instruction. Great for beginners or those who prefer a small-group setting for personalized guidance.
URL:https://bishoplocal.com/event/weight-lifting-6/
LOCATION:Hummingbird Movement Collective\, 126 N Main St\, Bishop\, 93514\, USA
CATEGORIES:Wellness
END:VEVENT
BEGIN:VEVENT
DTSTART;TZID=America/Los_Angeles:20260526T120000
DTEND;TZID=America/Los_Angeles:20260526T124500
DTSTAMP:20260420T083223
CREATED:20260409T202825Z
LAST-MODIFIED:20260409T202825Z
UID:10001887-1779796800-1779799500@bishoplocal.com
SUMMARY:Lunch Vinyasa Flow
DESCRIPTION:Midday vinyasa yoga flow class for an energizing lunchtime movement practice. Held at Sierra Shanti Studio in Bishop.
URL:https://bishoplocal.com/event/lunch-vinyasa-flow-16/
LOCATION:Sierra Shanti Studio\, 275B S Main St\, Bishop\, CA\, 93514\, United States
CATEGORIES:Wellness
ORGANIZER;CN="Sierra Shanti Studio":MAILTO:sierrashanti108@gmail.com
END:VEVENT
END:VCALENDAR