BEGIN:VCALENDAR
VERSION:2.0
PRODID:-//BishopLocal.com - ECPv6.15.18//NONSGML v1.0//EN
CALSCALE:GREGORIAN
METHOD:PUBLISH
X-WR-CALNAME:BishopLocal.com
X-ORIGINAL-URL:https://bishoplocal.com
X-WR-CALDESC:Events for BishopLocal.com
REFRESH-INTERVAL;VALUE=DURATION:PT1H
X-Robots-Tag:noindex
X-PUBLISHED-TTL:PT1H
BEGIN:VTIMEZONE
TZID:America/Los_Angeles
BEGIN:DAYLIGHT
TZOFFSETFROM:-0800
TZOFFSETTO:-0700
TZNAME:PDT
DTSTART:20250309T100000
END:DAYLIGHT
BEGIN:STANDARD
TZOFFSETFROM:-0700
TZOFFSETTO:-0800
TZNAME:PST
DTSTART:20251102T090000
END:STANDARD
BEGIN:DAYLIGHT
TZOFFSETFROM:-0800
TZOFFSETTO:-0700
TZNAME:PDT
DTSTART:20260308T100000
END:DAYLIGHT
BEGIN:STANDARD
TZOFFSETFROM:-0700
TZOFFSETTO:-0800
TZNAME:PST
DTSTART:20261101T090000
END:STANDARD
BEGIN:DAYLIGHT
TZOFFSETFROM:-0800
TZOFFSETTO:-0700
TZNAME:PDT
DTSTART:20270314T100000
END:DAYLIGHT
BEGIN:STANDARD
TZOFFSETFROM:-0700
TZOFFSETTO:-0800
TZNAME:PST
DTSTART:20271107T090000
END:STANDARD
END:VTIMEZONE
BEGIN:VEVENT
DTSTART;TZID=America/Los_Angeles:20260422T053000
DTEND;TZID=America/Los_Angeles:20260422T063000
DTSTAMP:20260422T061851
CREATED:20260415T192416Z
LAST-MODIFIED:20260415T192416Z
UID:10002594-1776835800-1776839400@bishoplocal.com
SUMMARY:Weightlifting (BTB)
DESCRIPTION:Barbell weightlifting class at Bishop Strength with Jared Waasdorp.
URL:https://bishoplocal.com/event/weightlifting-btb-8/
LOCATION:Bishop Strength\, 162 Willow St\, Bishop\, 93514\, USA
CATEGORIES:Wellness
END:VEVENT
BEGIN:VEVENT
DTSTART;TZID=America/Los_Angeles:20260422T081500
DTEND;TZID=America/Los_Angeles:20260422T091000
DTSTAMP:20260422T061851
CREATED:20260409T202304Z
LAST-MODIFIED:20260409T202304Z
UID:10002200-1776845700-1776849000@bishoplocal.com
SUMMARY:Gentle Flow Pilates
DESCRIPTION:All-levels reformer Pilates class using the reformer\, tower\, and stability chair. Suitable for all experience levels with options offered for beginners through advanced practitioners.
URL:https://bishoplocal.com/event/gentle-flow-pilates-92/
LOCATION:Hummingbird Movement Collective\, 126 N Main St\, Bishop\, 93514\, USA
CATEGORIES:Wellness
END:VEVENT
BEGIN:VEVENT
DTSTART;TZID=America/Los_Angeles:20260422T091500
DTEND;TZID=America/Los_Angeles:20260422T101000
DTSTAMP:20260422T061851
CREATED:20260409T202304Z
LAST-MODIFIED:20260409T202304Z
UID:10002201-1776849300-1776852600@bishoplocal.com
SUMMARY:Gentle Flow Pilates
DESCRIPTION:All-levels reformer Pilates class using the reformer\, tower\, and stability chair. Suitable for all experience levels with options offered for beginners through advanced practitioners.
URL:https://bishoplocal.com/event/gentle-flow-pilates-91/
LOCATION:Hummingbird Movement Collective\, 126 N Main St\, Bishop\, 93514\, USA
CATEGORIES:Wellness
END:VEVENT
BEGIN:VEVENT
DTSTART;TZID=America/Los_Angeles:20260422T101500
DTEND;TZID=America/Los_Angeles:20260422T111000
DTSTAMP:20260422T061851
CREATED:20260409T202304Z
LAST-MODIFIED:20260409T202304Z
UID:10002202-1776852900-1776856200@bishoplocal.com
SUMMARY:Gentle Flow Pilates
DESCRIPTION:All-levels reformer Pilates class using the reformer\, tower\, and stability chair. Suitable for all experience levels with options offered for beginners through advanced practitioners.
URL:https://bishoplocal.com/event/gentle-flow-pilates-90/
LOCATION:Hummingbird Movement Collective\, 126 N Main St\, Bishop\, 93514\, USA
CATEGORIES:Wellness
END:VEVENT
BEGIN:VEVENT
DTSTART;TZID=America/Los_Angeles:20260422T120000
DTEND;TZID=America/Los_Angeles:20260422T124500
DTSTAMP:20260422T061851
CREATED:20260409T202711Z
LAST-MODIFIED:20260409T202711Z
UID:10001964-1776859200-1776861900@bishoplocal.com
SUMMARY:Lunch Vinyasa Flow
DESCRIPTION:Midday vinyasa yoga flow class for an energizing lunchtime movement practice. Held at Sierra Shanti Studio in Bishop.
URL:https://bishoplocal.com/event/lunch-vinyasa-flow-5/
LOCATION:Sierra Shanti Studio\, 275B S Main St\, Bishop\, CA\, 93514\, United States
CATEGORIES:Wellness
ORGANIZER;CN="Sierra Shanti Studio":MAILTO:sierrashanti108@gmail.com
END:VEVENT
BEGIN:VEVENT
DTSTART;TZID=America/Los_Angeles:20260422T120000
DTEND;TZID=America/Los_Angeles:20260422T125500
DTSTAMP:20260422T061851
CREATED:20260409T202256Z
LAST-MODIFIED:20260409T202256Z
UID:10002203-1776859200-1776862500@bishoplocal.com
SUMMARY:Dynamic Flow Pilates
DESCRIPTION:Intermediate to advanced reformer Pilates class using the reformer\, Cadillac tower\, and stability chair. Best suited for Pilates-experienced clients or fit beginners.
URL:https://bishoplocal.com/event/dynamic-flow-pilates-63/
LOCATION:Hummingbird Movement Collective\, 126 N Main St\, Bishop\, 93514\, USA
CATEGORIES:Wellness
END:VEVENT
BEGIN:VEVENT
DTSTART;TZID=America/Los_Angeles:20260422T163000
DTEND;TZID=America/Los_Angeles:20260422T172500
DTSTAMP:20260422T061851
CREATED:20260409T202256Z
LAST-MODIFIED:20260409T202256Z
UID:10002204-1776875400-1776878700@bishoplocal.com
SUMMARY:Gentle Flow Pilates
DESCRIPTION:All-levels reformer Pilates class using the reformer\, tower\, and stability chair. Suitable for all experience levels with options offered for beginners through advanced practitioners.
URL:https://bishoplocal.com/event/gentle-flow-pilates-89/
LOCATION:Hummingbird Movement Collective\, 126 N Main St\, Bishop\, 93514\, USA
CATEGORIES:Wellness
END:VEVENT
BEGIN:VEVENT
DTSTART;TZID=America/Los_Angeles:20260422T171500
DTEND;TZID=America/Los_Angeles:20260422T183000
DTSTAMP:20260422T061851
CREATED:20260415T192425Z
LAST-MODIFIED:20260415T192425Z
UID:10002595-1776878100-1776882600@bishoplocal.com
SUMMARY:The Practice
DESCRIPTION:Yoga-based movement practice at Bishop Strength with Sonia Peltzer.
URL:https://bishoplocal.com/event/the-practice-2/
LOCATION:Bishop Strength\, 162 Willow St\, Bishop\, 93514\, USA
CATEGORIES:Wellness
END:VEVENT
BEGIN:VEVENT
DTSTART;TZID=America/Los_Angeles:20260422T173000
DTEND;TZID=America/Los_Angeles:20260422T182500
DTSTAMP:20260422T061851
CREATED:20260409T202256Z
LAST-MODIFIED:20260409T202256Z
UID:10002205-1776879000-1776882300@bishoplocal.com
SUMMARY:Dynamic Flow Pilates
DESCRIPTION:Intermediate to advanced reformer Pilates class using the reformer\, Cadillac tower\, and stability chair. Best suited for Pilates-experienced clients or fit beginners.
URL:https://bishoplocal.com/event/dynamic-flow-pilates-62/
LOCATION:Hummingbird Movement Collective\, 126 N Main St\, Bishop\, 93514\, USA
CATEGORIES:Wellness
END:VEVENT
BEGIN:VEVENT
DTSTART;TZID=America/Los_Angeles:20260422T173000
DTEND;TZID=America/Los_Angeles:20260422T183000
DTSTAMP:20260422T061851
CREATED:20260415T192426Z
LAST-MODIFIED:20260415T192426Z
UID:10002596-1776879000-1776882600@bishoplocal.com
SUMMARY:Conditioning
DESCRIPTION:Conditioning class at Bishop Strength with Noah Erlin.
URL:https://bishoplocal.com/event/conditioning-3/
LOCATION:Bishop Strength\, 162 Willow St\, Bishop\, 93514\, USA
CATEGORIES:Wellness
END:VEVENT
BEGIN:VEVENT
DTSTART;TZID=America/Los_Angeles:20260422T173000
DTEND;TZID=America/Los_Angeles:20260422T184500
DTSTAMP:20260422T061851
CREATED:20260409T202711Z
LAST-MODIFIED:20260409T202711Z
UID:10001965-1776879000-1776883500@bishoplocal.com
SUMMARY:Shakti Vinyasa Flow
DESCRIPTION:Energizing Shakti vinyasa yoga flow blending movement with strength-building sequences. Held at Sierra Shanti Studio in Bishop.
URL:https://bishoplocal.com/event/shakti-vinyasa-flow-3/
LOCATION:Sierra Shanti Studio\, 275B S Main St\, Bishop\, CA\, 93514\, United States
CATEGORIES:Wellness
ORGANIZER;CN="Sierra Shanti Studio":MAILTO:sierrashanti108@gmail.com
END:VEVENT
BEGIN:VEVENT
DTSTART;TZID=America/Los_Angeles:20260422T183000
DTEND;TZID=America/Los_Angeles:20260422T193000
DTSTAMP:20260422T061851
CREATED:20260415T192426Z
LAST-MODIFIED:20260415T192426Z
UID:10002597-1776882600-1776886200@bishoplocal.com
SUMMARY:Conditioning
DESCRIPTION:Conditioning class at Bishop Strength with Noah Erlin. Second session.
URL:https://bishoplocal.com/event/conditioning-4/
LOCATION:Bishop Strength\, 162 Willow St\, Bishop\, 93514\, USA
CATEGORIES:Wellness
END:VEVENT
BEGIN:VEVENT
DTSTART;TZID=America/Los_Angeles:20260423T051500
DTEND;TZID=America/Los_Angeles:20260423T061500
DTSTAMP:20260422T061851
CREATED:20260415T192455Z
LAST-MODIFIED:20260415T192455Z
UID:10002622-1776921300-1776924900@bishoplocal.com
SUMMARY:Bootcamp
DESCRIPTION:Bootcamp class at Bishop Strength with Kelly Ludwick.
URL:https://bishoplocal.com/event/bootcamp-15/
LOCATION:Bishop Strength\, 162 Willow St\, Bishop\, 93514\, USA
CATEGORIES:Wellness
END:VEVENT
BEGIN:VEVENT
DTSTART;TZID=America/Los_Angeles:20260423T064500
DTEND;TZID=America/Los_Angeles:20260423T074000
DTSTAMP:20260422T061851
CREATED:20260409T202256Z
LAST-MODIFIED:20260409T202256Z
UID:10002206-1776926700-1776930000@bishoplocal.com
SUMMARY:Dynamic Flow Pilates
DESCRIPTION:Intermediate to advanced reformer Pilates class using the reformer\, Cadillac tower\, and stability chair. Best suited for Pilates-experienced clients or fit beginners.
URL:https://bishoplocal.com/event/dynamic-flow-pilates-61/
LOCATION:Hummingbird Movement Collective\, 126 N Main St\, Bishop\, 93514\, USA
CATEGORIES:Wellness
END:VEVENT
BEGIN:VEVENT
DTSTART;TZID=America/Los_Angeles:20260423T070000
DTEND;TZID=America/Los_Angeles:20260423T074500
DTSTAMP:20260422T061851
CREATED:20260409T202851Z
LAST-MODIFIED:20260409T202851Z
UID:10001863-1776927600-1776930300@bishoplocal.com
SUMMARY:Vipassana Meditation
DESCRIPTION:Vipassana insight meditation class in the Buddhist tradition focusing on self-awareness and mindful observation. Donation-based class at Bishop Yoga & Pilates Center.
URL:https://bishoplocal.com/event/vipassana-meditation-4/
LOCATION:Bishop Yoga & Pilates Center\, 621 W. Line St. #203\, Bishop\, CA\, 93514\, United States
CATEGORIES:Wellness
END:VEVENT
BEGIN:VEVENT
DTSTART;TZID=America/Los_Angeles:20260423T070000
DTEND;TZID=America/Los_Angeles:20260423T080000
DTSTAMP:20260422T061851
CREATED:20260409T202711Z
LAST-MODIFIED:20260409T202711Z
UID:10001966-1776927600-1776931200@bishoplocal.com
SUMMARY:Wake Up & Flow Vinyasa
DESCRIPTION:Early morning vinyasa yoga class to start the day with flowing movement and mindful practice. Held at Sierra Shanti Studio in Bishop.
URL:https://bishoplocal.com/event/wake-up-flow-vinyasa-3/
LOCATION:Sierra Shanti Studio\, 275B S Main St\, Bishop\, CA\, 93514\, United States
CATEGORIES:Wellness
ORGANIZER;CN="Sierra Shanti Studio":MAILTO:sierrashanti108@gmail.com
END:VEVENT
BEGIN:VEVENT
DTSTART;TZID=America/Los_Angeles:20260423T080000
DTEND;TZID=America/Los_Angeles:20260423T090000
DTSTAMP:20260422T061851
CREATED:20260409T202851Z
LAST-MODIFIED:20260409T202851Z
UID:10001864-1776931200-1776934800@bishoplocal.com
SUMMARY:Mat/Springwall Pilates
DESCRIPTION:Mat and springwall Pilates class focusing on core strength\, body alignment\, mobility\, and breathing. Taught in the Stott Pilates method at Bishop Yoga & Pilates Center.
URL:https://bishoplocal.com/event/mat-springwall-pilates-8/
LOCATION:Bishop Yoga & Pilates Center\, 621 W. Line St. #203\, Bishop\, CA\, 93514\, United States
CATEGORIES:Wellness
END:VEVENT
BEGIN:VEVENT
DTSTART;TZID=America/Los_Angeles:20260423T081500
DTEND;TZID=America/Los_Angeles:20260423T091000
DTSTAMP:20260422T061851
CREATED:20260409T202256Z
LAST-MODIFIED:20260409T202256Z
UID:10002207-1776932100-1776935400@bishoplocal.com
SUMMARY:Spin & Strength
DESCRIPTION:A dynamic blend of cycling and strength training for a balanced full-body workout. Combines heart-pumping cycling intervals with strength exercises.
URL:https://bishoplocal.com/event/spin-strength-10/
LOCATION:Hummingbird Movement Collective\, 126 N Main St\, Bishop\, 93514\, USA
CATEGORIES:Wellness
END:VEVENT
BEGIN:VEVENT
DTSTART;TZID=America/Los_Angeles:20260423T083000
DTEND;TZID=America/Los_Angeles:20260423T093000
DTSTAMP:20260422T061851
CREATED:20260415T192455Z
LAST-MODIFIED:20260415T192455Z
UID:10002623-1776933000-1776936600@bishoplocal.com
SUMMARY:Bootcamp
DESCRIPTION:Morning bootcamp class at Bishop Strength with Kelly Ludwick.
URL:https://bishoplocal.com/event/bootcamp-16/
LOCATION:Bishop Strength\, 162 Willow St\, Bishop\, 93514\, USA
CATEGORIES:Wellness
END:VEVENT
BEGIN:VEVENT
DTSTART;TZID=America/Los_Angeles:20260423T090000
DTEND;TZID=America/Los_Angeles:20260423T095500
DTSTAMP:20260422T061851
CREATED:20260409T202256Z
LAST-MODIFIED:20260409T202256Z
UID:10002208-1776934800-1776938100@bishoplocal.com
SUMMARY:Gentle Flow Pilates
DESCRIPTION:All-levels reformer Pilates class using the reformer\, tower\, and stability chair. Suitable for all experience levels with options offered for beginners through advanced practitioners.
URL:https://bishoplocal.com/event/gentle-flow-pilates-88/
LOCATION:Hummingbird Movement Collective\, 126 N Main St\, Bishop\, 93514\, USA
CATEGORIES:Wellness
END:VEVENT
BEGIN:VEVENT
DTSTART;TZID=America/Los_Angeles:20260423T091500
DTEND;TZID=America/Los_Angeles:20260423T101000
DTSTAMP:20260422T061851
CREATED:20260409T202256Z
LAST-MODIFIED:20260409T202256Z
UID:10002209-1776935700-1776939000@bishoplocal.com
SUMMARY:Weight Lifting
DESCRIPTION:Small-group weight lifting class with simple programming and progressive instruction. Great for beginners or those who prefer a small-group setting for personalized guidance.
URL:https://bishoplocal.com/event/weight-lifting-45/
LOCATION:Hummingbird Movement Collective\, 126 N Main St\, Bishop\, 93514\, USA
CATEGORIES:Wellness
END:VEVENT
BEGIN:VEVENT
DTSTART;TZID=America/Los_Angeles:20260423T100000
DTEND;TZID=America/Los_Angeles:20260423T105500
DTSTAMP:20260422T061851
CREATED:20260409T202256Z
LAST-MODIFIED:20260409T202256Z
UID:10002210-1776938400-1776941700@bishoplocal.com
SUMMARY:Gentle Flow Pilates
DESCRIPTION:All-levels reformer Pilates class using the reformer\, tower\, and stability chair. Suitable for all experience levels with options offered for beginners through advanced practitioners.
URL:https://bishoplocal.com/event/gentle-flow-pilates-87/
LOCATION:Hummingbird Movement Collective\, 126 N Main St\, Bishop\, 93514\, USA
CATEGORIES:Wellness
END:VEVENT
BEGIN:VEVENT
DTSTART;TZID=America/Los_Angeles:20260423T101500
DTEND;TZID=America/Los_Angeles:20260423T111000
DTSTAMP:20260422T061851
CREATED:20260409T202248Z
LAST-MODIFIED:20260409T202248Z
UID:10002211-1776939300-1776942600@bishoplocal.com
SUMMARY:Weight Lifting
DESCRIPTION:Small-group weight lifting class with simple programming and progressive instruction. Great for beginners or those who prefer a small-group setting for personalized guidance.
URL:https://bishoplocal.com/event/weight-lifting-44/
LOCATION:Hummingbird Movement Collective\, 126 N Main St\, Bishop\, 93514\, USA
CATEGORIES:Wellness
END:VEVENT
BEGIN:VEVENT
DTSTART;TZID=America/Los_Angeles:20260423T111500
DTEND;TZID=America/Los_Angeles:20260423T121000
DTSTAMP:20260422T061851
CREATED:20260409T202248Z
LAST-MODIFIED:20260409T202248Z
UID:10002212-1776942900-1776946200@bishoplocal.com
SUMMARY:Weight Lifting
DESCRIPTION:Small-group weight lifting class with simple programming and progressive instruction. Great for beginners or those who prefer a small-group setting for personalized guidance.
URL:https://bishoplocal.com/event/weight-lifting-43/
LOCATION:Hummingbird Movement Collective\, 126 N Main St\, Bishop\, 93514\, USA
CATEGORIES:Wellness
END:VEVENT
BEGIN:VEVENT
DTSTART;TZID=America/Los_Angeles:20260423T120000
DTEND;TZID=America/Los_Angeles:20260423T125500
DTSTAMP:20260422T061851
CREATED:20260409T202248Z
LAST-MODIFIED:20260409T202248Z
UID:10002213-1776945600-1776948900@bishoplocal.com
SUMMARY:TRX
DESCRIPTION:TRX suspension training class for a full-body workout using bodyweight resistance.
URL:https://bishoplocal.com/event/trx-22/
LOCATION:Hummingbird Movement Collective\, 126 N Main St\, Bishop\, 93514\, USA
CATEGORIES:Wellness
END:VEVENT
BEGIN:VEVENT
DTSTART;TZID=America/Los_Angeles:20260423T150000
DTEND;TZID=America/Los_Angeles:20260423T155500
DTSTAMP:20260422T061851
CREATED:20260409T202248Z
LAST-MODIFIED:20260409T202248Z
UID:10002214-1776956400-1776959700@bishoplocal.com
SUMMARY:TRX
DESCRIPTION:TRX suspension training class for a full-body workout using bodyweight resistance.
URL:https://bishoplocal.com/event/trx-21/
LOCATION:Hummingbird Movement Collective\, 126 N Main St\, Bishop\, 93514\, USA
CATEGORIES:Wellness
END:VEVENT
BEGIN:VEVENT
DTSTART;TZID=America/Los_Angeles:20260423T160000
DTEND;TZID=America/Los_Angeles:20260423T164500
DTSTAMP:20260422T061851
CREATED:20260409T202248Z
LAST-MODIFIED:20260409T202248Z
UID:10002215-1776960000-1776962700@bishoplocal.com
SUMMARY:Spin
DESCRIPTION:Energizing indoor cycling class combining music\, motivating coaching\, and interval-based cycling drills for a full-body cardiovascular workout.
URL:https://bishoplocal.com/event/spin-23/
LOCATION:Hummingbird Movement Collective\, 126 N Main St\, Bishop\, 93514\, USA
CATEGORIES:Wellness
END:VEVENT
BEGIN:VEVENT
DTSTART;TZID=America/Los_Angeles:20260423T170000
DTEND;TZID=America/Los_Angeles:20260423T175500
DTSTAMP:20260422T061851
CREATED:20260409T202248Z
LAST-MODIFIED:20260409T202248Z
UID:10002216-1776963600-1776966900@bishoplocal.com
SUMMARY:Gentle Flow Pilates
DESCRIPTION:All-levels reformer Pilates class using the reformer\, tower\, and stability chair. Suitable for all experience levels with options offered for beginners through advanced practitioners.
URL:https://bishoplocal.com/event/gentle-flow-pilates-86/
LOCATION:Hummingbird Movement Collective\, 126 N Main St\, Bishop\, 93514\, USA
CATEGORIES:Wellness
END:VEVENT
BEGIN:VEVENT
DTSTART;TZID=America/Los_Angeles:20260423T173000
DTEND;TZID=America/Los_Angeles:20260423T183000
DTSTAMP:20260422T061851
CREATED:20260409T202720Z
LAST-MODIFIED:20260409T202720Z
UID:10001951-1776965400-1776969000@bishoplocal.com
SUMMARY:Vinyasa to Yin Flow
DESCRIPTION:Yoga class transitioning from active vinyasa movement into slower\, restorative yin holds. Held at Sierra Shanti Studio in Bishop.
URL:https://bishoplocal.com/event/vinyasa-to-yin-flow-3/
LOCATION:Sierra Shanti Studio\, 275B S Main St\, Bishop\, CA\, 93514\, United States
CATEGORIES:Wellness
ORGANIZER;CN="Sierra Shanti Studio":MAILTO:sierrashanti108@gmail.com
END:VEVENT
BEGIN:VEVENT
DTSTART;TZID=America/Los_Angeles:20260423T173000
DTEND;TZID=America/Los_Angeles:20260423T183000
DTSTAMP:20260422T061851
CREATED:20260415T192455Z
LAST-MODIFIED:20260415T192455Z
UID:10002624-1776965400-1776969000@bishoplocal.com
SUMMARY:Strength Training
DESCRIPTION:Strength training class at Bishop Strength with Paul Mandell.
URL:https://bishoplocal.com/event/strength-training-15/
LOCATION:Bishop Strength\, 162 Willow St\, Bishop\, 93514\, USA
CATEGORIES:Wellness
END:VEVENT
END:VCALENDAR