BEGIN:VCALENDAR
VERSION:2.0
PRODID:-//BishopLocal.com - ECPv6.15.18//NONSGML v1.0//EN
CALSCALE:GREGORIAN
METHOD:PUBLISH
X-WR-CALNAME:BishopLocal.com
X-ORIGINAL-URL:https://bishoplocal.com
X-WR-CALDESC:Events for BishopLocal.com
REFRESH-INTERVAL;VALUE=DURATION:PT1H
X-Robots-Tag:noindex
X-PUBLISHED-TTL:PT1H
BEGIN:VTIMEZONE
TZID:America/Los_Angeles
BEGIN:DAYLIGHT
TZOFFSETFROM:-0800
TZOFFSETTO:-0700
TZNAME:PDT
DTSTART:20250309T100000
END:DAYLIGHT
BEGIN:STANDARD
TZOFFSETFROM:-0700
TZOFFSETTO:-0800
TZNAME:PST
DTSTART:20251102T090000
END:STANDARD
BEGIN:DAYLIGHT
TZOFFSETFROM:-0800
TZOFFSETTO:-0700
TZNAME:PDT
DTSTART:20260308T100000
END:DAYLIGHT
BEGIN:STANDARD
TZOFFSETFROM:-0700
TZOFFSETTO:-0800
TZNAME:PST
DTSTART:20261101T090000
END:STANDARD
BEGIN:DAYLIGHT
TZOFFSETFROM:-0800
TZOFFSETTO:-0700
TZNAME:PDT
DTSTART:20270314T100000
END:DAYLIGHT
BEGIN:STANDARD
TZOFFSETFROM:-0700
TZOFFSETTO:-0800
TZNAME:PST
DTSTART:20271107T090000
END:STANDARD
END:VTIMEZONE
BEGIN:VEVENT
DTSTART;TZID=America/Los_Angeles:20260528T100000
DTEND;TZID=America/Los_Angeles:20260528T105500
DTSTAMP:20260422T140036
CREATED:20260409T201841Z
LAST-MODIFIED:20260409T201841Z
UID:10002448-1779962400-1779965700@bishoplocal.com
SUMMARY:Gentle Flow Pilates
DESCRIPTION:All-levels reformer Pilates class using the reformer\, tower\, and stability chair. Suitable for all experience levels with options offered for beginners through advanced practitioners.
URL:https://bishoplocal.com/event/gentle-flow-pilates-4/
LOCATION:Hummingbird Movement Collective\, 126 N Main St\, Bishop\, 93514\, USA
CATEGORIES:Wellness
END:VEVENT
BEGIN:VEVENT
DTSTART;TZID=America/Los_Angeles:20260528T101500
DTEND;TZID=America/Los_Angeles:20260528T111000
DTSTAMP:20260422T140036
CREATED:20260409T201840Z
LAST-MODIFIED:20260409T201840Z
UID:10002449-1779963300-1779966600@bishoplocal.com
SUMMARY:Weight Lifting
DESCRIPTION:Small-group weight lifting class with simple programming and progressive instruction. Great for beginners or those who prefer a small-group setting for personalized guidance.
URL:https://bishoplocal.com/event/weight-lifting-4/
LOCATION:Hummingbird Movement Collective\, 126 N Main St\, Bishop\, 93514\, USA
CATEGORIES:Wellness
END:VEVENT
BEGIN:VEVENT
DTSTART;TZID=America/Los_Angeles:20260528T111500
DTEND;TZID=America/Los_Angeles:20260528T121000
DTSTAMP:20260422T140036
CREATED:20260409T201840Z
LAST-MODIFIED:20260409T201840Z
UID:10002450-1779966900-1779970200@bishoplocal.com
SUMMARY:Weight Lifting
DESCRIPTION:Small-group weight lifting class with simple programming and progressive instruction. Great for beginners or those who prefer a small-group setting for personalized guidance.
URL:https://bishoplocal.com/event/weight-lifting-3/
LOCATION:Hummingbird Movement Collective\, 126 N Main St\, Bishop\, 93514\, USA
CATEGORIES:Wellness
END:VEVENT
BEGIN:VEVENT
DTSTART;TZID=America/Los_Angeles:20260528T120000
DTEND;TZID=America/Los_Angeles:20260528T125500
DTSTAMP:20260422T140036
CREATED:20260409T201833Z
LAST-MODIFIED:20260409T201833Z
UID:10002451-1779969600-1779972900@bishoplocal.com
SUMMARY:TRX
DESCRIPTION:TRX suspension training class for a full-body workout using bodyweight resistance.
URL:https://bishoplocal.com/event/trx-2/
LOCATION:Hummingbird Movement Collective\, 126 N Main St\, Bishop\, 93514\, USA
CATEGORIES:Wellness
END:VEVENT
BEGIN:VEVENT
DTSTART;TZID=America/Los_Angeles:20260528T143000
DTEND;TZID=America/Los_Angeles:20260528T170000
DTSTAMP:20260422T140036
CREATED:20260409T203148Z
LAST-MODIFIED:20260409T203148Z
UID:10001699-1779978600-1779987600@bishoplocal.com
SUMMARY:After-School Arts Program (ASAP)
DESCRIPTION:After-school arts program for children ages 6-12 featuring hands-on arts\, crafts\, storytelling\, movement\, and nature connection activities led by Teaching Artist Marijke IJff. Snack provided by Manor Market.
URL:https://bishoplocal.com/event/after-school-arts-program-asap-9/
LOCATION:C5 Studios\, 210 S Warren St\, Bishop\, CA\, 93514\, United States
CATEGORIES:kids-family
END:VEVENT
BEGIN:VEVENT
DTSTART;TZID=America/Los_Angeles:20260528T150000
DTEND;TZID=America/Los_Angeles:20260528T155500
DTSTAMP:20260422T140036
CREATED:20260409T201833Z
LAST-MODIFIED:20260409T201833Z
UID:10002452-1779980400-1779983700@bishoplocal.com
SUMMARY:TRX
DESCRIPTION:TRX suspension training class for a full-body workout using bodyweight resistance.
URL:https://bishoplocal.com/event/trx/
LOCATION:Hummingbird Movement Collective\, 126 N Main St\, Bishop\, 93514\, USA
CATEGORIES:Wellness
END:VEVENT
BEGIN:VEVENT
DTSTART;TZID=America/Los_Angeles:20260528T160000
DTEND;TZID=America/Los_Angeles:20260528T164500
DTSTAMP:20260422T140036
CREATED:20260409T201833Z
LAST-MODIFIED:20260409T201833Z
UID:10002453-1779984000-1779986700@bishoplocal.com
SUMMARY:Spin
DESCRIPTION:Energizing indoor cycling class combining music\, motivating coaching\, and interval-based cycling drills for a full-body cardiovascular workout.
URL:https://bishoplocal.com/event/spin-2/
LOCATION:Hummingbird Movement Collective\, 126 N Main St\, Bishop\, 93514\, USA
CATEGORIES:Wellness
END:VEVENT
BEGIN:VEVENT
DTSTART;TZID=America/Los_Angeles:20260528T160000
DTEND;TZID=America/Los_Angeles:20260528T170000
DTSTAMP:20260422T140036
CREATED:20260409T203132Z
LAST-MODIFIED:20260409T203132Z
UID:10001717-1779984000-1779987600@bishoplocal.com
SUMMARY:Pups (3-7) Jiu Jitsu
DESCRIPTION:Jiu jitsu class for kids ages 3-7. Focuses on body awareness\, discipline\, and fun games that build motor skills and muscle memory for martial arts progression.
URL:https://bishoplocal.com/event/pups-3-7-jiu-jitsu-24/
LOCATION:Cattle Dog Jiu Jitsu\, 364 Rose St\, Bishop\, CA\, 93514\, United States
CATEGORIES:sports-recreation
ATTACH;FMTTYPE=image/webp:https://bishoplocal.com/wp-content/uploads/2026/04/16643643750_9e92c5ccf0_o.webp
ORGANIZER;CN="Cattle Dog Jiu Jitsu":MAILTO:cattledogjiujitsu@gmail.com
END:VEVENT
BEGIN:VEVENT
DTSTART;TZID=America/Los_Angeles:20260528T160000
DTEND;TZID=America/Los_Angeles:20260528T190000
DTSTAMP:20260422T140036
CREATED:20260409T202631Z
LAST-MODIFIED:20260409T202631Z
UID:10002006-1779984000-1779994800@bishoplocal.com
SUMMARY:Farm to Table Market
DESCRIPTION:Weekly community market featuring local vendors\, seasonal foods\, handmade goods\, live music\, and hands-on workshops at Bishop United Methodist Church.
URL:https://bishoplocal.com/event/farm-to-table-market-5/
LOCATION:First United Methodist Church\, 205 N Fowler St\, Bishop\, CA\, 93514\, United States
CATEGORIES:food-drink
ORGANIZER;CN="Eastern Sierra Farm Fresh":MAILTO:esffbishopinfo@gmail.com
END:VEVENT
BEGIN:VEVENT
DTSTART;TZID=America/Los_Angeles:20260528T170000
DTEND;TZID=America/Los_Angeles:20260528T175500
DTSTAMP:20260422T140036
CREATED:20260409T201833Z
LAST-MODIFIED:20260409T201833Z
UID:10002454-1779987600-1779990900@bishoplocal.com
SUMMARY:Gentle Flow Pilates
DESCRIPTION:All-levels reformer Pilates class using the reformer\, tower\, and stability chair. Suitable for all experience levels with options offered for beginners through advanced practitioners.
URL:https://bishoplocal.com/event/gentle-flow-pilates-3/
LOCATION:Hummingbird Movement Collective\, 126 N Main St\, Bishop\, 93514\, USA
CATEGORIES:Wellness
END:VEVENT
BEGIN:VEVENT
DTSTART;TZID=America/Los_Angeles:20260528T170000
DTEND;TZID=America/Los_Angeles:20260528T210000
DTSTAMP:20260422T140036
CREATED:20260409T202451Z
LAST-MODIFIED:20260409T202451Z
UID:10002096-1779987600-1780002000@bishoplocal.com
SUMMARY:Cloudripper Pop-Up Dinner
DESCRIPTION:Weekly pop-up dinner at Owens Valley Distilling Company. Rotating menu featuring East and Southeast Asian food\, falafel bowls\, and seasonal dishes made with local ingredients. Check @cloudripperbishop on Instagram for this week’s menu.
URL:https://bishoplocal.com/event/cloudripper-pop-up-dinner-2/
LOCATION:Owens Valley Distilling Company\, 237 E South Street\, Bishop\, 442-228-5041\, 93514
CATEGORIES:food-drink
END:VEVENT
BEGIN:VEVENT
DTSTART;TZID=America/Los_Angeles:20260528T173000
DTEND;TZID=America/Los_Angeles:20260528T183000
DTSTAMP:20260422T140036
CREATED:20260409T202825Z
LAST-MODIFIED:20260409T202825Z
UID:10001893-1779989400-1779993000@bishoplocal.com
SUMMARY:Vinyasa to Yin Flow
DESCRIPTION:Yoga class transitioning from active vinyasa movement into slower\, restorative yin holds. Held at Sierra Shanti Studio in Bishop.
URL:https://bishoplocal.com/event/vinyasa-to-yin-flow-8/
LOCATION:Sierra Shanti Studio\, 275B S Main St\, Bishop\, CA\, 93514\, United States
CATEGORIES:Wellness
ORGANIZER;CN="Sierra Shanti Studio":MAILTO:sierrashanti108@gmail.com
END:VEVENT
BEGIN:VEVENT
DTSTART;TZID=America/Los_Angeles:20260528T173000
DTEND;TZID=America/Los_Angeles:20260528T183000
DTSTAMP:20260422T140036
CREATED:20260415T192524Z
LAST-MODIFIED:20260415T192524Z
UID:10002644-1779989400-1779993000@bishoplocal.com
SUMMARY:Strength Training
DESCRIPTION:Strength training class at Bishop Strength with Paul Mandell.
URL:https://bishoplocal.com/event/strength-training-25/
LOCATION:Bishop Strength\, 162 Willow St\, Bishop\, 93514\, USA
CATEGORIES:Wellness
END:VEVENT
BEGIN:VEVENT
DTSTART;TZID=America/Los_Angeles:20260528T173000
DTEND;TZID=America/Los_Angeles:20260528T183000
DTSTAMP:20260422T140036
CREATED:20260422T155157Z
LAST-MODIFIED:20260422T155157Z
UID:10002712-1779989400-1779993000@bishoplocal.com
SUMMARY:The Wildfire Laboratory – Science That Reduces Ignition Risk Online Webinar
DESCRIPTION:An online webinar presented by Steve Hawks\, Senior Director for Wildfire at the Insurance Institute for Business and Home Safety Research Center. Part of Whitebark Institute’s Wildfire Resilience Month programming. Registration link available at the event website.
URL:https://bishoplocal.com/event/the-wildfire-laboratory-science-that-reduces-ignition-risk-online-webinar/
CATEGORIES:Community
ATTACH;FMTTYPE=image/jpeg:https://bishoplocal.com/wp-content/uploads/2026/04/IMG_1184.jpeg
END:VEVENT
BEGIN:VEVENT
DTSTART;TZID=America/Los_Angeles:20260528T173000
DTEND;TZID=America/Los_Angeles:20260528T183000
DTSTAMP:20260422T140036
CREATED:20260422T155158Z
LAST-MODIFIED:20260422T155158Z
UID:10002713-1779989400-1779993000@bishoplocal.com
SUMMARY:Grief Support Group with Pioneer Home Health Care
DESCRIPTION:Hospice of the Owens Valley Spring Grief Support Group meets Thursdays at 5:30 PM from April 9th through May 28th. Facilitated by Patrick Thompson\, Chaplain and Bereavement Coordinator. A handbook will be provided for all participants. Donations welcome. To register or for more information\, call 760-872-4663.
URL:https://bishoplocal.com/event/grief-support-group-with-pioneer-home-health-care-11/
CATEGORIES:Wellness
ATTACH;FMTTYPE=image/png:https://bishoplocal.com/wp-content/uploads/2026/04/IMG_1152-e1776873789644.png
END:VEVENT
BEGIN:VEVENT
DTSTART;TZID=America/Los_Angeles:20260528T180000
DTEND;TZID=America/Los_Angeles:20260528T190000
DTSTAMP:20260422T140036
CREATED:20260415T192242Z
LAST-MODIFIED:20260415T192242Z
UID:10002521-1779991200-1779994800@bishoplocal.com
SUMMARY:Parks and Recreation Commission Meeting
DESCRIPTION:City of Bishop Parks and Recreation Commission meeting.
URL:https://bishoplocal.com/event/parks-and-recreation-commission-meeting-2/
LOCATION:Bishop City Hall – Council Chambers\, 377 W Line St\, Bishop\, 93514
CATEGORIES:Community
END:VEVENT
BEGIN:VEVENT
DTSTART;TZID=America/Los_Angeles:20260528T183000
DTEND;TZID=America/Los_Angeles:20260528T193000
DTSTAMP:20260422T140036
CREATED:20260415T192525Z
LAST-MODIFIED:20260415T192525Z
UID:10002645-1779993000-1779996600@bishoplocal.com
SUMMARY:Strength Training
DESCRIPTION:Strength training class at Bishop Strength with Paul Mandell. Second session.
URL:https://bishoplocal.com/event/strength-training-26/
LOCATION:Bishop Strength\, 162 Willow St\, Bishop\, 93514\, USA
CATEGORIES:Wellness
END:VEVENT
BEGIN:VEVENT
DTSTART;TZID=America/Los_Angeles:20260529T053000
DTEND;TZID=America/Los_Angeles:20260529T063000
DTSTAMP:20260422T140036
CREATED:20260415T192534Z
LAST-MODIFIED:20260415T192534Z
UID:10002652-1780032600-1780036200@bishoplocal.com
SUMMARY:Weightlifting (BTB)
DESCRIPTION:Barbell weightlifting class at Bishop Strength with Jared Waasdorp.
URL:https://bishoplocal.com/event/weightlifting-btb-20/
LOCATION:Bishop Strength\, 162 Willow St\, Bishop\, 93514\, USA
CATEGORIES:Wellness
END:VEVENT
BEGIN:VEVENT
DTSTART;TZID=America/Los_Angeles:20260529T100000
DTEND;TZID=America/Los_Angeles:20260529T105500
DTSTAMP:20260422T140036
CREATED:20260409T201833Z
LAST-MODIFIED:20260409T201833Z
UID:10002455-1780048800-1780052100@bishoplocal.com
SUMMARY:Gentle Flow Pilates
DESCRIPTION:All-levels reformer Pilates class using the reformer\, tower\, and stability chair. Suitable for all experience levels with options offered for beginners through advanced practitioners.
URL:https://bishoplocal.com/event/gentle-flow-pilates-2/
LOCATION:Hummingbird Movement Collective\, 126 N Main St\, Bishop\, 93514\, USA
CATEGORIES:Wellness
END:VEVENT
BEGIN:VEVENT
DTSTART;TZID=America/Los_Angeles:20260529T110000
DTEND;TZID=America/Los_Angeles:20260529T115500
DTSTAMP:20260422T140036
CREATED:20260409T201833Z
LAST-MODIFIED:20260409T201833Z
UID:10002456-1780052400-1780055700@bishoplocal.com
SUMMARY:Dynamic Flow Pilates
DESCRIPTION:Intermediate to advanced reformer Pilates class using the reformer\, Cadillac tower\, and stability chair. Best suited for Pilates-experienced clients or fit beginners.
URL:https://bishoplocal.com/event/dynamic-flow-pilates-5/
LOCATION:Hummingbird Movement Collective\, 126 N Main St\, Bishop\, 93514\, USA
CATEGORIES:Wellness
END:VEVENT
BEGIN:VEVENT
DTSTART;TZID=America/Los_Angeles:20260529T150000
DTEND;TZID=America/Los_Angeles:20260529T155500
DTSTAMP:20260422T140036
CREATED:20260409T201833Z
LAST-MODIFIED:20260409T201833Z
UID:10002457-1780066800-1780070100@bishoplocal.com
SUMMARY:Dynamic Flow Pilates
DESCRIPTION:Intermediate to advanced reformer Pilates class using the reformer\, Cadillac tower\, and stability chair. Best suited for Pilates-experienced clients or fit beginners.
URL:https://bishoplocal.com/event/dynamic-flow-pilates-4/
LOCATION:Hummingbird Movement Collective\, 126 N Main St\, Bishop\, 93514\, USA
CATEGORIES:Wellness
END:VEVENT
BEGIN:VEVENT
DTSTART;TZID=America/Los_Angeles:20260529T170000
DTEND;TZID=America/Los_Angeles:20260529T183000
DTSTAMP:20260422T140036
CREATED:20260409T203132Z
LAST-MODIFIED:20260409T203132Z
UID:10001718-1780074000-1780079400@bishoplocal.com
SUMMARY:Heelers (8 up) Jiu Jitsu
DESCRIPTION:Jiu jitsu class for kids ages 8 and up. Builds on fundamentals with more detailed instruction\, situational rolling\, and self-defense preparation.
URL:https://bishoplocal.com/event/heelers-8-up-jiu-jitsu-24/
LOCATION:Cattle Dog Jiu Jitsu\, 364 Rose St\, Bishop\, CA\, 93514\, United States
CATEGORIES:sports-recreation
ATTACH;FMTTYPE=image/webp:https://bishoplocal.com/wp-content/uploads/2026/04/16643643750_9e92c5ccf0_o.webp
ORGANIZER;CN="Cattle Dog Jiu Jitsu":MAILTO:cattledogjiujitsu@gmail.com
END:VEVENT
BEGIN:VEVENT
DTSTART;TZID=America/Los_Angeles:20260529T173000
DTEND;TZID=America/Los_Angeles:20260529T183000
DTSTAMP:20260422T140036
CREATED:20260409T202825Z
LAST-MODIFIED:20260409T202825Z
UID:10001894-1780075800-1780079400@bishoplocal.com
SUMMARY:Friday Flow
DESCRIPTION:Friday evening yoga flow class offering a flowing vinyasa practice to close out the week. Held at Sierra Shanti Studio in Bishop.
URL:https://bishoplocal.com/event/friday-flow-8/
LOCATION:Sierra Shanti Studio\, 275B S Main St\, Bishop\, CA\, 93514\, United States
CATEGORIES:Wellness
ORGANIZER;CN="Sierra Shanti Studio":MAILTO:sierrashanti108@gmail.com
END:VEVENT
BEGIN:VEVENT
DTSTART;TZID=America/Los_Angeles:20260529T180000
DTEND;TZID=America/Los_Angeles:20260529T190000
DTSTAMP:20260422T140036
CREATED:20260409T202532Z
LAST-MODIFIED:20260409T202533Z
UID:10002058-1780077600-1780081200@bishoplocal.com
SUMMARY:Live Figure Drawing
DESCRIPTION:Uninstructed figure drawing session with a live model at C5 Studios. Bring your own supplies. No photography. Ages 18+. Suggested donation $15-$30.
URL:https://bishoplocal.com/event/live-figure-drawing/
LOCATION:C5 Studios\, 210 S Warren St\, Bishop\, CA\, 93514\, United States
CATEGORIES:arts-culture
ATTACH;FMTTYPE=image/jpeg:https://bishoplocal.com/wp-content/uploads/2026/04/FigureDrawingflyer2026.jpg
END:VEVENT
BEGIN:VEVENT
DTSTART;TZID=America/Los_Angeles:20260529T183000
DTEND;TZID=America/Los_Angeles:20260529T203000
DTSTAMP:20260422T140036
CREATED:20260409T203123Z
LAST-MODIFIED:20260409T203123Z
UID:10001719-1780079400-1780086600@bishoplocal.com
SUMMARY:Adult Combatives
DESCRIPTION:Adult combatives class allowing students to safely practice striking at controlled intensity with safety equipment\, building a complete self-defense system.
URL:https://bishoplocal.com/event/adult-combatives-8/
LOCATION:Cattle Dog Jiu Jitsu\, 364 Rose St\, Bishop\, CA\, 93514\, United States
CATEGORIES:sports-recreation
ATTACH;FMTTYPE=image/webp:https://bishoplocal.com/wp-content/uploads/2026/04/16643643750_9e92c5ccf0_o.webp
ORGANIZER;CN="Cattle Dog Jiu Jitsu":MAILTO:cattledogjiujitsu@gmail.com
END:VEVENT
BEGIN:VEVENT
DTSTART;TZID=America/Los_Angeles:20260530T080000
DTEND;TZID=America/Los_Angeles:20260530T084500
DTSTAMP:20260422T140036
CREATED:20260409T201826Z
LAST-MODIFIED:20260409T201826Z
UID:10002459-1780128000-1780130700@bishoplocal.com
SUMMARY:Spin
DESCRIPTION:Energizing indoor cycling class combining music\, motivating coaching\, and interval-based cycling drills for a full-body cardiovascular workout.
URL:https://bishoplocal.com/event/spin/
LOCATION:Hummingbird Movement Collective\, 126 N Main St\, Bishop\, 93514\, USA
CATEGORIES:Wellness
END:VEVENT
BEGIN:VEVENT
DTSTART;TZID=America/Los_Angeles:20260530T080000
DTEND;TZID=America/Los_Angeles:20260530T085500
DTSTAMP:20260422T140036
CREATED:20260409T201833Z
LAST-MODIFIED:20260409T201833Z
UID:10002458-1780128000-1780131300@bishoplocal.com
SUMMARY:Weight Lifting
DESCRIPTION:Small-group weight lifting class with simple programming and progressive instruction. Great for beginners or those who prefer a small-group setting for personalized guidance.
URL:https://bishoplocal.com/event/weight-lifting-2/
LOCATION:Hummingbird Movement Collective\, 126 N Main St\, Bishop\, 93514\, USA
CATEGORIES:Wellness
END:VEVENT
BEGIN:VEVENT
DTSTART;TZID=America/Los_Angeles:20260530T080000
DTEND;TZID=America/Los_Angeles:20260530T093000
DTSTAMP:20260422T140036
CREATED:20260409T202914Z
LAST-MODIFIED:20260409T202914Z
UID:10001845-1780128000-1780133400@bishoplocal.com
SUMMARY:Iyengar Yoga
DESCRIPTION:Iyengar yoga class focusing on proper alignment\, precision\, and the use of props. Suitable for all ages and abilities\, taught by a certified Iyengar yoga instructor at Bishop Yoga & Pilates Center.
URL:https://bishoplocal.com/event/iyengar-yoga-16/
LOCATION:Bishop Yoga & Pilates Center\, 621 W. Line St. #203\, Bishop\, CA\, 93514\, United States
CATEGORIES:Wellness
END:VEVENT
BEGIN:VEVENT
DTSTART;TZID=America/Los_Angeles:20260530T090000
DTEND;TZID=America/Los_Angeles:20260530T095500
DTSTAMP:20260422T140036
CREATED:20260409T201826Z
LAST-MODIFIED:20260409T201826Z
UID:10002460-1780131600-1780134900@bishoplocal.com
SUMMARY:Dynamic Flow Pilates
DESCRIPTION:Intermediate to advanced reformer Pilates class using the reformer\, Cadillac tower\, and stability chair. Best suited for Pilates-experienced clients or fit beginners.
URL:https://bishoplocal.com/event/dynamic-flow-pilates-3/
LOCATION:Hummingbird Movement Collective\, 126 N Main St\, Bishop\, 93514\, USA
CATEGORIES:Wellness
END:VEVENT
BEGIN:VEVENT
DTSTART;TZID=America/Los_Angeles:20260530T090000
DTEND;TZID=America/Los_Angeles:20260530T101500
DTSTAMP:20260422T140036
CREATED:20260409T202834Z
LAST-MODIFIED:20260409T202834Z
UID:10001879-1780131600-1780136100@bishoplocal.com
SUMMARY:Foundational Flow
DESCRIPTION:Saturday morning foundational yoga flow class focusing on alignment\, breath\, and core movement patterns. Held at Sierra Shanti Studio in Bishop.
URL:https://bishoplocal.com/event/foundational-flow-9/
LOCATION:Sierra Shanti Studio\, 275B S Main St\, Bishop\, CA\, 93514\, United States
CATEGORIES:Wellness
ORGANIZER;CN="Sierra Shanti Studio":MAILTO:sierrashanti108@gmail.com
END:VEVENT
END:VCALENDAR