BEGIN:VCALENDAR
VERSION:2.0
PRODID:-//BishopLocal.com - ECPv6.15.18//NONSGML v1.0//EN
CALSCALE:GREGORIAN
METHOD:PUBLISH
X-WR-CALNAME:BishopLocal.com
X-ORIGINAL-URL:https://bishoplocal.com
X-WR-CALDESC:Events for BishopLocal.com
REFRESH-INTERVAL;VALUE=DURATION:PT1H
X-Robots-Tag:noindex
X-PUBLISHED-TTL:PT1H
BEGIN:VTIMEZONE
TZID:America/Los_Angeles
BEGIN:DAYLIGHT
TZOFFSETFROM:-0800
TZOFFSETTO:-0700
TZNAME:PDT
DTSTART:20250309T100000
END:DAYLIGHT
BEGIN:STANDARD
TZOFFSETFROM:-0700
TZOFFSETTO:-0800
TZNAME:PST
DTSTART:20251102T090000
END:STANDARD
BEGIN:DAYLIGHT
TZOFFSETFROM:-0800
TZOFFSETTO:-0700
TZNAME:PDT
DTSTART:20260308T100000
END:DAYLIGHT
BEGIN:STANDARD
TZOFFSETFROM:-0700
TZOFFSETTO:-0800
TZNAME:PST
DTSTART:20261101T090000
END:STANDARD
BEGIN:DAYLIGHT
TZOFFSETFROM:-0800
TZOFFSETTO:-0700
TZNAME:PDT
DTSTART:20270314T100000
END:DAYLIGHT
BEGIN:STANDARD
TZOFFSETFROM:-0700
TZOFFSETTO:-0800
TZNAME:PST
DTSTART:20271107T090000
END:STANDARD
END:VTIMEZONE
BEGIN:VEVENT
DTSTART;TZID=America/Los_Angeles:20260425T100000
DTEND;TZID=America/Los_Angeles:20260425T105500
DTSTAMP:20260422T045553
CREATED:20260409T202231Z
LAST-MODIFIED:20260409T202231Z
UID:10002227-1777111200-1777114500@bishoplocal.com
SUMMARY:Gentle Flow Pilates
DESCRIPTION:All-levels reformer Pilates class using the reformer\, tower\, and stability chair. Suitable for all experience levels with options offered for beginners through advanced practitioners.
URL:https://bishoplocal.com/event/gentle-flow-pilates-81/
LOCATION:Hummingbird Movement Collective\, 126 N Main St\, Bishop\, 93514\, USA
CATEGORIES:Wellness
END:VEVENT
BEGIN:VEVENT
DTSTART;TZID=America/Los_Angeles:20260425T100000
DTEND;TZID=America/Los_Angeles:20260425T113000
DTSTAMP:20260422T045553
CREATED:20260409T202606Z
LAST-MODIFIED:20260409T202606Z
UID:10002023-1777111200-1777116600@bishoplocal.com
SUMMARY:Alabama Hills – Climbing Through Time
DESCRIPTION:Guided walk exploring the relationship between geology and rock climbing in the Alabama Hills with staff member Matthew Bernstein. Free ranger program at Mobius Arch Trailhead.
URL:https://bishoplocal.com/event/alabama-hills-climbing-through-time/
LOCATION:Mobius Arch Trail Parking Lot\, Mobius Arch Loop Trailhead\, Lone Pine\, 93545
CATEGORIES:outdoors-nature
ATTACH;FMTTYPE=image/jpeg:https://bishoplocal.com/wp-content/uploads/2026/04/April-Hills-Ranger.jpg
END:VEVENT
BEGIN:VEVENT
DTSTART;TZID=America/Los_Angeles:20260425T110000
DTEND;TZID=America/Los_Angeles:20260425T115500
DTSTAMP:20260422T045553
CREATED:20260409T202231Z
LAST-MODIFIED:20260409T202231Z
UID:10002228-1777114800-1777118100@bishoplocal.com
SUMMARY:Weight Lifting
DESCRIPTION:Small-group weight lifting class with simple programming and progressive instruction. Great for beginners or those who prefer a small-group setting for personalized guidance.
URL:https://bishoplocal.com/event/weight-lifting-41/
LOCATION:Hummingbird Movement Collective\, 126 N Main St\, Bishop\, 93514\, USA
CATEGORIES:Wellness
END:VEVENT
BEGIN:VEVENT
DTSTART;TZID=America/Los_Angeles:20260425T150000
DTEND;TZID=America/Los_Angeles:20260425T200000
DTSTAMP:20260422T045553
CREATED:20260409T202605Z
LAST-MODIFIED:20260409T222752Z
UID:10002027-1777129200-1777147200@bishoplocal.com
SUMMARY:Monster Truck Thunder
DESCRIPTION:Monster Truck Thunder returns to the Tri-County Fairgrounds for a fun family night out featuring monster truck performances. Produced by Monster Truck Thunder with over 45 years and thousands of shows across the USA.
URL:https://bishoplocal.com/event/monster-truck-thunder/
LOCATION:Tri-County Fairgrounds\, 475 Sierra St\, Bishop\, CA\, 93514\, United States
CATEGORIES:kids-family
ATTACH;FMTTYPE=image/jpeg:https://bishoplocal.com/wp-content/uploads/2026/04/monstertruck-2.jpg
END:VEVENT
BEGIN:VEVENT
DTSTART;TZID=America/Los_Angeles:20260425T160000
DTEND;TZID=America/Los_Angeles:20260425T180000
DTSTAMP:20260422T045553
CREATED:20260415T192231Z
LAST-MODIFIED:20260415T192231Z
UID:10002507-1777132800-1777140000@bishoplocal.com
SUMMARY:Druids Day Bouldering
DESCRIPTION:Bouldering meeting for all skill levels at Druid Trailhead. Free and open to all.
URL:https://bishoplocal.com/event/druids-day-bouldering/
LOCATION:Druid Trailhead\, Bir Rd\, Bishop\, 93514\, USA
CATEGORIES:sports-recreation
END:VEVENT
BEGIN:VEVENT
DTSTART;TZID=America/Los_Angeles:20260425T170000
DTEND;TZID=America/Los_Angeles:20260425T210000
DTSTAMP:20260422T045553
CREATED:20260409T202459Z
LAST-MODIFIED:20260409T202459Z
UID:10002088-1777136400-1777150800@bishoplocal.com
SUMMARY:Cloudripper Pop-Up Dinner
DESCRIPTION:Weekly pop-up dinner at Owens Valley Distilling Company. Rotating menu featuring East and Southeast Asian food\, falafel bowls\, and seasonal dishes made with local ingredients. Check @cloudripperbishop on Instagram for this week’s menu.
URL:https://bishoplocal.com/event/cloudripper-pop-up-dinner-10/
LOCATION:Owens Valley Distilling Company\, 237 E South Street\, Bishop\, 442-228-5041\, 93514
CATEGORIES:food-drink
END:VEVENT
BEGIN:VEVENT
DTSTART;TZID=America/Los_Angeles:20260425T173000
DTEND;TZID=America/Los_Angeles:20260425T200000
DTSTAMP:20260422T045553
CREATED:20260409T202541Z
LAST-MODIFIED:20260409T222806Z
UID:10002047-1777138200-1777147200@bishoplocal.com
SUMMARY:Downtown Spring Art Walk!
DESCRIPTION:Downtown Bishop spring art walk featuring art venues and galleries throughout the downtown area. Organized by C5 Studios.
URL:https://bishoplocal.com/event/downtown-spring-art-walk/
LOCATION:C5 Studios\, 210 S Warren St\, Bishop\, CA\, 93514\, United States
CATEGORIES:arts-culture
ATTACH;FMTTYPE=image/jpeg:https://bishoplocal.com/wp-content/uploads/2026/04/SpringArtWalk.jpg
END:VEVENT
BEGIN:VEVENT
DTSTART;TZID=America/Los_Angeles:20260425T180000
DTEND;TZID=America/Los_Angeles:20260425T190000
DTSTAMP:20260422T045553
CREATED:20260415T192242Z
LAST-MODIFIED:20260415T192242Z
UID:10002520-1777140000-1777143600@bishoplocal.com
SUMMARY:Parks and Recreation Commission Meeting
DESCRIPTION:City of Bishop Parks and Recreation Commission meeting.
URL:https://bishoplocal.com/event/parks-and-recreation-commission-meeting/
LOCATION:Bishop City Hall – Council Chambers\, 377 W Line St\, Bishop\, 93514
CATEGORIES:Community
END:VEVENT
BEGIN:VEVENT
DTSTART;TZID=America/Los_Angeles:20260425T190000
DTEND;TZID=America/Los_Angeles:20260425T210000
DTSTAMP:20260422T045553
CREATED:20260415T192211Z
LAST-MODIFIED:20260415T192211Z
UID:10002492-1777143600-1777150800@bishoplocal.com
SUMMARY:Leaves of Grass
DESCRIPTION:Sierra Classic Theatre presents a performance inspired by Walt Whitman’s work at The Event Center.
URL:https://bishoplocal.com/event/leaves-of-grass-7/
LOCATION:The Event Center\, Bishop\, 93514\, USA
CATEGORIES:arts-culture
END:VEVENT
BEGIN:VEVENT
DTSTART;TZID=America/Los_Angeles:20260426T080000
DTEND;TZID=America/Los_Angeles:20260426T090000
DTSTAMP:20260422T045553
CREATED:20260409T202851Z
LAST-MODIFIED:20260409T202851Z
UID:10001866-1777190400-1777194000@bishoplocal.com
SUMMARY:Mat/Springwall Pilates
DESCRIPTION:Mat and springwall Pilates class focusing on core strength\, body alignment\, mobility\, and breathing. Taught in the Stott Pilates method at Bishop Yoga & Pilates Center.
URL:https://bishoplocal.com/event/mat-springwall-pilates-7/
LOCATION:Bishop Yoga & Pilates Center\, 621 W. Line St. #203\, Bishop\, CA\, 93514\, United States
CATEGORIES:Wellness
END:VEVENT
BEGIN:VEVENT
DTSTART;TZID=America/Los_Angeles:20260426T080000
DTEND;TZID=America/Los_Angeles:20260426T120000
DTSTAMP:20260422T045553
CREATED:20260409T202516Z
LAST-MODIFIED:20260409T202516Z
UID:10002077-1777190400-1777204800@bishoplocal.com
SUMMARY:Coffee Church
DESCRIPTION:Weekly pop-up cafe at Indy Coffee Roasting Company. Organic European-style pour-overs\, Mexican and Scandinavian coffee drinks\, and artisan pastries. Enter at Lagoon Street behind Luxe Salon.
URL:https://bishoplocal.com/event/coffee-church-6/
LOCATION:Indy Coffee Roasting Company\, 307 S Main St\, Bishop\, CA\, 93514\, United States
CATEGORIES:food-drink
END:VEVENT
BEGIN:VEVENT
DTSTART;TZID=America/Los_Angeles:20260426T090000
DTEND;TZID=America/Los_Angeles:20260426T100000
DTSTAMP:20260422T045553
CREATED:20260409T202719Z
LAST-MODIFIED:20260409T202719Z
UID:10001954-1777194000-1777197600@bishoplocal.com
SUMMARY:Community Class - Donation Based
DESCRIPTION:Donation-based community yoga class open to all levels and abilities. Held at Sierra Shanti Studio in Bishop.
URL:https://bishoplocal.com/event/community-class-donation-based-4/
LOCATION:Sierra Shanti Studio\, 275B S Main St\, Bishop\, CA\, 93514\, United States
CATEGORIES:Wellness
ORGANIZER;CN="Sierra Shanti Studio":MAILTO:sierrashanti108@gmail.com
END:VEVENT
BEGIN:VEVENT
DTSTART;TZID=America/Los_Angeles:20260426T093000
DTEND;TZID=America/Los_Angeles:20260426T102500
DTSTAMP:20260422T045553
CREATED:20260409T202231Z
LAST-MODIFIED:20260409T202231Z
UID:10002229-1777195800-1777199100@bishoplocal.com
SUMMARY:Dynamic Flow Pilates
DESCRIPTION:Intermediate to advanced reformer Pilates class using the reformer\, Cadillac tower\, and stability chair. Best suited for Pilates-experienced clients or fit beginners.
URL:https://bishoplocal.com/event/dynamic-flow-pilates-57/
LOCATION:Hummingbird Movement Collective\, 126 N Main St\, Bishop\, 93514\, USA
CATEGORIES:Wellness
END:VEVENT
BEGIN:VEVENT
DTSTART;TZID=America/Los_Angeles:20260426T103000
DTEND;TZID=America/Los_Angeles:20260426T112500
DTSTAMP:20260422T045553
CREATED:20260409T202231Z
LAST-MODIFIED:20260409T202231Z
UID:10002230-1777199400-1777202700@bishoplocal.com
SUMMARY:GYROKINESIS
DESCRIPTION:Full-body movement workout accessible to athletes\, seniors\, and those recovering from injury. Focuses on fluid\, rhythmic sequences to improve mobility and coordination.
URL:https://bishoplocal.com/event/gyrokinesis-6/
LOCATION:Hummingbird Movement Collective\, 126 N Main St\, Bishop\, 93514\, USA
CATEGORIES:Wellness
END:VEVENT
BEGIN:VEVENT
DTSTART;TZID=America/Los_Angeles:20260426T113000
DTEND;TZID=America/Los_Angeles:20260426T122500
DTSTAMP:20260422T045553
CREATED:20260409T202231Z
LAST-MODIFIED:20260409T202231Z
UID:10002231-1777203000-1777206300@bishoplocal.com
SUMMARY:Dynamic Flow Pilates
DESCRIPTION:Intermediate to advanced reformer Pilates class using the reformer\, Cadillac tower\, and stability chair. Best suited for Pilates-experienced clients or fit beginners.
URL:https://bishoplocal.com/event/dynamic-flow-pilates-56/
LOCATION:Hummingbird Movement Collective\, 126 N Main St\, Bishop\, 93514\, USA
CATEGORIES:Wellness
END:VEVENT
BEGIN:VEVENT
DTSTART;TZID=America/Los_Angeles:20260426T113000
DTEND;TZID=America/Los_Angeles:20260426T143000
DTSTAMP:20260422T045553
CREATED:20260409T202622Z
LAST-MODIFIED:20260409T202622Z
UID:10002012-1777203000-1777213800@bishoplocal.com
SUMMARY:BioBlitz and Native Bees at Blue Heron Farm
DESCRIPTION:Native bee workshop and BioBlitz at Blue Heron Farm. 11:30-12:30 learn about native bees and how to support them. 12:30-2:30 BioBlitz to document what is blooming and buzzing. Join for either or both parts.
URL:https://bishoplocal.com/event/bioblitz-and-native-bees-at-blue-heron-farm/
LOCATION:Blue Heron Farm\, 75 Sierra Grande St\, Bishop\, CA\, 93514\, United States
CATEGORIES:outdoors-nature
ATTACH;FMTTYPE=image/png:https://bishoplocal.com/wp-content/uploads/2026/04/Hunts-Bumblebee-1.png
END:VEVENT
BEGIN:VEVENT
DTSTART;TZID=America/Los_Angeles:20260426T130000
DTEND;TZID=America/Los_Angeles:20260426T135500
DTSTAMP:20260422T045553
CREATED:20260409T202231Z
LAST-MODIFIED:20260409T202231Z
UID:10002232-1777208400-1777211700@bishoplocal.com
SUMMARY:Cardio Tramp Pilates
DESCRIPTION:High-energy Pilates class using the cardio tramp reformer for plyometric movement on a soft landing surface. Designed for those looking to sweat and build cardiovascular endurance.
URL:https://bishoplocal.com/event/cardio-tramp-pilates-6/
LOCATION:Hummingbird Movement Collective\, 126 N Main St\, Bishop\, 93514\, USA
CATEGORIES:Wellness
END:VEVENT
BEGIN:VEVENT
DTSTART;TZID=America/Los_Angeles:20260426T150000
DTEND;TZID=America/Los_Angeles:20260426T170000
DTSTAMP:20260422T045553
CREATED:20260409T203004Z
LAST-MODIFIED:20260409T203004Z
UID:10001796-1777215600-1777222800@bishoplocal.com
SUMMARY:Womens Only Jiu Jitsu
DESCRIPTION:Women-only jiu jitsu class focused on fundamentals and self-defense in a supportive environment.
URL:https://bishoplocal.com/event/womens-only-jiu-jitsu-4/
LOCATION:Cattle Dog Jiu Jitsu\, 364 Rose St\, Bishop\, CA\, 93514\, United States
CATEGORIES:sports-recreation
ATTACH;FMTTYPE=image/webp:https://bishoplocal.com/wp-content/uploads/2026/04/16643643750_9e92c5ccf0_o.webp
ORGANIZER;CN="Cattle Dog Jiu Jitsu":MAILTO:cattledogjiujitsu@gmail.com
END:VEVENT
BEGIN:VEVENT
DTSTART;TZID=America/Los_Angeles:20260426T150000
DTEND;TZID=America/Los_Angeles:20260426T170000
DTSTAMP:20260422T045553
CREATED:20260415T192152Z
LAST-MODIFIED:20260415T192152Z
UID:10002482-1777215600-1777222800@bishoplocal.com
SUMMARY:Soul 2 Soul Matinee Show
DESCRIPTION:Live music matinee performance at Mountain Rambler Brewery.
URL:https://bishoplocal.com/event/soul-2-soul-matinee-show/
LOCATION:Mountain Rambler Brewery\, 186 S Main St\, Bishop\, CA\, 93514\, United States
CATEGORIES:Music
END:VEVENT
BEGIN:VEVENT
DTSTART;TZID=America/Los_Angeles:20260426T160000
DTEND;TZID=America/Los_Angeles:20260426T180000
DTSTAMP:20260422T045553
CREATED:20260415T192212Z
LAST-MODIFIED:20260415T192212Z
UID:10002493-1777219200-1777226400@bishoplocal.com
SUMMARY:Leaves of Grass
DESCRIPTION:Sierra Classic Theatre presents a performance inspired by Walt Whitman’s work at The Event Center.
URL:https://bishoplocal.com/event/leaves-of-grass-8/
LOCATION:The Event Center\, Bishop\, 93514\, USA
CATEGORIES:arts-culture
END:VEVENT
BEGIN:VEVENT
DTSTART;TZID=America/Los_Angeles:20260426T170000
DTEND;TZID=America/Los_Angeles:20260426T181500
DTSTAMP:20260422T045553
CREATED:20260415T192535Z
LAST-MODIFIED:20260415T192535Z
UID:10002654-1777222800-1777227300@bishoplocal.com
SUMMARY:Ashtanga Vinyasa
DESCRIPTION:Ashtanga vinyasa yoga class at Bishop Strength with Jen Fitzwater.
URL:https://bishoplocal.com/event/ashtanga-vinyasa-2/
LOCATION:Bishop Strength\, 162 Willow St\, Bishop\, 93514\, USA
CATEGORIES:Wellness
END:VEVENT
BEGIN:VEVENT
DTSTART;TZID=America/Los_Angeles:20260426T170000
DTEND;TZID=America/Los_Angeles:20260426T183000
DTSTAMP:20260422T045553
CREATED:20260409T203004Z
LAST-MODIFIED:20260409T203004Z
UID:10001797-1777222800-1777228200@bishoplocal.com
SUMMARY:All Ages Open Mat
DESCRIPTION:Open mat sparring session for all ages. An opportunity to practice skills learned in class through live rolling.
URL:https://bishoplocal.com/event/all-ages-open-mat-4/
LOCATION:Cattle Dog Jiu Jitsu\, 364 Rose St\, Bishop\, CA\, 93514\, United States
CATEGORIES:sports-recreation
ATTACH;FMTTYPE=image/webp:https://bishoplocal.com/wp-content/uploads/2026/04/16643643750_9e92c5ccf0_o.webp
ORGANIZER;CN="Cattle Dog Jiu Jitsu":MAILTO:cattledogjiujitsu@gmail.com
END:VEVENT
BEGIN:VEVENT
DTSTART;TZID=America/Los_Angeles:20260426T170000
DTEND;TZID=America/Los_Angeles:20260426T210000
DTSTAMP:20260422T045553
CREATED:20260415T192140Z
LAST-MODIFIED:20260415T192140Z
UID:10002467-1777222800-1777237200@bishoplocal.com
SUMMARY:Blü Egyptian & Bishop Funk Collective
DESCRIPTION:Blü Egyptian returns to Mill Creek Station in Bishop. The self-described prog-jam band fuses rock\, bluegrass\, funk\, reggae and electronica. Bishop Funk Collective opens. Doors at 5pm\, show at 5:30pm. All ages.
URL:https://bishoplocal.com/event/blu-egyptian-bishop-funk-collective/
LOCATION:Mill Creek Station\, 150 Millcreek Rd\, Bishop\, 93514\, USA
CATEGORIES:Music
ATTACH;FMTTYPE=image/png:https://bishoplocal.com/wp-content/uploads/2026/04/aprilshow2026V4.png
END:VEVENT
BEGIN:VEVENT
DTSTART;TZID=America/Los_Angeles:20260426T173000
DTEND;TZID=America/Los_Angeles:20260426T183000
DTSTAMP:20260422T045553
CREATED:20260409T202719Z
LAST-MODIFIED:20260409T202719Z
UID:10001955-1777224600-1777228200@bishoplocal.com
SUMMARY:Restorative Yoga for Athletes: Sunday Flow
DESCRIPTION:Restorative yoga class designed for athletes\, focusing on recovery\, flexibility\, and deep relaxation. Held at Sierra Shanti Studio in Bishop.
URL:https://bishoplocal.com/event/restorative-yoga-for-athletes-sunday-flow-4/
LOCATION:Sierra Shanti Studio\, 275B S Main St\, Bishop\, CA\, 93514\, United States
CATEGORIES:Wellness
ORGANIZER;CN="Sierra Shanti Studio":MAILTO:sierrashanti108@gmail.com
END:VEVENT
BEGIN:VEVENT
DTSTART;TZID=America/Los_Angeles:20260427T053000
DTEND;TZID=America/Los_Angeles:20260427T063000
DTSTAMP:20260422T045554
CREATED:20260415T192324Z
LAST-MODIFIED:20260415T192324Z
UID:10002551-1777267800-1777271400@bishoplocal.com
SUMMARY:Weightlifting (BTB)
DESCRIPTION:Barbell weightlifting class at Bishop Strength with Jared Waasdorp.
URL:https://bishoplocal.com/event/weightlifting-btb-2/
LOCATION:Bishop Strength\, 162 Willow St\, Bishop\, 93514\, USA
CATEGORIES:Wellness
END:VEVENT
BEGIN:VEVENT
DTSTART;TZID=America/Los_Angeles:20260427T081500
DTEND;TZID=America/Los_Angeles:20260427T091000
DTSTAMP:20260422T045554
CREATED:20260409T202231Z
LAST-MODIFIED:20260409T202231Z
UID:10002233-1777277700-1777281000@bishoplocal.com
SUMMARY:Gentle Flow Pilates
DESCRIPTION:All-levels reformer Pilates class using the reformer\, tower\, and stability chair. Suitable for all experience levels with options offered for beginners through advanced practitioners.
URL:https://bishoplocal.com/event/gentle-flow-pilates-80/
LOCATION:Hummingbird Movement Collective\, 126 N Main St\, Bishop\, 93514\, USA
CATEGORIES:Wellness
END:VEVENT
BEGIN:VEVENT
DTSTART;TZID=America/Los_Angeles:20260427T091500
DTEND;TZID=America/Los_Angeles:20260427T101000
DTSTAMP:20260422T045554
CREATED:20260409T202231Z
LAST-MODIFIED:20260409T202231Z
UID:10002234-1777281300-1777284600@bishoplocal.com
SUMMARY:Gentle Flow Pilates
DESCRIPTION:All-levels reformer Pilates class using the reformer\, tower\, and stability chair. Suitable for all experience levels with options offered for beginners through advanced practitioners.
URL:https://bishoplocal.com/event/gentle-flow-pilates-79/
LOCATION:Hummingbird Movement Collective\, 126 N Main St\, Bishop\, 93514\, USA
CATEGORIES:Wellness
END:VEVENT
BEGIN:VEVENT
DTSTART;TZID=America/Los_Angeles:20260427T101500
DTEND;TZID=America/Los_Angeles:20260427T111000
DTSTAMP:20260422T045554
CREATED:20260409T202222Z
LAST-MODIFIED:20260409T202222Z
UID:10002235-1777284900-1777288200@bishoplocal.com
SUMMARY:Gentle Flow Pilates
DESCRIPTION:All-levels reformer Pilates class using the reformer\, tower\, and stability chair. Suitable for all experience levels with options offered for beginners through advanced practitioners.
URL:https://bishoplocal.com/event/gentle-flow-pilates-78/
LOCATION:Hummingbird Movement Collective\, 126 N Main St\, Bishop\, 93514\, USA
CATEGORIES:Wellness
END:VEVENT
BEGIN:VEVENT
DTSTART;TZID=America/Los_Angeles:20260427T113000
DTEND;TZID=America/Los_Angeles:20260427T130000
DTSTAMP:20260422T045554
CREATED:20260409T202719Z
LAST-MODIFIED:20260409T202719Z
UID:10001956-1777289400-1777294800@bishoplocal.com
SUMMARY:Tai Chi
DESCRIPTION:Tai chi class focused on mindful movement\, balance\, and wellness practice. Held at Sierra Shanti Studio in Bishop.
URL:https://bishoplocal.com/event/tai-chi-4/
LOCATION:Sierra Shanti Studio\, 275B S Main St\, Bishop\, CA\, 93514\, United States
CATEGORIES:Wellness
ORGANIZER;CN="Sierra Shanti Studio":MAILTO:sierrashanti108@gmail.com
END:VEVENT
BEGIN:VEVENT
DTSTART;TZID=America/Los_Angeles:20260427T120000
DTEND;TZID=America/Los_Angeles:20260427T125500
DTSTAMP:20260422T045554
CREATED:20260409T202222Z
LAST-MODIFIED:20260409T202222Z
UID:10002236-1777291200-1777294500@bishoplocal.com
SUMMARY:Dynamic Flow Pilates
DESCRIPTION:Intermediate to advanced reformer Pilates class using the reformer\, Cadillac tower\, and stability chair. Best suited for Pilates-experienced clients or fit beginners.
URL:https://bishoplocal.com/event/dynamic-flow-pilates-55/
LOCATION:Hummingbird Movement Collective\, 126 N Main St\, Bishop\, 93514\, USA
CATEGORIES:Wellness
END:VEVENT
END:VCALENDAR