BEGIN:VCALENDAR
VERSION:2.0
PRODID:-//BishopLocal.com - ECPv6.15.18//NONSGML v1.0//EN
CALSCALE:GREGORIAN
METHOD:PUBLISH
X-WR-CALNAME:BishopLocal.com
X-ORIGINAL-URL:https://bishoplocal.com
X-WR-CALDESC:Events for BishopLocal.com
REFRESH-INTERVAL;VALUE=DURATION:PT1H
X-Robots-Tag:noindex
X-PUBLISHED-TTL:PT1H
BEGIN:VTIMEZONE
TZID:America/Los_Angeles
BEGIN:DAYLIGHT
TZOFFSETFROM:-0800
TZOFFSETTO:-0700
TZNAME:PDT
DTSTART:20250309T100000
END:DAYLIGHT
BEGIN:STANDARD
TZOFFSETFROM:-0700
TZOFFSETTO:-0800
TZNAME:PST
DTSTART:20251102T090000
END:STANDARD
BEGIN:DAYLIGHT
TZOFFSETFROM:-0800
TZOFFSETTO:-0700
TZNAME:PDT
DTSTART:20260308T100000
END:DAYLIGHT
BEGIN:STANDARD
TZOFFSETFROM:-0700
TZOFFSETTO:-0800
TZNAME:PST
DTSTART:20261101T090000
END:STANDARD
BEGIN:DAYLIGHT
TZOFFSETFROM:-0800
TZOFFSETTO:-0700
TZNAME:PDT
DTSTART:20270314T100000
END:DAYLIGHT
BEGIN:STANDARD
TZOFFSETFROM:-0700
TZOFFSETTO:-0800
TZNAME:PST
DTSTART:20271107T090000
END:STANDARD
END:VTIMEZONE
BEGIN:VEVENT
DTSTART;TZID=America/Los_Angeles:20260522T053000
DTEND;TZID=America/Los_Angeles:20260522T063000
DTSTAMP:20260424T014147
CREATED:20260415T192534Z
LAST-MODIFIED:20260415T192534Z
UID:10002651-1779427800-1779431400@bishoplocal.com
SUMMARY:Weightlifting (BTB)
DESCRIPTION:Barbell weightlifting class at Bishop Strength with Jared Waasdorp.
URL:https://bishoplocal.com/event/weightlifting-btb-19/
LOCATION:Bishop Strength\, 162 Willow St\, Bishop\, 93514\, USA
CATEGORIES:Wellness
END:VEVENT
BEGIN:VEVENT
DTSTART;TZID=America/Los_Angeles:20260522T090000
DTEND;TZID=America/Los_Angeles:20260525T140000
DTSTAMP:20260424T014147
CREATED:20260409T203205Z
LAST-MODIFIED:20260409T223020Z
UID:10001682-1779440400-1779717600@bishoplocal.com
SUMMARY:Memorial Day Weekend Arts & Crafts Fair
DESCRIPTION:Four-day arts and crafts show in Bishop City Park running alongside the Mule Days celebration. Features approximately 100 artists selling photography\, jewelry\, woodworking\, watercolors\, sculpture\, clothing\, and more. Food vendors and free musical entertainment on Sunday.
URL:https://bishoplocal.com/event/memorial-day-weekend-arts-crafts-fair/
LOCATION:Bishop City Park\, 690 N Main St\, Bishop\, CA\, 93514\, United States
CATEGORIES:arts-culture
ATTACH;FMTTYPE=image/jpeg:https://bishoplocal.com/wp-content/uploads/2026/04/IMG_0462-1.jpg
END:VEVENT
BEGIN:VEVENT
DTSTART;TZID=America/Los_Angeles:20260522T100000
DTEND;TZID=America/Los_Angeles:20260522T105500
DTSTAMP:20260424T014147
CREATED:20260409T201921Z
LAST-MODIFIED:20260409T201921Z
UID:10002408-1779444000-1779447300@bishoplocal.com
SUMMARY:Gentle Flow Pilates
DESCRIPTION:All-levels reformer Pilates class using the reformer\, tower\, and stability chair. Suitable for all experience levels with options offered for beginners through advanced practitioners.
URL:https://bishoplocal.com/event/gentle-flow-pilates-18/
LOCATION:Hummingbird Movement Collective\, 126 N Main St\, Bishop\, 93514\, USA
CATEGORIES:Wellness
END:VEVENT
BEGIN:VEVENT
DTSTART;TZID=America/Los_Angeles:20260522T110000
DTEND;TZID=America/Los_Angeles:20260522T115500
DTSTAMP:20260424T014147
CREATED:20260409T201921Z
LAST-MODIFIED:20260409T201921Z
UID:10002409-1779447600-1779450900@bishoplocal.com
SUMMARY:Dynamic Flow Pilates
DESCRIPTION:Intermediate to advanced reformer Pilates class using the reformer\, Cadillac tower\, and stability chair. Best suited for Pilates-experienced clients or fit beginners.
URL:https://bishoplocal.com/event/dynamic-flow-pilates-16/
LOCATION:Hummingbird Movement Collective\, 126 N Main St\, Bishop\, 93514\, USA
CATEGORIES:Wellness
END:VEVENT
BEGIN:VEVENT
DTSTART;TZID=America/Los_Angeles:20260522T120000
DTEND;TZID=America/Los_Angeles:20260522T160000
DTSTAMP:20260424T014147
CREATED:20260409T202606Z
LAST-MODIFIED:20260409T202606Z
UID:10002024-1779451200-1779465600@bishoplocal.com
SUMMARY:Meet the Author of Deep Time in the Mono Lake Basin
DESCRIPTION:Book signing at the Eastern Sierra Visitor Center with historian Robert B. Marks\, author of Deep Time in the Mono Lake Basin\, a sweeping 10\,000-year history of the Mono Basin ecosystem.
URL:https://bishoplocal.com/event/meet-the-author-of-deep-time-in-the-mono-lake-basin/
LOCATION:Eastern Sierra Visitor Center\, US-395 and CA-136\, Lone Pine\, 93545
CATEGORIES:arts-culture
ATTACH;FMTTYPE=image/jpeg:https://bishoplocal.com/wp-content/uploads/2026/04/ESVC.jpg
END:VEVENT
BEGIN:VEVENT
DTSTART;TZID=America/Los_Angeles:20260522T150000
DTEND;TZID=America/Los_Angeles:20260522T155500
DTSTAMP:20260424T014147
CREATED:20260409T201921Z
LAST-MODIFIED:20260409T201921Z
UID:10002410-1779462000-1779465300@bishoplocal.com
SUMMARY:Dynamic Flow Pilates
DESCRIPTION:Intermediate to advanced reformer Pilates class using the reformer\, Cadillac tower\, and stability chair. Best suited for Pilates-experienced clients or fit beginners.
URL:https://bishoplocal.com/event/dynamic-flow-pilates-15/
LOCATION:Hummingbird Movement Collective\, 126 N Main St\, Bishop\, 93514\, USA
CATEGORIES:Wellness
END:VEVENT
BEGIN:VEVENT
DTSTART;TZID=America/Los_Angeles:20260522T170000
DTEND;TZID=America/Los_Angeles:20260522T183000
DTSTAMP:20260424T014147
CREATED:20260409T203116Z
LAST-MODIFIED:20260409T203116Z
UID:10001730-1779469200-1779474600@bishoplocal.com
SUMMARY:Heelers (8 up) Jiu Jitsu
DESCRIPTION:Jiu jitsu class for kids ages 8 and up. Builds on fundamentals with more detailed instruction\, situational rolling\, and self-defense preparation.
URL:https://bishoplocal.com/event/heelers-8-up-jiu-jitsu-21/
LOCATION:Cattle Dog Jiu Jitsu\, 364 Rose St\, Bishop\, CA\, 93514\, United States
CATEGORIES:sports-recreation
ATTACH;FMTTYPE=image/webp:https://bishoplocal.com/wp-content/uploads/2026/04/16643643750_9e92c5ccf0_o.webp
ORGANIZER;CN="Cattle Dog Jiu Jitsu":MAILTO:cattledogjiujitsu@gmail.com
END:VEVENT
BEGIN:VEVENT
DTSTART;TZID=America/Los_Angeles:20260522T173000
DTEND;TZID=America/Los_Angeles:20260522T183000
DTSTAMP:20260424T014147
CREATED:20260409T202817Z
LAST-MODIFIED:20260409T202817Z
UID:10001896-1779471000-1779474600@bishoplocal.com
SUMMARY:Friday Flow
DESCRIPTION:Friday evening yoga flow class offering a flowing vinyasa practice to close out the week. Held at Sierra Shanti Studio in Bishop.
URL:https://bishoplocal.com/event/friday-flow-7/
LOCATION:Sierra Shanti Studio\, 275B S Main St\, Bishop\, CA\, 93514\, United States
CATEGORIES:Wellness
ORGANIZER;CN="Sierra Shanti Studio":MAILTO:sierrashanti108@gmail.com
END:VEVENT
BEGIN:VEVENT
DTSTART;TZID=America/Los_Angeles:20260522T183000
DTEND;TZID=America/Los_Angeles:20260522T203000
DTSTAMP:20260424T014147
CREATED:20260409T203116Z
LAST-MODIFIED:20260409T203116Z
UID:10001731-1779474600-1779481800@bishoplocal.com
SUMMARY:Adult Combatives
DESCRIPTION:Adult combatives class allowing students to safely practice striking at controlled intensity with safety equipment\, building a complete self-defense system.
URL:https://bishoplocal.com/event/adult-combatives-7/
LOCATION:Cattle Dog Jiu Jitsu\, 364 Rose St\, Bishop\, CA\, 93514\, United States
CATEGORIES:sports-recreation
ATTACH;FMTTYPE=image/webp:https://bishoplocal.com/wp-content/uploads/2026/04/16643643750_9e92c5ccf0_o.webp
ORGANIZER;CN="Cattle Dog Jiu Jitsu":MAILTO:cattledogjiujitsu@gmail.com
END:VEVENT
BEGIN:VEVENT
DTSTART;TZID=America/Los_Angeles:20260523T080000
DTEND;TZID=America/Los_Angeles:20260523T084500
DTSTAMP:20260424T014147
CREATED:20260409T201913Z
LAST-MODIFIED:20260409T201913Z
UID:10002412-1779523200-1779525900@bishoplocal.com
SUMMARY:Spin
DESCRIPTION:Energizing indoor cycling class combining music\, motivating coaching\, and interval-based cycling drills for a full-body cardiovascular workout.
URL:https://bishoplocal.com/event/spin-5/
LOCATION:Hummingbird Movement Collective\, 126 N Main St\, Bishop\, 93514\, USA
CATEGORIES:Wellness
END:VEVENT
BEGIN:VEVENT
DTSTART;TZID=America/Los_Angeles:20260523T080000
DTEND;TZID=America/Los_Angeles:20260523T085500
DTSTAMP:20260424T014147
CREATED:20260409T201913Z
LAST-MODIFIED:20260409T201913Z
UID:10002411-1779523200-1779526500@bishoplocal.com
SUMMARY:Weight Lifting
DESCRIPTION:Small-group weight lifting class with simple programming and progressive instruction. Great for beginners or those who prefer a small-group setting for personalized guidance.
URL:https://bishoplocal.com/event/weight-lifting-10/
LOCATION:Hummingbird Movement Collective\, 126 N Main St\, Bishop\, 93514\, USA
CATEGORIES:Wellness
END:VEVENT
BEGIN:VEVENT
DTSTART;TZID=America/Los_Angeles:20260523T080000
DTEND;TZID=America/Los_Angeles:20260523T093000
DTSTAMP:20260424T014147
CREATED:20260409T202907Z
LAST-MODIFIED:20260409T202907Z
UID:10001853-1779523200-1779528600@bishoplocal.com
SUMMARY:Iyengar Yoga
DESCRIPTION:Iyengar yoga class focusing on proper alignment\, precision\, and the use of props. Suitable for all ages and abilities\, taught by a certified Iyengar yoga instructor at Bishop Yoga & Pilates Center.
URL:https://bishoplocal.com/event/iyengar-yoga-13/
LOCATION:Bishop Yoga & Pilates Center\, 621 W. Line St. #203\, Bishop\, CA\, 93514\, United States
CATEGORIES:Wellness
END:VEVENT
BEGIN:VEVENT
DTSTART;TZID=America/Los_Angeles:20260523T080000
DTEND;TZID=America/Los_Angeles:20260523T160000
DTSTAMP:20260424T014147
CREATED:20260422T140327Z
LAST-MODIFIED:20260422T140329Z
UID:10002673-1779523200-1779552000@bishoplocal.com
SUMMARY:Cerro Gordo Silver Run
DESCRIPTION:An 8-mile uphill trail race climbing 4\,600 vertical feet up the historic Cerro Gordo Road to the ghost town of Cerro Gordo\, once the richest silver mine in California. The road was carved out in 1865 to shuttle silver down from the mountains; once a year\, runners race back up. Aid stations are stocked every mile. Finishers receive a limited-edition Silver Run 2026 shirt and medal\, and the winner’s name is engraved in silver and enshrined in Cerro Gordo’s history. Shuttle vans bring runners back down. At the summit\, celebrate with a mountaintop BBQ\, live music\, games\, and self-guided exploration of the abandoned town. There is no time limit. Start time 8:00 AM; check-in by 6:30 AM. Registration required. Register here: https://runsignup.com/Race/CA/Keeler/CerroGordoSilverRun
URL:https://bishoplocal.com/event/cerro-gordo-silver-run/
LOCATION:Cerro Gordo\, Cerro Gordo Road\, Keeler\, 93530\, Uganda
CATEGORIES:Sports & Recreation|Outdoors & Nature
END:VEVENT
BEGIN:VEVENT
DTSTART;TZID=America/Los_Angeles:20260523T090000
DTEND;TZID=America/Los_Angeles:20260523T095500
DTSTAMP:20260424T014147
CREATED:20260409T201913Z
LAST-MODIFIED:20260409T201913Z
UID:10002413-1779526800-1779530100@bishoplocal.com
SUMMARY:Dynamic Flow Pilates
DESCRIPTION:Intermediate to advanced reformer Pilates class using the reformer\, Cadillac tower\, and stability chair. Best suited for Pilates-experienced clients or fit beginners.
URL:https://bishoplocal.com/event/dynamic-flow-pilates-14/
LOCATION:Hummingbird Movement Collective\, 126 N Main St\, Bishop\, 93514\, USA
CATEGORIES:Wellness
END:VEVENT
BEGIN:VEVENT
DTSTART;TZID=America/Los_Angeles:20260523T090000
DTEND;TZID=America/Los_Angeles:20260523T101500
DTSTAMP:20260424T014147
CREATED:20260409T202817Z
LAST-MODIFIED:20260409T202817Z
UID:10001897-1779526800-1779531300@bishoplocal.com
SUMMARY:Foundational Flow
DESCRIPTION:Saturday morning foundational yoga flow class focusing on alignment\, breath\, and core movement patterns. Held at Sierra Shanti Studio in Bishop.
URL:https://bishoplocal.com/event/foundational-flow-8/
LOCATION:Sierra Shanti Studio\, 275B S Main St\, Bishop\, CA\, 93514\, United States
CATEGORIES:Wellness
ORGANIZER;CN="Sierra Shanti Studio":MAILTO:sierrashanti108@gmail.com
END:VEVENT
BEGIN:VEVENT
DTSTART;TZID=America/Los_Angeles:20260523T100000
DTEND;TZID=America/Los_Angeles:20260523T105500
DTSTAMP:20260424T014147
CREATED:20260409T201912Z
LAST-MODIFIED:20260409T201912Z
UID:10002414-1779530400-1779533700@bishoplocal.com
SUMMARY:Gentle Flow Pilates
DESCRIPTION:All-levels reformer Pilates class using the reformer\, tower\, and stability chair. Suitable for all experience levels with options offered for beginners through advanced practitioners.
URL:https://bishoplocal.com/event/gentle-flow-pilates-17/
LOCATION:Hummingbird Movement Collective\, 126 N Main St\, Bishop\, 93514\, USA
CATEGORIES:Wellness
END:VEVENT
BEGIN:VEVENT
DTSTART;TZID=America/Los_Angeles:20260523T100000
DTEND;TZID=America/Los_Angeles:20260523T130000
DTSTAMP:20260424T014147
CREATED:20260409T203205Z
LAST-MODIFIED:20260409T223020Z
UID:10001683-1779530400-1779541200@bishoplocal.com
SUMMARY:Mule Days Parade
DESCRIPTION:Parade on Main Street in Bishop running south to north from High Country Lumber to the Tri-County Fairgrounds. Part of the annual Mule Days celebration.
URL:https://bishoplocal.com/event/mule-days-parade/
LOCATION:Tri-County Fairgrounds\, 475 Sierra St\, Bishop\, CA\, 93514\, United States
CATEGORIES:Community
END:VEVENT
BEGIN:VEVENT
DTSTART;TZID=America/Los_Angeles:20260523T110000
DTEND;TZID=America/Los_Angeles:20260523T115500
DTSTAMP:20260424T014147
CREATED:20260409T201912Z
LAST-MODIFIED:20260409T201912Z
UID:10002415-1779534000-1779537300@bishoplocal.com
SUMMARY:Weight Lifting
DESCRIPTION:Small-group weight lifting class with simple programming and progressive instruction. Great for beginners or those who prefer a small-group setting for personalized guidance.
URL:https://bishoplocal.com/event/weight-lifting-9/
LOCATION:Hummingbird Movement Collective\, 126 N Main St\, Bishop\, 93514\, USA
CATEGORIES:Wellness
END:VEVENT
BEGIN:VEVENT
DTSTART;TZID=America/Los_Angeles:20260523T170000
DTEND;TZID=America/Los_Angeles:20260523T210000
DTSTAMP:20260424T014147
CREATED:20260409T202451Z
LAST-MODIFIED:20260409T202451Z
UID:10002095-1779555600-1779570000@bishoplocal.com
SUMMARY:Cloudripper Pop-Up Dinner
DESCRIPTION:Weekly pop-up dinner at Owens Valley Distilling Company. Rotating menu featuring East and Southeast Asian food\, falafel bowls\, and seasonal dishes made with local ingredients. Check @cloudripperbishop on Instagram for this week’s menu.
URL:https://bishoplocal.com/event/cloudripper-pop-up-dinner-3/
LOCATION:Owens Valley Distilling Company\, 237 E South Street\, Bishop\, 442-228-5041\, 93514
CATEGORIES:food-drink
END:VEVENT
BEGIN:VEVENT
DTSTART;TZID=America/Los_Angeles:20260524T080000
DTEND;TZID=America/Los_Angeles:20260524T090000
DTSTAMP:20260424T014147
CREATED:20260409T202906Z
LAST-MODIFIED:20260409T202906Z
UID:10001854-1779609600-1779613200@bishoplocal.com
SUMMARY:Mat/Springwall Pilates
DESCRIPTION:Mat and springwall Pilates class focusing on core strength\, body alignment\, mobility\, and breathing. Taught in the Stott Pilates method at Bishop Yoga & Pilates Center.
URL:https://bishoplocal.com/event/mat-springwall-pilates-12/
LOCATION:Bishop Yoga & Pilates Center\, 621 W. Line St. #203\, Bishop\, CA\, 93514\, United States
CATEGORIES:Wellness
END:VEVENT
BEGIN:VEVENT
DTSTART;TZID=America/Los_Angeles:20260524T080000
DTEND;TZID=America/Los_Angeles:20260524T120000
DTSTAMP:20260424T014147
CREATED:20260409T202507Z
LAST-MODIFIED:20260409T202507Z
UID:10002081-1779609600-1779624000@bishoplocal.com
SUMMARY:Coffee Church
DESCRIPTION:Weekly pop-up cafe at Indy Coffee Roasting Company. Organic European-style pour-overs\, Mexican and Scandinavian coffee drinks\, and artisan pastries. Enter at Lagoon Street behind Luxe Salon.
URL:https://bishoplocal.com/event/coffee-church-2/
LOCATION:Indy Coffee Roasting Company\, 307 S Main St\, Bishop\, CA\, 93514\, United States
CATEGORIES:food-drink
END:VEVENT
BEGIN:VEVENT
DTSTART;TZID=America/Los_Angeles:20260524T090000
DTEND;TZID=America/Los_Angeles:20260524T100000
DTSTAMP:20260424T014147
CREATED:20260409T202817Z
LAST-MODIFIED:20260409T202817Z
UID:10001898-1779613200-1779616800@bishoplocal.com
SUMMARY:Community Class - Donation Based
DESCRIPTION:Donation-based community yoga class open to all levels and abilities. Held at Sierra Shanti Studio in Bishop.
URL:https://bishoplocal.com/event/community-class-donation-based-8/
LOCATION:Sierra Shanti Studio\, 275B S Main St\, Bishop\, CA\, 93514\, United States
CATEGORIES:Wellness
ORGANIZER;CN="Sierra Shanti Studio":MAILTO:sierrashanti108@gmail.com
END:VEVENT
BEGIN:VEVENT
DTSTART;TZID=America/Los_Angeles:20260524T093000
DTEND;TZID=America/Los_Angeles:20260524T102500
DTSTAMP:20260424T014147
CREATED:20260409T201912Z
LAST-MODIFIED:20260409T201912Z
UID:10002416-1779615000-1779618300@bishoplocal.com
SUMMARY:Dynamic Flow Pilates
DESCRIPTION:Intermediate to advanced reformer Pilates class using the reformer\, Cadillac tower\, and stability chair. Best suited for Pilates-experienced clients or fit beginners.
URL:https://bishoplocal.com/event/dynamic-flow-pilates-13/
LOCATION:Hummingbird Movement Collective\, 126 N Main St\, Bishop\, 93514\, USA
CATEGORIES:Wellness
END:VEVENT
BEGIN:VEVENT
DTSTART;TZID=America/Los_Angeles:20260524T103000
DTEND;TZID=America/Los_Angeles:20260524T112500
DTSTAMP:20260424T014147
CREATED:20260409T201912Z
LAST-MODIFIED:20260409T201912Z
UID:10002417-1779618600-1779621900@bishoplocal.com
SUMMARY:GYROKINESIS
DESCRIPTION:Full-body movement workout accessible to athletes\, seniors\, and those recovering from injury. Focuses on fluid\, rhythmic sequences to improve mobility and coordination.
URL:https://bishoplocal.com/event/gyrokinesis-2/
LOCATION:Hummingbird Movement Collective\, 126 N Main St\, Bishop\, 93514\, USA
CATEGORIES:Wellness
END:VEVENT
BEGIN:VEVENT
DTSTART;TZID=America/Los_Angeles:20260524T113000
DTEND;TZID=America/Los_Angeles:20260524T122500
DTSTAMP:20260424T014147
CREATED:20260409T201912Z
LAST-MODIFIED:20260409T201912Z
UID:10002418-1779622200-1779625500@bishoplocal.com
SUMMARY:Dynamic Flow Pilates
DESCRIPTION:Intermediate to advanced reformer Pilates class using the reformer\, Cadillac tower\, and stability chair. Best suited for Pilates-experienced clients or fit beginners.
URL:https://bishoplocal.com/event/dynamic-flow-pilates-12/
LOCATION:Hummingbird Movement Collective\, 126 N Main St\, Bishop\, 93514\, USA
CATEGORIES:Wellness
END:VEVENT
BEGIN:VEVENT
DTSTART;TZID=America/Los_Angeles:20260524T130000
DTEND;TZID=America/Los_Angeles:20260524T135500
DTSTAMP:20260424T014147
CREATED:20260409T201905Z
LAST-MODIFIED:20260409T201905Z
UID:10002419-1779627600-1779630900@bishoplocal.com
SUMMARY:Cardio Tramp Pilates
DESCRIPTION:High-energy Pilates class using the cardio tramp reformer for plyometric movement on a soft landing surface. Designed for those looking to sweat and build cardiovascular endurance.
URL:https://bishoplocal.com/event/cardio-tramp-pilates-2/
LOCATION:Hummingbird Movement Collective\, 126 N Main St\, Bishop\, 93514\, USA
CATEGORIES:Wellness
END:VEVENT
BEGIN:VEVENT
DTSTART;TZID=America/Los_Angeles:20260524T150000
DTEND;TZID=America/Los_Angeles:20260524T170000
DTSTAMP:20260424T014147
CREATED:20260409T203116Z
LAST-MODIFIED:20260409T203116Z
UID:10001732-1779634800-1779642000@bishoplocal.com
SUMMARY:Womens Only Jiu Jitsu
DESCRIPTION:Women-only jiu jitsu class focused on fundamentals and self-defense in a supportive environment.
URL:https://bishoplocal.com/event/womens-only-jiu-jitsu-8/
LOCATION:Cattle Dog Jiu Jitsu\, 364 Rose St\, Bishop\, CA\, 93514\, United States
CATEGORIES:sports-recreation
ATTACH;FMTTYPE=image/webp:https://bishoplocal.com/wp-content/uploads/2026/04/16643643750_9e92c5ccf0_o.webp
ORGANIZER;CN="Cattle Dog Jiu Jitsu":MAILTO:cattledogjiujitsu@gmail.com
END:VEVENT
BEGIN:VEVENT
DTSTART;TZID=America/Los_Angeles:20260524T170000
DTEND;TZID=America/Los_Angeles:20260524T181500
DTSTAMP:20260424T014147
CREATED:20260415T192535Z
LAST-MODIFIED:20260415T192535Z
UID:10002658-1779642000-1779646500@bishoplocal.com
SUMMARY:Ashtanga Vinyasa
DESCRIPTION:Ashtanga vinyasa yoga class at Bishop Strength with Jen Fitzwater.
URL:https://bishoplocal.com/event/ashtanga-vinyasa-6/
LOCATION:Bishop Strength\, 162 Willow St\, Bishop\, 93514\, USA
CATEGORIES:Wellness
END:VEVENT
BEGIN:VEVENT
DTSTART;TZID=America/Los_Angeles:20260524T170000
DTEND;TZID=America/Los_Angeles:20260524T183000
DTSTAMP:20260424T014147
CREATED:20260409T203116Z
LAST-MODIFIED:20260409T203116Z
UID:10001733-1779642000-1779647400@bishoplocal.com
SUMMARY:All Ages Open Mat
DESCRIPTION:Open mat sparring session for all ages. An opportunity to practice skills learned in class through live rolling.
URL:https://bishoplocal.com/event/all-ages-open-mat-8/
LOCATION:Cattle Dog Jiu Jitsu\, 364 Rose St\, Bishop\, CA\, 93514\, United States
CATEGORIES:sports-recreation
ATTACH;FMTTYPE=image/webp:https://bishoplocal.com/wp-content/uploads/2026/04/16643643750_9e92c5ccf0_o.webp
ORGANIZER;CN="Cattle Dog Jiu Jitsu":MAILTO:cattledogjiujitsu@gmail.com
END:VEVENT
BEGIN:VEVENT
DTSTART;TZID=America/Los_Angeles:20260524T173000
DTEND;TZID=America/Los_Angeles:20260524T183000
DTSTAMP:20260424T014147
CREATED:20260409T202817Z
LAST-MODIFIED:20260409T202817Z
UID:10001899-1779643800-1779647400@bishoplocal.com
SUMMARY:Restorative Yoga for Athletes: Sunday Flow
DESCRIPTION:Restorative yoga class designed for athletes\, focusing on recovery\, flexibility\, and deep relaxation. Held at Sierra Shanti Studio in Bishop.
URL:https://bishoplocal.com/event/restorative-yoga-for-athletes-sunday-flow-8/
LOCATION:Sierra Shanti Studio\, 275B S Main St\, Bishop\, CA\, 93514\, United States
CATEGORIES:Wellness
ORGANIZER;CN="Sierra Shanti Studio":MAILTO:sierrashanti108@gmail.com
END:VEVENT
END:VCALENDAR