BEGIN:VCALENDAR
VERSION:2.0
PRODID:-//BishopLocal.com - ECPv6.15.18//NONSGML v1.0//EN
CALSCALE:GREGORIAN
METHOD:PUBLISH
X-WR-CALNAME:BishopLocal.com
X-ORIGINAL-URL:https://bishoplocal.com
X-WR-CALDESC:Events for BishopLocal.com
REFRESH-INTERVAL;VALUE=DURATION:PT1H
X-Robots-Tag:noindex
X-PUBLISHED-TTL:PT1H
BEGIN:VTIMEZONE
TZID:America/Los_Angeles
BEGIN:DAYLIGHT
TZOFFSETFROM:-0800
TZOFFSETTO:-0700
TZNAME:PDT
DTSTART:20250309T100000
END:DAYLIGHT
BEGIN:STANDARD
TZOFFSETFROM:-0700
TZOFFSETTO:-0800
TZNAME:PST
DTSTART:20251102T090000
END:STANDARD
BEGIN:DAYLIGHT
TZOFFSETFROM:-0800
TZOFFSETTO:-0700
TZNAME:PDT
DTSTART:20260308T100000
END:DAYLIGHT
BEGIN:STANDARD
TZOFFSETFROM:-0700
TZOFFSETTO:-0800
TZNAME:PST
DTSTART:20261101T090000
END:STANDARD
BEGIN:DAYLIGHT
TZOFFSETFROM:-0800
TZOFFSETTO:-0700
TZNAME:PDT
DTSTART:20270314T100000
END:DAYLIGHT
BEGIN:STANDARD
TZOFFSETFROM:-0700
TZOFFSETTO:-0800
TZNAME:PST
DTSTART:20271107T090000
END:STANDARD
END:VTIMEZONE
BEGIN:VEVENT
DTSTART;TZID=America/Los_Angeles:20260527T120000
DTEND;TZID=America/Los_Angeles:20260527T124500
DTSTAMP:20260420T051120
CREATED:20260409T202825Z
LAST-MODIFIED:20260409T202825Z
UID:10001890-1779883200-1779885900@bishoplocal.com
SUMMARY:Lunch Vinyasa Flow
DESCRIPTION:Midday vinyasa yoga flow class for an energizing lunchtime movement practice. Held at Sierra Shanti Studio in Bishop.
URL:https://bishoplocal.com/event/lunch-vinyasa-flow-15/
LOCATION:Sierra Shanti Studio\, 275B S Main St\, Bishop\, CA\, 93514\, United States
CATEGORIES:Wellness
ORGANIZER;CN="Sierra Shanti Studio":MAILTO:sierrashanti108@gmail.com
END:VEVENT
BEGIN:VEVENT
DTSTART;TZID=America/Los_Angeles:20260527T120000
DTEND;TZID=America/Los_Angeles:20260527T125500
DTSTAMP:20260420T051120
CREATED:20260409T201848Z
LAST-MODIFIED:20260409T201848Z
UID:10002441-1779883200-1779886500@bishoplocal.com
SUMMARY:Dynamic Flow Pilates
DESCRIPTION:Intermediate to advanced reformer Pilates class using the reformer\, Cadillac tower\, and stability chair. Best suited for Pilates-experienced clients or fit beginners.
URL:https://bishoplocal.com/event/dynamic-flow-pilates-8/
LOCATION:Hummingbird Movement Collective\, 126 N Main St\, Bishop\, 93514\, USA
CATEGORIES:Wellness
END:VEVENT
BEGIN:VEVENT
DTSTART;TZID=America/Los_Angeles:20260527T120000
DTEND;TZID=America/Los_Angeles:20260527T140000
DTSTAMP:20260420T051120
CREATED:20260409T203116Z
LAST-MODIFIED:20260409T203116Z
UID:10001727-1779883200-1779890400@bishoplocal.com
SUMMARY:Adult Jiu Jitsu
DESCRIPTION:Adult jiu jitsu class open to all levels. Covers fundamentals and self-defense philosophy with situational and live sparring.
URL:https://bishoplocal.com/event/adult-jiu-jitsu-8/
LOCATION:Cattle Dog Jiu Jitsu\, 364 Rose St\, Bishop\, CA\, 93514\, United States
CATEGORIES:sports-recreation
ATTACH;FMTTYPE=image/webp:https://bishoplocal.com/wp-content/uploads/2026/04/16643643750_9e92c5ccf0_o.webp
ORGANIZER;CN="Cattle Dog Jiu Jitsu":MAILTO:cattledogjiujitsu@gmail.com
END:VEVENT
BEGIN:VEVENT
DTSTART;TZID=America/Los_Angeles:20260527T163000
DTEND;TZID=America/Los_Angeles:20260527T172500
DTSTAMP:20260420T051120
CREATED:20260409T201848Z
LAST-MODIFIED:20260409T201848Z
UID:10002442-1779899400-1779902700@bishoplocal.com
SUMMARY:Gentle Flow Pilates
DESCRIPTION:All-levels reformer Pilates class using the reformer\, tower\, and stability chair. Suitable for all experience levels with options offered for beginners through advanced practitioners.
URL:https://bishoplocal.com/event/gentle-flow-pilates-6/
LOCATION:Hummingbird Movement Collective\, 126 N Main St\, Bishop\, 93514\, USA
CATEGORIES:Wellness
END:VEVENT
BEGIN:VEVENT
DTSTART;TZID=America/Los_Angeles:20260527T171500
DTEND;TZID=America/Los_Angeles:20260527T183000
DTSTAMP:20260420T051120
CREATED:20260415T192446Z
LAST-MODIFIED:20260415T192446Z
UID:10002615-1779902100-1779906600@bishoplocal.com
SUMMARY:The Practice
DESCRIPTION:Yoga-based movement practice at Bishop Strength with Sonia Peltzer.
URL:https://bishoplocal.com/event/the-practice-7/
LOCATION:Bishop Strength\, 162 Willow St\, Bishop\, 93514\, USA
CATEGORIES:Wellness
END:VEVENT
BEGIN:VEVENT
DTSTART;TZID=America/Los_Angeles:20260527T173000
DTEND;TZID=America/Los_Angeles:20260527T182500
DTSTAMP:20260420T051120
CREATED:20260409T201841Z
LAST-MODIFIED:20260409T201841Z
UID:10002443-1779903000-1779906300@bishoplocal.com
SUMMARY:Dynamic Flow Pilates
DESCRIPTION:Intermediate to advanced reformer Pilates class using the reformer\, Cadillac tower\, and stability chair. Best suited for Pilates-experienced clients or fit beginners.
URL:https://bishoplocal.com/event/dynamic-flow-pilates-7/
LOCATION:Hummingbird Movement Collective\, 126 N Main St\, Bishop\, 93514\, USA
CATEGORIES:Wellness
END:VEVENT
BEGIN:VEVENT
DTSTART;TZID=America/Los_Angeles:20260527T173000
DTEND;TZID=America/Los_Angeles:20260527T183000
DTSTAMP:20260420T051120
CREATED:20260415T192446Z
LAST-MODIFIED:20260415T192446Z
UID:10002616-1779903000-1779906600@bishoplocal.com
SUMMARY:Conditioning
DESCRIPTION:Conditioning class at Bishop Strength with Noah Erlin.
URL:https://bishoplocal.com/event/conditioning-13/
LOCATION:Bishop Strength\, 162 Willow St\, Bishop\, 93514\, USA
CATEGORIES:Wellness
END:VEVENT
BEGIN:VEVENT
DTSTART;TZID=America/Los_Angeles:20260527T173000
DTEND;TZID=America/Los_Angeles:20260527T184500
DTSTAMP:20260420T051120
CREATED:20260409T202825Z
LAST-MODIFIED:20260409T202825Z
UID:10001891-1779903000-1779907500@bishoplocal.com
SUMMARY:Shakti Vinyasa Flow
DESCRIPTION:Energizing Shakti vinyasa yoga flow blending movement with strength-building sequences. Held at Sierra Shanti Studio in Bishop.
URL:https://bishoplocal.com/event/shakti-vinyasa-flow-8/
LOCATION:Sierra Shanti Studio\, 275B S Main St\, Bishop\, CA\, 93514\, United States
CATEGORIES:Wellness
ORGANIZER;CN="Sierra Shanti Studio":MAILTO:sierrashanti108@gmail.com
END:VEVENT
BEGIN:VEVENT
DTSTART;TZID=America/Los_Angeles:20260527T183000
DTEND;TZID=America/Los_Angeles:20260527T193000
DTSTAMP:20260420T051120
CREATED:20260415T192446Z
LAST-MODIFIED:20260415T192446Z
UID:10002617-1779906600-1779910200@bishoplocal.com
SUMMARY:Conditioning
DESCRIPTION:Conditioning class at Bishop Strength with Noah Erlin. Second session.
URL:https://bishoplocal.com/event/conditioning-14/
LOCATION:Bishop Strength\, 162 Willow St\, Bishop\, 93514\, USA
CATEGORIES:Wellness
END:VEVENT
BEGIN:VEVENT
DTSTART;TZID=America/Los_Angeles:20260527T183000
DTEND;TZID=America/Los_Angeles:20260527T203000
DTSTAMP:20260420T051120
CREATED:20260409T203132Z
LAST-MODIFIED:20260409T203132Z
UID:10001716-1779906600-1779913800@bishoplocal.com
SUMMARY:Adult Judo
DESCRIPTION:Adult judo class open to all levels. Practiced in the gi with focus on throws\, takedowns\, and groundwork.
URL:https://bishoplocal.com/event/adult-judo-8/
LOCATION:Cattle Dog Jiu Jitsu\, 364 Rose St\, Bishop\, CA\, 93514\, United States
CATEGORIES:sports-recreation
ATTACH;FMTTYPE=image/webp:https://bishoplocal.com/wp-content/uploads/2026/04/16643643750_9e92c5ccf0_o.webp
ORGANIZER;CN="Cattle Dog Jiu Jitsu":MAILTO:cattledogjiujitsu@gmail.com
END:VEVENT
BEGIN:VEVENT
DTSTART;TZID=America/Los_Angeles:20260528T051500
DTEND;TZID=America/Los_Angeles:20260528T061500
DTSTAMP:20260420T051120
CREATED:20260415T192516Z
LAST-MODIFIED:20260415T192516Z
UID:10002642-1779945300-1779948900@bishoplocal.com
SUMMARY:Bootcamp
DESCRIPTION:Bootcamp class at Bishop Strength with Kelly Ludwick.
URL:https://bishoplocal.com/event/bootcamp-25/
LOCATION:Bishop Strength\, 162 Willow St\, Bishop\, 93514\, USA
CATEGORIES:Wellness
END:VEVENT
BEGIN:VEVENT
DTSTART;TZID=America/Los_Angeles:20260528T064500
DTEND;TZID=America/Los_Angeles:20260528T074000
DTSTAMP:20260420T051120
CREATED:20260409T201841Z
LAST-MODIFIED:20260409T201841Z
UID:10002444-1779950700-1779954000@bishoplocal.com
SUMMARY:Dynamic Flow Pilates
DESCRIPTION:Intermediate to advanced reformer Pilates class using the reformer\, Cadillac tower\, and stability chair. Best suited for Pilates-experienced clients or fit beginners.
URL:https://bishoplocal.com/event/dynamic-flow-pilates-6/
LOCATION:Hummingbird Movement Collective\, 126 N Main St\, Bishop\, 93514\, USA
CATEGORIES:Wellness
END:VEVENT
BEGIN:VEVENT
DTSTART;TZID=America/Los_Angeles:20260528T070000
DTEND;TZID=America/Los_Angeles:20260528T074500
DTSTAMP:20260420T051120
CREATED:20260409T202914Z
LAST-MODIFIED:20260409T202914Z
UID:10001843-1779951600-1779954300@bishoplocal.com
SUMMARY:Vipassana Meditation
DESCRIPTION:Vipassana insight meditation class in the Buddhist tradition focusing on self-awareness and mindful observation. Donation-based class at Bishop Yoga & Pilates Center.
URL:https://bishoplocal.com/event/vipassana-meditation-8/
LOCATION:Bishop Yoga & Pilates Center\, 621 W. Line St. #203\, Bishop\, CA\, 93514\, United States
CATEGORIES:Wellness
END:VEVENT
BEGIN:VEVENT
DTSTART;TZID=America/Los_Angeles:20260528T070000
DTEND;TZID=America/Los_Angeles:20260528T080000
DTSTAMP:20260420T051120
CREATED:20260409T202825Z
LAST-MODIFIED:20260409T202825Z
UID:10001892-1779951600-1779955200@bishoplocal.com
SUMMARY:Wake Up & Flow Vinyasa
DESCRIPTION:Early morning vinyasa yoga class to start the day with flowing movement and mindful practice. Held at Sierra Shanti Studio in Bishop.
URL:https://bishoplocal.com/event/wake-up-flow-vinyasa-8/
LOCATION:Sierra Shanti Studio\, 275B S Main St\, Bishop\, CA\, 93514\, United States
CATEGORIES:Wellness
ORGANIZER;CN="Sierra Shanti Studio":MAILTO:sierrashanti108@gmail.com
END:VEVENT
BEGIN:VEVENT
DTSTART;TZID=America/Los_Angeles:20260528T080000
DTEND;TZID=America/Los_Angeles:20260528T090000
DTSTAMP:20260420T051120
CREATED:20260409T202914Z
LAST-MODIFIED:20260409T202914Z
UID:10001844-1779955200-1779958800@bishoplocal.com
SUMMARY:Mat/Springwall Pilates
DESCRIPTION:Mat and springwall Pilates class focusing on core strength\, body alignment\, mobility\, and breathing. Taught in the Stott Pilates method at Bishop Yoga & Pilates Center.
URL:https://bishoplocal.com/event/mat-springwall-pilates-17/
LOCATION:Bishop Yoga & Pilates Center\, 621 W. Line St. #203\, Bishop\, CA\, 93514\, United States
CATEGORIES:Wellness
END:VEVENT
BEGIN:VEVENT
DTSTART;TZID=America/Los_Angeles:20260528T081500
DTEND;TZID=America/Los_Angeles:20260528T091000
DTSTAMP:20260420T051120
CREATED:20260409T201841Z
LAST-MODIFIED:20260409T201841Z
UID:10002445-1779956100-1779959400@bishoplocal.com
SUMMARY:Spin & Strength
DESCRIPTION:A dynamic blend of cycling and strength training for a balanced full-body workout. Combines heart-pumping cycling intervals with strength exercises.
URL:https://bishoplocal.com/event/spin-strength/
LOCATION:Hummingbird Movement Collective\, 126 N Main St\, Bishop\, 93514\, USA
CATEGORIES:Wellness
END:VEVENT
BEGIN:VEVENT
DTSTART;TZID=America/Los_Angeles:20260528T083000
DTEND;TZID=America/Los_Angeles:20260528T093000
DTSTAMP:20260420T051120
CREATED:20260415T192524Z
LAST-MODIFIED:20260415T192524Z
UID:10002643-1779957000-1779960600@bishoplocal.com
SUMMARY:Bootcamp
DESCRIPTION:Morning bootcamp class at Bishop Strength with Kelly Ludwick.
URL:https://bishoplocal.com/event/bootcamp-26/
LOCATION:Bishop Strength\, 162 Willow St\, Bishop\, 93514\, USA
CATEGORIES:Wellness
END:VEVENT
BEGIN:VEVENT
DTSTART;TZID=America/Los_Angeles:20260528T090000
DTEND;TZID=America/Los_Angeles:20260528T095500
DTSTAMP:20260420T051120
CREATED:20260409T201841Z
LAST-MODIFIED:20260409T201841Z
UID:10002446-1779958800-1779962100@bishoplocal.com
SUMMARY:Gentle Flow Pilates
DESCRIPTION:All-levels reformer Pilates class using the reformer\, tower\, and stability chair. Suitable for all experience levels with options offered for beginners through advanced practitioners.
URL:https://bishoplocal.com/event/gentle-flow-pilates-5/
LOCATION:Hummingbird Movement Collective\, 126 N Main St\, Bishop\, 93514\, USA
CATEGORIES:Wellness
END:VEVENT
BEGIN:VEVENT
DTSTART;TZID=America/Los_Angeles:20260528T091500
DTEND;TZID=America/Los_Angeles:20260528T101000
DTSTAMP:20260420T051120
CREATED:20260409T201841Z
LAST-MODIFIED:20260409T201841Z
UID:10002447-1779959700-1779963000@bishoplocal.com
SUMMARY:Weight Lifting
DESCRIPTION:Small-group weight lifting class with simple programming and progressive instruction. Great for beginners or those who prefer a small-group setting for personalized guidance.
URL:https://bishoplocal.com/event/weight-lifting-5/
LOCATION:Hummingbird Movement Collective\, 126 N Main St\, Bishop\, 93514\, USA
CATEGORIES:Wellness
END:VEVENT
BEGIN:VEVENT
DTSTART;TZID=America/Los_Angeles:20260528T100000
DTEND;TZID=America/Los_Angeles:20260528T105500
DTSTAMP:20260420T051120
CREATED:20260409T201841Z
LAST-MODIFIED:20260409T201841Z
UID:10002448-1779962400-1779965700@bishoplocal.com
SUMMARY:Gentle Flow Pilates
DESCRIPTION:All-levels reformer Pilates class using the reformer\, tower\, and stability chair. Suitable for all experience levels with options offered for beginners through advanced practitioners.
URL:https://bishoplocal.com/event/gentle-flow-pilates-4/
LOCATION:Hummingbird Movement Collective\, 126 N Main St\, Bishop\, 93514\, USA
CATEGORIES:Wellness
END:VEVENT
BEGIN:VEVENT
DTSTART;TZID=America/Los_Angeles:20260528T101500
DTEND;TZID=America/Los_Angeles:20260528T111000
DTSTAMP:20260420T051120
CREATED:20260409T201840Z
LAST-MODIFIED:20260409T201840Z
UID:10002449-1779963300-1779966600@bishoplocal.com
SUMMARY:Weight Lifting
DESCRIPTION:Small-group weight lifting class with simple programming and progressive instruction. Great for beginners or those who prefer a small-group setting for personalized guidance.
URL:https://bishoplocal.com/event/weight-lifting-4/
LOCATION:Hummingbird Movement Collective\, 126 N Main St\, Bishop\, 93514\, USA
CATEGORIES:Wellness
END:VEVENT
BEGIN:VEVENT
DTSTART;TZID=America/Los_Angeles:20260528T111500
DTEND;TZID=America/Los_Angeles:20260528T121000
DTSTAMP:20260420T051120
CREATED:20260409T201840Z
LAST-MODIFIED:20260409T201840Z
UID:10002450-1779966900-1779970200@bishoplocal.com
SUMMARY:Weight Lifting
DESCRIPTION:Small-group weight lifting class with simple programming and progressive instruction. Great for beginners or those who prefer a small-group setting for personalized guidance.
URL:https://bishoplocal.com/event/weight-lifting-3/
LOCATION:Hummingbird Movement Collective\, 126 N Main St\, Bishop\, 93514\, USA
CATEGORIES:Wellness
END:VEVENT
BEGIN:VEVENT
DTSTART;TZID=America/Los_Angeles:20260528T120000
DTEND;TZID=America/Los_Angeles:20260528T125500
DTSTAMP:20260420T051120
CREATED:20260409T201833Z
LAST-MODIFIED:20260409T201833Z
UID:10002451-1779969600-1779972900@bishoplocal.com
SUMMARY:TRX
DESCRIPTION:TRX suspension training class for a full-body workout using bodyweight resistance.
URL:https://bishoplocal.com/event/trx-2/
LOCATION:Hummingbird Movement Collective\, 126 N Main St\, Bishop\, 93514\, USA
CATEGORIES:Wellness
END:VEVENT
BEGIN:VEVENT
DTSTART;TZID=America/Los_Angeles:20260528T150000
DTEND;TZID=America/Los_Angeles:20260528T155500
DTSTAMP:20260420T051120
CREATED:20260409T201833Z
LAST-MODIFIED:20260409T201833Z
UID:10002452-1779980400-1779983700@bishoplocal.com
SUMMARY:TRX
DESCRIPTION:TRX suspension training class for a full-body workout using bodyweight resistance.
URL:https://bishoplocal.com/event/trx/
LOCATION:Hummingbird Movement Collective\, 126 N Main St\, Bishop\, 93514\, USA
CATEGORIES:Wellness
END:VEVENT
BEGIN:VEVENT
DTSTART;TZID=America/Los_Angeles:20260528T160000
DTEND;TZID=America/Los_Angeles:20260528T164500
DTSTAMP:20260420T051120
CREATED:20260409T201833Z
LAST-MODIFIED:20260409T201833Z
UID:10002453-1779984000-1779986700@bishoplocal.com
SUMMARY:Spin
DESCRIPTION:Energizing indoor cycling class combining music\, motivating coaching\, and interval-based cycling drills for a full-body cardiovascular workout.
URL:https://bishoplocal.com/event/spin-2/
LOCATION:Hummingbird Movement Collective\, 126 N Main St\, Bishop\, 93514\, USA
CATEGORIES:Wellness
END:VEVENT
BEGIN:VEVENT
DTSTART;TZID=America/Los_Angeles:20260528T170000
DTEND;TZID=America/Los_Angeles:20260528T175500
DTSTAMP:20260420T051120
CREATED:20260409T201833Z
LAST-MODIFIED:20260409T201833Z
UID:10002454-1779987600-1779990900@bishoplocal.com
SUMMARY:Gentle Flow Pilates
DESCRIPTION:All-levels reformer Pilates class using the reformer\, tower\, and stability chair. Suitable for all experience levels with options offered for beginners through advanced practitioners.
URL:https://bishoplocal.com/event/gentle-flow-pilates-3/
LOCATION:Hummingbird Movement Collective\, 126 N Main St\, Bishop\, 93514\, USA
CATEGORIES:Wellness
END:VEVENT
BEGIN:VEVENT
DTSTART;TZID=America/Los_Angeles:20260528T173000
DTEND;TZID=America/Los_Angeles:20260528T183000
DTSTAMP:20260420T051120
CREATED:20260409T202825Z
LAST-MODIFIED:20260409T202825Z
UID:10001893-1779989400-1779993000@bishoplocal.com
SUMMARY:Vinyasa to Yin Flow
DESCRIPTION:Yoga class transitioning from active vinyasa movement into slower\, restorative yin holds. Held at Sierra Shanti Studio in Bishop.
URL:https://bishoplocal.com/event/vinyasa-to-yin-flow-8/
LOCATION:Sierra Shanti Studio\, 275B S Main St\, Bishop\, CA\, 93514\, United States
CATEGORIES:Wellness
ORGANIZER;CN="Sierra Shanti Studio":MAILTO:sierrashanti108@gmail.com
END:VEVENT
BEGIN:VEVENT
DTSTART;TZID=America/Los_Angeles:20260528T173000
DTEND;TZID=America/Los_Angeles:20260528T183000
DTSTAMP:20260420T051120
CREATED:20260415T192524Z
LAST-MODIFIED:20260415T192524Z
UID:10002644-1779989400-1779993000@bishoplocal.com
SUMMARY:Strength Training
DESCRIPTION:Strength training class at Bishop Strength with Paul Mandell.
URL:https://bishoplocal.com/event/strength-training-25/
LOCATION:Bishop Strength\, 162 Willow St\, Bishop\, 93514\, USA
CATEGORIES:Wellness
END:VEVENT
BEGIN:VEVENT
DTSTART;TZID=America/Los_Angeles:20260528T183000
DTEND;TZID=America/Los_Angeles:20260528T193000
DTSTAMP:20260420T051120
CREATED:20260415T192525Z
LAST-MODIFIED:20260415T192525Z
UID:10002645-1779993000-1779996600@bishoplocal.com
SUMMARY:Strength Training
DESCRIPTION:Strength training class at Bishop Strength with Paul Mandell. Second session.
URL:https://bishoplocal.com/event/strength-training-26/
LOCATION:Bishop Strength\, 162 Willow St\, Bishop\, 93514\, USA
CATEGORIES:Wellness
END:VEVENT
BEGIN:VEVENT
DTSTART;TZID=America/Los_Angeles:20260529T053000
DTEND;TZID=America/Los_Angeles:20260529T063000
DTSTAMP:20260420T051120
CREATED:20260415T192534Z
LAST-MODIFIED:20260415T192534Z
UID:10002652-1780032600-1780036200@bishoplocal.com
SUMMARY:Weightlifting (BTB)
DESCRIPTION:Barbell weightlifting class at Bishop Strength with Jared Waasdorp.
URL:https://bishoplocal.com/event/weightlifting-btb-20/
LOCATION:Bishop Strength\, 162 Willow St\, Bishop\, 93514\, USA
CATEGORIES:Wellness
END:VEVENT
END:VCALENDAR