BEGIN:VCALENDAR
VERSION:2.0
PRODID:-//BishopLocal.com - ECPv6.15.18//NONSGML v1.0//EN
CALSCALE:GREGORIAN
METHOD:PUBLISH
X-ORIGINAL-URL:https://bishoplocal.com
X-WR-CALDESC:Events for BishopLocal.com
REFRESH-INTERVAL;VALUE=DURATION:PT1H
X-Robots-Tag:noindex
X-PUBLISHED-TTL:PT1H
BEGIN:VTIMEZONE
TZID:America/Los_Angeles
BEGIN:DAYLIGHT
TZOFFSETFROM:-0800
TZOFFSETTO:-0700
TZNAME:PDT
DTSTART:20250309T100000
END:DAYLIGHT
BEGIN:STANDARD
TZOFFSETFROM:-0700
TZOFFSETTO:-0800
TZNAME:PST
DTSTART:20251102T090000
END:STANDARD
BEGIN:DAYLIGHT
TZOFFSETFROM:-0800
TZOFFSETTO:-0700
TZNAME:PDT
DTSTART:20260308T100000
END:DAYLIGHT
BEGIN:STANDARD
TZOFFSETFROM:-0700
TZOFFSETTO:-0800
TZNAME:PST
DTSTART:20261101T090000
END:STANDARD
BEGIN:DAYLIGHT
TZOFFSETFROM:-0800
TZOFFSETTO:-0700
TZNAME:PDT
DTSTART:20270314T100000
END:DAYLIGHT
BEGIN:STANDARD
TZOFFSETFROM:-0700
TZOFFSETTO:-0800
TZNAME:PST
DTSTART:20271107T090000
END:STANDARD
END:VTIMEZONE
BEGIN:VEVENT
DTSTART;TZID=America/Los_Angeles:20260502T093000
DTEND;TZID=America/Los_Angeles:20260502T130000
DTSTAMP:20260420T050400
CREATED:20260415T192554Z
LAST-MODIFIED:20260415T192554Z
UID:10002670-1777714200-1777726800@bishoplocal.com
SUMMARY:Tiger Beetle and Butterfly Tour of Fish Slough
DESCRIPTION:Guided nature tour led by Jen Klingler at Fish Slough. Look for Inyo Tiger Beetles\, Euphilotes Blues\, and blue milkweed beetles. Bring close-range binoculars.
URL:https://bishoplocal.com/event/tiger-beetle-and-butterfly-tour-of-fish-slough/
LOCATION:Fish Slough\, Fish Slough Rd\, Bishop\, 93514\, USA
CATEGORIES:outdoors-nature
END:VEVENT
BEGIN:VEVENT
DTSTART;TZID=America/Los_Angeles:20260502T110000
DTEND;TZID=America/Los_Angeles:20260502T140000
DTSTAMP:20260420T050400
CREATED:20260409T202622Z
LAST-MODIFIED:20260409T222921Z
UID:10002013-1777719600-1777730400@bishoplocal.com
SUMMARY:GardenFest 2026
DESCRIPTION:Family-friendly spring celebration featuring a native plant sale from California Native Plant Society Bristlecone Chapter\, community activities\, and more in ESLT’s backyard and Church Street Parking lot.
URL:https://bishoplocal.com/event/gardenfest-2026/
LOCATION:Eastern Sierra Land Trust Office Backyard\, 250 N Fowler St\, Bishop\, 93514
CATEGORIES:outdoors-nature
ATTACH;FMTTYPE=image/jpeg:https://bishoplocal.com/wp-content/uploads/2026/04/IMG_8605-scaled-1.jpeg
END:VEVENT
BEGIN:VEVENT
DTSTART;TZID=America/Los_Angeles:20260507T170000
DTEND;TZID=America/Los_Angeles:20260507T190000
DTSTAMP:20260420T050400
CREATED:20260409T202622Z
LAST-MODIFIED:20260409T202622Z
UID:10002014-1778173200-1778180400@bishoplocal.com
SUMMARY:Hedgerow & Native Pollinator Workshop
DESCRIPTION:Workshop on making your garden more sustainable\, productive\, and pollinator friendly using hedgerows. Co-hosted by Bishop Paiute Tribe’s Food Sovereignty Program\, NRCS\, and ESLT. Free and open to the public with light refreshments.
URL:https://bishoplocal.com/event/hedgerow-native-pollinator-workshop/
LOCATION:Food Sovereignty Program Cultural Center Garden\, 2300 W Line St\, Bishop\, 93514
CATEGORIES:outdoors-nature
ATTACH;FMTTYPE=image/png:https://bishoplocal.com/wp-content/uploads/2026/04/Hedgerows.png
END:VEVENT
BEGIN:VEVENT
DTSTART;TZID=America/Los_Angeles:20260509T050000
DTEND;TZID=America/Los_Angeles:20260509T170000
DTSTAMP:20260420T050400
CREATED:20260415T192554Z
LAST-MODIFIED:20260415T192554Z
UID:10002671-1778302800-1778346000@bishoplocal.com
SUMMARY:ESBA's Big Day
DESCRIPTION:Eastern Sierra Bird Alliance springtime big day celebrating World Migratory Bird Day. Visit local hotspots and record species across the Eastern Sierra.
URL:https://bishoplocal.com/event/esbas-big-day/
CATEGORIES:outdoors-nature
END:VEVENT
BEGIN:VEVENT
DTSTART;TZID=America/Los_Angeles:20260509T073000
DTEND;TZID=America/Los_Angeles:20260509T093000
DTSTAMP:20260420T050400
CREATED:20260415T192554Z
LAST-MODIFIED:20260415T192554Z
UID:10002672-1778311800-1778319000@bishoplocal.com
SUMMARY:ESBA COSA Bird Walk - May
DESCRIPTION:Monthly bird walk at the Bishop Paiute Tribe’s Conservation Open Space Area (COSA). All ages welcome\, no experience required. Binoculars and field guides provided. Meet at parking lot behind Bishop DMV.
URL:https://bishoplocal.com/event/esba-cosa-bird-walk-may/
LOCATION:COSA\, 1115 W Line St\, Bishop\, 93514\, USA
CATEGORIES:outdoors-nature
END:VEVENT
BEGIN:VEVENT
DTSTART;TZID=America/Los_Angeles:20260509T083000
DTEND;TZID=America/Los_Angeles:20260509T113000
DTSTAMP:20260420T050400
CREATED:20260409T202614Z
LAST-MODIFIED:20260409T222949Z
UID:10002015-1778315400-1778326200@bishoplocal.com
SUMMARY:World Migratory Bird Day 2026
DESCRIPTION:Morning birdwatching at Black Lake\, a rare desert wetland north of Benton in Adobe Valley that serves as an important stopover site for migratory birds. Co-hosted with Eastern Sierra Bird Alliance.
URL:https://bishoplocal.com/event/world-migratory-bird-day-2026/
LOCATION:ESLT Black Lake Preserve\, Benton
CATEGORIES:outdoors-nature
ATTACH;FMTTYPE=image/jpeg:https://bishoplocal.com/wp-content/uploads/2026/04/Black-Lake-11-15-23-46.jpg
END:VEVENT
BEGIN:VEVENT
DTSTART;TZID=America/Los_Angeles:20260516T083000
DTEND;TZID=America/Los_Angeles:20260516T130000
DTSTAMP:20260420T050400
CREATED:20260409T202614Z
LAST-MODIFIED:20260409T202614Z
UID:10002016-1778920200-1778936400@bishoplocal.com
SUMMARY:Pollinator Garden Inspiration Tour
DESCRIPTION:Self-guided tour of beautiful and creative pollinator-friendly gardens in the Bishop area. Pick up map and itinerary at ESLT’s office at 250 N. Fowler Street.
URL:https://bishoplocal.com/event/pollinator-garden-inspiration-tour/
LOCATION:Eastern Sierra Land Trust Office Backyard\, 250 N Fowler St\, Bishop\, 93514
CATEGORIES:outdoors-nature
ATTACH;FMTTYPE=image/jpeg:https://bishoplocal.com/wp-content/uploads/2026/04/Garden-Tour_.jpg
END:VEVENT
BEGIN:VEVENT
DTSTART;TZID=America/Los_Angeles:20260517T110000
DTEND;TZID=America/Los_Angeles:20260517T120000
DTSTAMP:20260420T050400
CREATED:20260415T192233Z
LAST-MODIFIED:20260415T192233Z
UID:10002514-1779015600-1779019200@bishoplocal.com
SUMMARY:Plant Walk & Talk
DESCRIPTION:Walk and talk about local plants with the Bishop Paiute Tribe Food Sovereignty Program. Snacks provided.
URL:https://bishoplocal.com/event/plant-walk-talk/
LOCATION:Owens Valley Paiute-Shoshone Cultural Center\, 2300 W Line St\, Bishop\, CA\, 93514\, United States
CATEGORIES:outdoors-nature
END:VEVENT
END:VCALENDAR