BEGIN:VCALENDAR
VERSION:2.0
PRODID:-//BishopLocal.com - ECPv6.15.18//NONSGML v1.0//EN
CALSCALE:GREGORIAN
METHOD:PUBLISH
X-WR-CALNAME:BishopLocal.com
X-ORIGINAL-URL:https://bishoplocal.com
X-WR-CALDESC:Events for BishopLocal.com
REFRESH-INTERVAL;VALUE=DURATION:PT1H
X-Robots-Tag:noindex
X-PUBLISHED-TTL:PT1H
BEGIN:VTIMEZONE
TZID:America/Los_Angeles
BEGIN:DAYLIGHT
TZOFFSETFROM:-0800
TZOFFSETTO:-0700
TZNAME:PDT
DTSTART:20250309T100000
END:DAYLIGHT
BEGIN:STANDARD
TZOFFSETFROM:-0700
TZOFFSETTO:-0800
TZNAME:PST
DTSTART:20251102T090000
END:STANDARD
BEGIN:DAYLIGHT
TZOFFSETFROM:-0800
TZOFFSETTO:-0700
TZNAME:PDT
DTSTART:20260308T100000
END:DAYLIGHT
BEGIN:STANDARD
TZOFFSETFROM:-0700
TZOFFSETTO:-0800
TZNAME:PST
DTSTART:20261101T090000
END:STANDARD
BEGIN:DAYLIGHT
TZOFFSETFROM:-0800
TZOFFSETTO:-0700
TZNAME:PDT
DTSTART:20270314T100000
END:DAYLIGHT
BEGIN:STANDARD
TZOFFSETFROM:-0700
TZOFFSETTO:-0800
TZNAME:PST
DTSTART:20271107T090000
END:STANDARD
END:VTIMEZONE
BEGIN:VEVENT
DTSTART;TZID=America/Los_Angeles:20260419T080000
DTEND;TZID=America/Los_Angeles:20260419T120000
DTSTAMP:20260420T081034
CREATED:20260409T202516Z
LAST-MODIFIED:20260409T202516Z
UID:10002076-1776585600-1776600000@bishoplocal.com
SUMMARY:Coffee Church
DESCRIPTION:Weekly pop-up cafe at Indy Coffee Roasting Company. Organic European-style pour-overs\, Mexican and Scandinavian coffee drinks\, and artisan pastries. Enter at Lagoon Street behind Luxe Salon.
URL:https://bishoplocal.com/event/coffee-church-7/
LOCATION:Indy Coffee Roasting Company\, 307 S Main St\, Bishop\, CA\, 93514\, United States
CATEGORIES:food-drink
END:VEVENT
BEGIN:VEVENT
DTSTART;TZID=America/Los_Angeles:20260418T170000
DTEND;TZID=America/Los_Angeles:20260418T210000
DTSTAMP:20260420T081034
CREATED:20260409T202507Z
LAST-MODIFIED:20260409T202507Z
UID:10002086-1776531600-1776546000@bishoplocal.com
SUMMARY:Cloudripper Pop-Up Dinner
DESCRIPTION:Weekly pop-up dinner at Owens Valley Distilling Company. Rotating menu featuring East and Southeast Asian food\, falafel bowls\, and seasonal dishes made with local ingredients. Check @cloudripperbishop on Instagram for this week’s menu.
URL:https://bishoplocal.com/event/cloudripper-pop-up-dinner-12/
LOCATION:Owens Valley Distilling Company\, 237 E South Street\, Bishop\, 442-228-5041\, 93514
CATEGORIES:food-drink
END:VEVENT
BEGIN:VEVENT
DTSTART;TZID=America/Los_Angeles:20260416T170000
DTEND;TZID=America/Los_Angeles:20260416T210000
DTSTAMP:20260420T081034
CREATED:20260409T202507Z
LAST-MODIFIED:20260409T202507Z
UID:10002085-1776358800-1776373200@bishoplocal.com
SUMMARY:Cloudripper Pop-Up Dinner
DESCRIPTION:Weekly pop-up dinner at Owens Valley Distilling Company. Rotating menu featuring East and Southeast Asian food\, falafel bowls\, and seasonal dishes made with local ingredients. Check @cloudripperbishop on Instagram for this week’s menu.
URL:https://bishoplocal.com/event/cloudripper-pop-up-dinner-13/
LOCATION:Owens Valley Distilling Company\, 237 E South Street\, Bishop\, 442-228-5041\, 93514
CATEGORIES:food-drink
END:VEVENT
BEGIN:VEVENT
DTSTART;TZID=America/Los_Angeles:20260416T160000
DTEND;TZID=America/Los_Angeles:20260416T190000
DTSTAMP:20260420T081034
CREATED:20260409T202614Z
LAST-MODIFIED:20260409T202614Z
UID:10002018-1776355200-1776366000@bishoplocal.com
SUMMARY:Farm to Table Market
DESCRIPTION:Weekly community market featuring local vendors\, seasonal foods\, handmade goods\, live music\, and hands-on workshops at Bishop United Methodist Church.
URL:https://bishoplocal.com/event/farm-to-table-market/
LOCATION:First United Methodist Church\, 205 N Fowler St\, Bishop\, CA\, 93514\, United States
CATEGORIES:food-drink
ORGANIZER;CN="Eastern Sierra Farm Fresh":MAILTO:esffbishopinfo@gmail.com
END:VEVENT
BEGIN:VEVENT
DTSTART;TZID=America/Los_Angeles:20260415T160000
DTEND;TZID=America/Los_Angeles:20260415T200000
DTSTAMP:20260420T081034
CREATED:20260409T202532Z
LAST-MODIFIED:20260409T202533Z
UID:10002060-1776268800-1776283200@bishoplocal.com
SUMMARY:Wine Wednesdays at Creekside Club
DESCRIPTION:Join Creekside Club for Wine Wednesdays and enjoy select bottles at 50% off. Settle in by the fireplace and unwind.
URL:https://bishoplocal.com/event/wine-wednesdays-at-creekside-club-7/
LOCATION:Creekside Club at Wayfinder Bishop\, 725 N Main Street\, Bishop\, 760-872-3044\, 93514
CATEGORIES:food-drink
ORGANIZER;CN="Wayfinder Bishop":MAILTO:hey@wayfinderbishop.com
END:VEVENT
BEGIN:VEVENT
DTSTART;TZID=America/Los_Angeles:20260413T160000
DTEND;TZID=America/Los_Angeles:20260413T210000
DTSTAMP:20260420T081034
CREATED:20260409T202524Z
LAST-MODIFIED:20260409T202524Z
UID:10002067-1776096000-1776114000@bishoplocal.com
SUMMARY:Locals Night at Creekside Club
DESCRIPTION:Monday nights are for the locals. Enjoy 25% off your entire bill with proof of local address at Creekside Club.
URL:https://bishoplocal.com/event/locals-night-at-creekside-club-7/
LOCATION:Creekside Club at Wayfinder Bishop\, 725 N Main Street\, Bishop\, 760-872-3044\, 93514
CATEGORIES:food-drink
ORGANIZER;CN="Wayfinder Bishop":MAILTO:hey@wayfinderbishop.com
END:VEVENT
BEGIN:VEVENT
DTSTART;TZID=America/Los_Angeles:20260412T080000
DTEND;TZID=America/Los_Angeles:20260412T120000
DTSTAMP:20260420T081034
CREATED:20260409T202516Z
LAST-MODIFIED:20260409T202516Z
UID:10002075-1775980800-1775995200@bishoplocal.com
SUMMARY:Coffee Church
DESCRIPTION:Weekly pop-up cafe at Indy Coffee Roasting Company. Organic European-style pour-overs\, Mexican and Scandinavian coffee drinks\, and artisan pastries. Enter at Lagoon Street behind Luxe Salon.
URL:https://bishoplocal.com/event/coffee-church-8/
LOCATION:Indy Coffee Roasting Company\, 307 S Main St\, Bishop\, CA\, 93514\, United States
CATEGORIES:food-drink
END:VEVENT
BEGIN:VEVENT
DTSTART;TZID=America/Los_Angeles:20260411T170000
DTEND;TZID=America/Los_Angeles:20260411T210000
DTSTAMP:20260420T081034
CREATED:20260409T202507Z
LAST-MODIFIED:20260409T202507Z
UID:10002084-1775926800-1775941200@bishoplocal.com
SUMMARY:Cloudripper Pop-Up Dinner
DESCRIPTION:Weekly pop-up dinner at Owens Valley Distilling Company. Rotating menu featuring East and Southeast Asian food\, falafel bowls\, and seasonal dishes made with local ingredients. Check @cloudripperbishop on Instagram for this week’s menu.
URL:https://bishoplocal.com/event/cloudripper-pop-up-dinner-14/
LOCATION:Owens Valley Distilling Company\, 237 E South Street\, Bishop\, 442-228-5041\, 93514
CATEGORIES:food-drink
END:VEVENT
BEGIN:VEVENT
DTSTART;TZID=America/Los_Angeles:20260409T170000
DTEND;TZID=America/Los_Angeles:20260409T210000
DTSTAMP:20260420T081034
CREATED:20260409T202507Z
LAST-MODIFIED:20260409T202507Z
UID:10002083-1775754000-1775768400@bishoplocal.com
SUMMARY:Cloudripper Pop-Up Dinner
DESCRIPTION:Weekly pop-up dinner at Owens Valley Distilling Company. Rotating menu featuring East and Southeast Asian food\, falafel bowls\, and seasonal dishes made with local ingredients. Check @cloudripperbishop on Instagram for this week’s menu.
URL:https://bishoplocal.com/event/cloudripper-pop-up-dinner-15/
LOCATION:Owens Valley Distilling Company\, 237 E South Street\, Bishop\, 442-228-5041\, 93514
CATEGORIES:food-drink
END:VEVENT
BEGIN:VEVENT
DTSTART;TZID=America/Los_Angeles:20260409T160000
DTEND;TZID=America/Los_Angeles:20260409T190000
DTSTAMP:20260420T081034
CREATED:20260409T202614Z
LAST-MODIFIED:20260409T202614Z
UID:10002017-1775750400-1775761200@bishoplocal.com
SUMMARY:Farm to Table Market
DESCRIPTION:Weekly community market featuring local vendors\, seasonal foods\, handmade goods\, live music\, and hands-on workshops at Bishop United Methodist Church.
URL:https://bishoplocal.com/event/farm-to-table-market-2/
LOCATION:First United Methodist Church\, 205 N Fowler St\, Bishop\, CA\, 93514\, United States
CATEGORIES:food-drink
ORGANIZER;CN="Eastern Sierra Farm Fresh":MAILTO:esffbishopinfo@gmail.com
END:VEVENT
BEGIN:VEVENT
DTSTART;TZID=America/Los_Angeles:20260408T160000
DTEND;TZID=America/Los_Angeles:20260408T200000
DTSTAMP:20260420T081034
CREATED:20260409T202532Z
LAST-MODIFIED:20260409T202533Z
UID:10002059-1775664000-1775678400@bishoplocal.com
SUMMARY:Wine Wednesdays at Creekside Club
DESCRIPTION:Join Creekside Club for Wine Wednesdays and enjoy select bottles at 50% off. Settle in by the fireplace and unwind.
URL:https://bishoplocal.com/event/wine-wednesdays-at-creekside-club-8/
LOCATION:Creekside Club at Wayfinder Bishop\, 725 N Main Street\, Bishop\, 760-872-3044\, 93514
CATEGORIES:food-drink
ORGANIZER;CN="Wayfinder Bishop":MAILTO:hey@wayfinderbishop.com
END:VEVENT
END:VCALENDAR