BEGIN:VCALENDAR
VERSION:2.0
PRODID:-//BishopLocal.com - ECPv6.15.18//NONSGML v1.0//EN
CALSCALE:GREGORIAN
METHOD:PUBLISH
X-ORIGINAL-URL:https://bishoplocal.com
X-WR-CALDESC:Events for BishopLocal.com
REFRESH-INTERVAL;VALUE=DURATION:PT1H
X-Robots-Tag:noindex
X-PUBLISHED-TTL:PT1H
BEGIN:VTIMEZONE
TZID:America/Los_Angeles
BEGIN:DAYLIGHT
TZOFFSETFROM:-0800
TZOFFSETTO:-0700
TZNAME:PDT
DTSTART:20250309T100000
END:DAYLIGHT
BEGIN:STANDARD
TZOFFSETFROM:-0700
TZOFFSETTO:-0800
TZNAME:PST
DTSTART:20251102T090000
END:STANDARD
BEGIN:DAYLIGHT
TZOFFSETFROM:-0800
TZOFFSETTO:-0700
TZNAME:PDT
DTSTART:20260308T100000
END:DAYLIGHT
BEGIN:STANDARD
TZOFFSETFROM:-0700
TZOFFSETTO:-0800
TZNAME:PST
DTSTART:20261101T090000
END:STANDARD
BEGIN:DAYLIGHT
TZOFFSETFROM:-0800
TZOFFSETTO:-0700
TZNAME:PDT
DTSTART:20270314T100000
END:DAYLIGHT
BEGIN:STANDARD
TZOFFSETFROM:-0700
TZOFFSETTO:-0800
TZNAME:PST
DTSTART:20271107T090000
END:STANDARD
END:VTIMEZONE
BEGIN:VEVENT
DTSTART;TZID=America/Los_Angeles:20260422T120000
DTEND;TZID=America/Los_Angeles:20260422T140000
DTSTAMP:20260422T033716
CREATED:20260409T202956Z
LAST-MODIFIED:20260409T202956Z
UID:10001803-1776859200-1776866400@bishoplocal.com
SUMMARY:Adult Jiu Jitsu
DESCRIPTION:Adult jiu jitsu class open to all levels. Covers fundamentals and self-defense philosophy with situational and live sparring.
URL:https://bishoplocal.com/event/adult-jiu-jitsu-3/
LOCATION:Cattle Dog Jiu Jitsu\, 364 Rose St\, Bishop\, CA\, 93514\, United States
CATEGORIES:sports-recreation
ATTACH;FMTTYPE=image/webp:https://bishoplocal.com/wp-content/uploads/2026/04/16643643750_9e92c5ccf0_o.webp
ORGANIZER;CN="Cattle Dog Jiu Jitsu":MAILTO:cattledogjiujitsu@gmail.com
END:VEVENT
BEGIN:VEVENT
DTSTART;TZID=America/Los_Angeles:20260422T160000
DTEND;TZID=America/Los_Angeles:20260422T170000
DTSTAMP:20260422T033716
CREATED:20260409T202956Z
LAST-MODIFIED:20260409T202956Z
UID:10001804-1776873600-1776877200@bishoplocal.com
SUMMARY:Pups (3-7) Judo
DESCRIPTION:Judo class for kids ages 3-7. Introduction to judo fundamentals through body awareness\, discipline\, and movement games.
URL:https://bishoplocal.com/event/pups-3-7-judo-3/
LOCATION:Cattle Dog Jiu Jitsu\, 364 Rose St\, Bishop\, CA\, 93514\, United States
CATEGORIES:sports-recreation
ATTACH;FMTTYPE=image/webp:https://bishoplocal.com/wp-content/uploads/2026/04/16643643750_9e92c5ccf0_o.webp
ORGANIZER;CN="Cattle Dog Jiu Jitsu":MAILTO:cattledogjiujitsu@gmail.com
END:VEVENT
BEGIN:VEVENT
DTSTART;TZID=America/Los_Angeles:20260422T170000
DTEND;TZID=America/Los_Angeles:20260422T181500
DTSTAMP:20260422T033716
CREATED:20260415T192303Z
LAST-MODIFIED:20260415T192303Z
UID:10002537-1776877200-1776881700@bishoplocal.com
SUMMARY:Lyra Skills (Beg/Int)
DESCRIPTION:Beginner to intermediate lyra hoop skills class at Eastern Sierra Aerial Arts.
URL:https://bishoplocal.com/event/lyra-skills-beg-int-2/
LOCATION:Eastern Sierra Aerial Arts\, Bishop\, 93514\, USA
CATEGORIES:sports-recreation
END:VEVENT
BEGIN:VEVENT
DTSTART;TZID=America/Los_Angeles:20260422T170000
DTEND;TZID=America/Los_Angeles:20260422T183000
DTSTAMP:20260422T033716
CREATED:20260409T202956Z
LAST-MODIFIED:20260409T202956Z
UID:10001805-1776877200-1776882600@bishoplocal.com
SUMMARY:Heelers (8 up) Judo
DESCRIPTION:Judo class for kids ages 8 and up. Builds judo technique with more detailed instruction and situational practice.
URL:https://bishoplocal.com/event/heelers-8-up-judo-3/
LOCATION:Cattle Dog Jiu Jitsu\, 364 Rose St\, Bishop\, CA\, 93514\, United States
CATEGORIES:sports-recreation
ATTACH;FMTTYPE=image/webp:https://bishoplocal.com/wp-content/uploads/2026/04/16643643750_9e92c5ccf0_o.webp
ORGANIZER;CN="Cattle Dog Jiu Jitsu":MAILTO:cattledogjiujitsu@gmail.com
END:VEVENT
BEGIN:VEVENT
DTSTART;TZID=America/Los_Angeles:20260422T183000
DTEND;TZID=America/Los_Angeles:20260422T203000
DTSTAMP:20260422T033716
CREATED:20260409T203005Z
LAST-MODIFIED:20260409T203005Z
UID:10001792-1776882600-1776889800@bishoplocal.com
SUMMARY:Adult Judo
DESCRIPTION:Adult judo class open to all levels. Practiced in the gi with focus on throws\, takedowns\, and groundwork.
URL:https://bishoplocal.com/event/adult-judo-3/
LOCATION:Cattle Dog Jiu Jitsu\, 364 Rose St\, Bishop\, CA\, 93514\, United States
CATEGORIES:sports-recreation
ATTACH;FMTTYPE=image/webp:https://bishoplocal.com/wp-content/uploads/2026/04/16643643750_9e92c5ccf0_o.webp
ORGANIZER;CN="Cattle Dog Jiu Jitsu":MAILTO:cattledogjiujitsu@gmail.com
END:VEVENT
BEGIN:VEVENT
DTSTART;TZID=America/Los_Angeles:20260423T160000
DTEND;TZID=America/Los_Angeles:20260423T170000
DTSTAMP:20260422T033716
CREATED:20260409T203005Z
LAST-MODIFIED:20260409T203005Z
UID:10001793-1776960000-1776963600@bishoplocal.com
SUMMARY:Pups (3-7) Jiu Jitsu
DESCRIPTION:Jiu jitsu class for kids ages 3-7. Focuses on body awareness\, discipline\, and fun games that build motor skills and muscle memory for martial arts progression.
URL:https://bishoplocal.com/event/pups-3-7-jiu-jitsu-9/
LOCATION:Cattle Dog Jiu Jitsu\, 364 Rose St\, Bishop\, CA\, 93514\, United States
CATEGORIES:sports-recreation
ATTACH;FMTTYPE=image/webp:https://bishoplocal.com/wp-content/uploads/2026/04/16643643750_9e92c5ccf0_o.webp
ORGANIZER;CN="Cattle Dog Jiu Jitsu":MAILTO:cattledogjiujitsu@gmail.com
END:VEVENT
BEGIN:VEVENT
DTSTART;TZID=America/Los_Angeles:20260423T171500
DTEND;TZID=America/Los_Angeles:20260423T183000
DTSTAMP:20260422T033716
CREATED:20260415T192312Z
LAST-MODIFIED:20260415T192312Z
UID:10002539-1776964500-1776969000@bishoplocal.com
SUMMARY:Dance Trapeze (Series)
DESCRIPTION:Dance trapeze series class at Eastern Sierra Aerial Arts.
URL:https://bishoplocal.com/event/dance-trapeze-series/
LOCATION:Eastern Sierra Aerial Arts\, Bishop\, 93514\, USA
CATEGORIES:sports-recreation
END:VEVENT
BEGIN:VEVENT
DTSTART;TZID=America/Los_Angeles:20260423T183000
DTEND;TZID=America/Los_Angeles:20260423T200000
DTSTAMP:20260422T033716
CREATED:20260415T192312Z
LAST-MODIFIED:20260415T192312Z
UID:10002540-1776969000-1776974400@bishoplocal.com
SUMMARY:Beg/Int Pole Tricks
DESCRIPTION:Beginner to intermediate pole tricks class at Eastern Sierra Aerial Arts.
URL:https://bishoplocal.com/event/beg-int-pole-tricks/
LOCATION:Eastern Sierra Aerial Arts\, Bishop\, 93514\, USA
CATEGORIES:sports-recreation
END:VEVENT
BEGIN:VEVENT
DTSTART;TZID=America/Los_Angeles:20260424T073000
DTEND;TZID=America/Los_Angeles:20260424T090000
DTSTAMP:20260422T033716
CREATED:20260415T192313Z
LAST-MODIFIED:20260415T192313Z
UID:10002544-1777015800-1777021200@bishoplocal.com
SUMMARY:Ballet Basics
DESCRIPTION:Ballet basics class at Eastern Sierra Aerial Arts.
URL:https://bishoplocal.com/event/ballet-basics-2/
LOCATION:Eastern Sierra Aerial Arts\, Bishop\, 93514\, USA
CATEGORIES:sports-recreation
END:VEVENT
BEGIN:VEVENT
DTSTART;TZID=America/Los_Angeles:20260424T170000
DTEND;TZID=America/Los_Angeles:20260424T183000
DTSTAMP:20260422T033716
CREATED:20260409T203005Z
LAST-MODIFIED:20260409T203005Z
UID:10001794-1777050000-1777055400@bishoplocal.com
SUMMARY:Heelers (8 up) Jiu Jitsu
DESCRIPTION:Jiu jitsu class for kids ages 8 and up. Builds on fundamentals with more detailed instruction\, situational rolling\, and self-defense preparation.
URL:https://bishoplocal.com/event/heelers-8-up-jiu-jitsu-9/
LOCATION:Cattle Dog Jiu Jitsu\, 364 Rose St\, Bishop\, CA\, 93514\, United States
CATEGORIES:sports-recreation
ATTACH;FMTTYPE=image/webp:https://bishoplocal.com/wp-content/uploads/2026/04/16643643750_9e92c5ccf0_o.webp
ORGANIZER;CN="Cattle Dog Jiu Jitsu":MAILTO:cattledogjiujitsu@gmail.com
END:VEVENT
BEGIN:VEVENT
DTSTART;TZID=America/Los_Angeles:20260424T183000
DTEND;TZID=America/Los_Angeles:20260424T203000
DTSTAMP:20260422T033716
CREATED:20260409T203004Z
LAST-MODIFIED:20260409T203004Z
UID:10001795-1777055400-1777062600@bishoplocal.com
SUMMARY:Adult Combatives
DESCRIPTION:Adult combatives class allowing students to safely practice striking at controlled intensity with safety equipment\, building a complete self-defense system.
URL:https://bishoplocal.com/event/adult-combatives-3/
LOCATION:Cattle Dog Jiu Jitsu\, 364 Rose St\, Bishop\, CA\, 93514\, United States
CATEGORIES:sports-recreation
ATTACH;FMTTYPE=image/webp:https://bishoplocal.com/wp-content/uploads/2026/04/16643643750_9e92c5ccf0_o.webp
ORGANIZER;CN="Cattle Dog Jiu Jitsu":MAILTO:cattledogjiujitsu@gmail.com
END:VEVENT
BEGIN:VEVENT
DTSTART;TZID=America/Los_Angeles:20260425T160000
DTEND;TZID=America/Los_Angeles:20260425T180000
DTSTAMP:20260422T033716
CREATED:20260415T192231Z
LAST-MODIFIED:20260415T192231Z
UID:10002507-1777132800-1777140000@bishoplocal.com
SUMMARY:Druids Day Bouldering
DESCRIPTION:Bouldering meeting for all skill levels at Druid Trailhead. Free and open to all.
URL:https://bishoplocal.com/event/druids-day-bouldering/
LOCATION:Druid Trailhead\, Bir Rd\, Bishop\, 93514\, USA
CATEGORIES:sports-recreation
END:VEVENT
BEGIN:VEVENT
DTSTART;TZID=America/Los_Angeles:20260426T150000
DTEND;TZID=America/Los_Angeles:20260426T170000
DTSTAMP:20260422T033716
CREATED:20260409T203004Z
LAST-MODIFIED:20260409T203004Z
UID:10001796-1777215600-1777222800@bishoplocal.com
SUMMARY:Womens Only Jiu Jitsu
DESCRIPTION:Women-only jiu jitsu class focused on fundamentals and self-defense in a supportive environment.
URL:https://bishoplocal.com/event/womens-only-jiu-jitsu-4/
LOCATION:Cattle Dog Jiu Jitsu\, 364 Rose St\, Bishop\, CA\, 93514\, United States
CATEGORIES:sports-recreation
ATTACH;FMTTYPE=image/webp:https://bishoplocal.com/wp-content/uploads/2026/04/16643643750_9e92c5ccf0_o.webp
ORGANIZER;CN="Cattle Dog Jiu Jitsu":MAILTO:cattledogjiujitsu@gmail.com
END:VEVENT
BEGIN:VEVENT
DTSTART;TZID=America/Los_Angeles:20260426T170000
DTEND;TZID=America/Los_Angeles:20260426T183000
DTSTAMP:20260422T033716
CREATED:20260409T203004Z
LAST-MODIFIED:20260409T203004Z
UID:10001797-1777222800-1777228200@bishoplocal.com
SUMMARY:All Ages Open Mat
DESCRIPTION:Open mat sparring session for all ages. An opportunity to practice skills learned in class through live rolling.
URL:https://bishoplocal.com/event/all-ages-open-mat-4/
LOCATION:Cattle Dog Jiu Jitsu\, 364 Rose St\, Bishop\, CA\, 93514\, United States
CATEGORIES:sports-recreation
ATTACH;FMTTYPE=image/webp:https://bishoplocal.com/wp-content/uploads/2026/04/16643643750_9e92c5ccf0_o.webp
ORGANIZER;CN="Cattle Dog Jiu Jitsu":MAILTO:cattledogjiujitsu@gmail.com
END:VEVENT
BEGIN:VEVENT
DTSTART;TZID=America/Los_Angeles:20260427T120000
DTEND;TZID=America/Los_Angeles:20260427T140000
DTSTAMP:20260422T033716
CREATED:20260409T203013Z
LAST-MODIFIED:20260409T203013Z
UID:10001784-1777291200-1777298400@bishoplocal.com
SUMMARY:Adult All Levels Jiu Jitsu
DESCRIPTION:Adult jiu jitsu class open to all levels\, ages 18 and older. Covers fundamentals and self-defense philosophy with situational and live sparring.
URL:https://bishoplocal.com/event/adult-all-levels-jiu-jitsu-12/
LOCATION:Cattle Dog Jiu Jitsu\, 364 Rose St\, Bishop\, CA\, 93514\, United States
CATEGORIES:sports-recreation
ATTACH;FMTTYPE=image/webp:https://bishoplocal.com/wp-content/uploads/2026/04/16643643750_9e92c5ccf0_o.webp
ORGANIZER;CN="Cattle Dog Jiu Jitsu":MAILTO:cattledogjiujitsu@gmail.com
END:VEVENT
BEGIN:VEVENT
DTSTART;TZID=America/Los_Angeles:20260427T160000
DTEND;TZID=America/Los_Angeles:20260427T170000
DTSTAMP:20260422T033716
CREATED:20260409T203013Z
LAST-MODIFIED:20260409T203013Z
UID:10001785-1777305600-1777309200@bishoplocal.com
SUMMARY:Pups (3-7) Jiu Jitsu
DESCRIPTION:Jiu jitsu class for kids ages 3-7. Focuses on body awareness\, discipline\, and fun games that build motor skills and muscle memory for martial arts progression.
URL:https://bishoplocal.com/event/pups-3-7-jiu-jitsu-11/
LOCATION:Cattle Dog Jiu Jitsu\, 364 Rose St\, Bishop\, CA\, 93514\, United States
CATEGORIES:sports-recreation
ATTACH;FMTTYPE=image/webp:https://bishoplocal.com/wp-content/uploads/2026/04/16643643750_9e92c5ccf0_o.webp
ORGANIZER;CN="Cattle Dog Jiu Jitsu":MAILTO:cattledogjiujitsu@gmail.com
END:VEVENT
BEGIN:VEVENT
DTSTART;TZID=America/Los_Angeles:20260427T160000
DTEND;TZID=America/Los_Angeles:20260427T170000
DTSTAMP:20260422T033716
CREATED:20260415T192313Z
LAST-MODIFIED:20260415T192313Z
UID:10002545-1777305600-1777309200@bishoplocal.com
SUMMARY:Flex-Ability
DESCRIPTION:Flexibility and mobility class at Eastern Sierra Aerial Arts.
URL:https://bishoplocal.com/event/flex-ability/
LOCATION:Eastern Sierra Aerial Arts\, Bishop\, 93514\, USA
CATEGORIES:sports-recreation
END:VEVENT
BEGIN:VEVENT
DTSTART;TZID=America/Los_Angeles:20260427T170000
DTEND;TZID=America/Los_Angeles:20260427T181500
DTSTAMP:20260422T033716
CREATED:20260415T192313Z
LAST-MODIFIED:20260415T192313Z
UID:10002546-1777309200-1777313700@bishoplocal.com
SUMMARY:Lyra Flow (Int)
DESCRIPTION:Intermediate lyra flow class at Eastern Sierra Aerial Arts.
URL:https://bishoplocal.com/event/lyra-flow-int/
LOCATION:Eastern Sierra Aerial Arts\, Bishop\, 93514\, USA
CATEGORIES:sports-recreation
END:VEVENT
BEGIN:VEVENT
DTSTART;TZID=America/Los_Angeles:20260427T170000
DTEND;TZID=America/Los_Angeles:20260427T183000
DTSTAMP:20260422T033716
CREATED:20260409T203013Z
LAST-MODIFIED:20260409T203013Z
UID:10001786-1777309200-1777314600@bishoplocal.com
SUMMARY:Heelers (8 up) Jiu Jitsu
DESCRIPTION:Jiu jitsu class for kids ages 8 and up. Builds on fundamentals with more detailed instruction\, situational rolling\, and self-defense preparation.
URL:https://bishoplocal.com/event/heelers-8-up-jiu-jitsu-11/
LOCATION:Cattle Dog Jiu Jitsu\, 364 Rose St\, Bishop\, CA\, 93514\, United States
CATEGORIES:sports-recreation
ATTACH;FMTTYPE=image/webp:https://bishoplocal.com/wp-content/uploads/2026/04/16643643750_9e92c5ccf0_o.webp
ORGANIZER;CN="Cattle Dog Jiu Jitsu":MAILTO:cattledogjiujitsu@gmail.com
END:VEVENT
BEGIN:VEVENT
DTSTART;TZID=America/Los_Angeles:20260427T183000
DTEND;TZID=America/Los_Angeles:20260427T194500
DTSTAMP:20260422T033716
CREATED:20260415T192323Z
LAST-MODIFIED:20260415T192323Z
UID:10002547-1777314600-1777319100@bishoplocal.com
SUMMARY:Lyra Flow (All-Level)
DESCRIPTION:All-level lyra flow class at Eastern Sierra Aerial Arts.
URL:https://bishoplocal.com/event/lyra-flow-all-level/
LOCATION:Eastern Sierra Aerial Arts\, Bishop\, 93514\, USA
CATEGORIES:sports-recreation
END:VEVENT
BEGIN:VEVENT
DTSTART;TZID=America/Los_Angeles:20260427T183000
DTEND;TZID=America/Los_Angeles:20260427T203000
DTSTAMP:20260422T033716
CREATED:20260409T203013Z
LAST-MODIFIED:20260409T203013Z
UID:10001787-1777314600-1777321800@bishoplocal.com
SUMMARY:Adult All Levels Jiu Jitsu
DESCRIPTION:Adult jiu jitsu class open to all levels\, ages 18 and older. Covers fundamentals and self-defense philosophy with situational and live sparring.
URL:https://bishoplocal.com/event/adult-all-levels-jiu-jitsu-11/
LOCATION:Cattle Dog Jiu Jitsu\, 364 Rose St\, Bishop\, CA\, 93514\, United States
CATEGORIES:sports-recreation
ATTACH;FMTTYPE=image/webp:https://bishoplocal.com/wp-content/uploads/2026/04/16643643750_9e92c5ccf0_o.webp
ORGANIZER;CN="Cattle Dog Jiu Jitsu":MAILTO:cattledogjiujitsu@gmail.com
END:VEVENT
BEGIN:VEVENT
DTSTART;TZID=America/Los_Angeles:20260428T160000
DTEND;TZID=America/Los_Angeles:20260428T170000
DTSTAMP:20260422T033716
CREATED:20260409T203013Z
LAST-MODIFIED:20260409T203013Z
UID:10001788-1777392000-1777395600@bishoplocal.com
SUMMARY:Pups (3-7) Jiu Jitsu
DESCRIPTION:Jiu jitsu class for kids ages 3-7. Focuses on body awareness\, discipline\, and fun games that build motor skills and muscle memory for martial arts progression.
URL:https://bishoplocal.com/event/pups-3-7-jiu-jitsu-10/
LOCATION:Cattle Dog Jiu Jitsu\, 364 Rose St\, Bishop\, CA\, 93514\, United States
CATEGORIES:sports-recreation
ATTACH;FMTTYPE=image/webp:https://bishoplocal.com/wp-content/uploads/2026/04/16643643750_9e92c5ccf0_o.webp
ORGANIZER;CN="Cattle Dog Jiu Jitsu":MAILTO:cattledogjiujitsu@gmail.com
END:VEVENT
BEGIN:VEVENT
DTSTART;TZID=America/Los_Angeles:20260428T170000
DTEND;TZID=America/Los_Angeles:20260428T181500
DTSTAMP:20260422T033716
CREATED:20260415T192303Z
LAST-MODIFIED:20260415T192303Z
UID:10002534-1777395600-1777400100@bishoplocal.com
SUMMARY:Silks Fundamentals
DESCRIPTION:Aerial silks fundamentals class at Eastern Sierra Aerial Arts.
URL:https://bishoplocal.com/event/silks-fundamentals-2/
LOCATION:Eastern Sierra Aerial Arts\, Bishop\, 93514\, USA
CATEGORIES:sports-recreation
END:VEVENT
BEGIN:VEVENT
DTSTART;TZID=America/Los_Angeles:20260428T170000
DTEND;TZID=America/Los_Angeles:20260428T183000
DTSTAMP:20260422T033716
CREATED:20260409T203013Z
LAST-MODIFIED:20260409T203013Z
UID:10001789-1777395600-1777401000@bishoplocal.com
SUMMARY:Heelers (8 up) Jiu Jitsu
DESCRIPTION:Jiu jitsu class for kids ages 8 and up. Builds on fundamentals with more detailed instruction\, situational rolling\, and self-defense preparation.
URL:https://bishoplocal.com/event/heelers-8-up-jiu-jitsu-10/
LOCATION:Cattle Dog Jiu Jitsu\, 364 Rose St\, Bishop\, CA\, 93514\, United States
CATEGORIES:sports-recreation
ATTACH;FMTTYPE=image/webp:https://bishoplocal.com/wp-content/uploads/2026/04/16643643750_9e92c5ccf0_o.webp
ORGANIZER;CN="Cattle Dog Jiu Jitsu":MAILTO:cattledogjiujitsu@gmail.com
END:VEVENT
BEGIN:VEVENT
DTSTART;TZID=America/Los_Angeles:20260428T170000
DTEND;TZID=America/Los_Angeles:20260428T190000
DTSTAMP:20260422T033716
CREATED:20260415T192252Z
LAST-MODIFIED:20260415T192252Z
UID:10002523-1777395600-1777402800@bishoplocal.com
SUMMARY:Buttermilks Bouldering
DESCRIPTION:Bouldering session at Birthday Boulder in the Buttermilk Boulders. All skill levels welcome.
URL:https://bishoplocal.com/event/buttermilks-bouldering-2/
LOCATION:Buttermilk Boulders\, Buttermilk Rd\, Bishop\, 93514\, USA
CATEGORIES:sports-recreation
END:VEVENT
BEGIN:VEVENT
DTSTART;TZID=America/Los_Angeles:20260428T183000
DTEND;TZID=America/Los_Angeles:20260428T200000
DTSTAMP:20260422T033716
CREATED:20260415T192303Z
LAST-MODIFIED:20260415T192303Z
UID:10002535-1777401000-1777406400@bishoplocal.com
SUMMARY:Beg/Int Pole
DESCRIPTION:Beginner to intermediate pole class at Eastern Sierra Aerial Arts.
URL:https://bishoplocal.com/event/beg-int-pole-2/
LOCATION:Eastern Sierra Aerial Arts\, Bishop\, 93514\, USA
CATEGORIES:sports-recreation
END:VEVENT
BEGIN:VEVENT
DTSTART;TZID=America/Los_Angeles:20260428T183000
DTEND;TZID=America/Los_Angeles:20260428T203000
DTSTAMP:20260422T033716
CREATED:20260409T203013Z
LAST-MODIFIED:20260409T203013Z
UID:10001790-1777401000-1777408200@bishoplocal.com
SUMMARY:Adult All Levels Jiu Jitsu
DESCRIPTION:Adult jiu jitsu class open to all levels\, ages 18 and older. Covers fundamentals and self-defense philosophy with situational and live sparring.
URL:https://bishoplocal.com/event/adult-all-levels-jiu-jitsu-10/
LOCATION:Cattle Dog Jiu Jitsu\, 364 Rose St\, Bishop\, CA\, 93514\, United States
CATEGORIES:sports-recreation
ATTACH;FMTTYPE=image/webp:https://bishoplocal.com/wp-content/uploads/2026/04/16643643750_9e92c5ccf0_o.webp
ORGANIZER;CN="Cattle Dog Jiu Jitsu":MAILTO:cattledogjiujitsu@gmail.com
END:VEVENT
BEGIN:VEVENT
DTSTART;TZID=America/Los_Angeles:20260429T120000
DTEND;TZID=America/Los_Angeles:20260429T140000
DTSTAMP:20260422T033716
CREATED:20260409T203005Z
LAST-MODIFIED:20260409T203005Z
UID:10001791-1777464000-1777471200@bishoplocal.com
SUMMARY:Adult Jiu Jitsu
DESCRIPTION:Adult jiu jitsu class open to all levels. Covers fundamentals and self-defense philosophy with situational and live sparring.
URL:https://bishoplocal.com/event/adult-jiu-jitsu-4/
LOCATION:Cattle Dog Jiu Jitsu\, 364 Rose St\, Bishop\, CA\, 93514\, United States
CATEGORIES:sports-recreation
ATTACH;FMTTYPE=image/webp:https://bishoplocal.com/wp-content/uploads/2026/04/16643643750_9e92c5ccf0_o.webp
ORGANIZER;CN="Cattle Dog Jiu Jitsu":MAILTO:cattledogjiujitsu@gmail.com
END:VEVENT
BEGIN:VEVENT
DTSTART;TZID=America/Los_Angeles:20260429T160000
DTEND;TZID=America/Los_Angeles:20260429T170000
DTSTAMP:20260422T033716
CREATED:20260409T203022Z
LAST-MODIFIED:20260409T203022Z
UID:10001778-1777478400-1777482000@bishoplocal.com
SUMMARY:Pups (3-7) Judo
DESCRIPTION:Judo class for kids ages 3-7. Introduction to judo fundamentals through body awareness\, discipline\, and movement games.
URL:https://bishoplocal.com/event/pups-3-7-judo-4/
LOCATION:Cattle Dog Jiu Jitsu\, 364 Rose St\, Bishop\, CA\, 93514\, United States
CATEGORIES:sports-recreation
ATTACH;FMTTYPE=image/webp:https://bishoplocal.com/wp-content/uploads/2026/04/16643643750_9e92c5ccf0_o.webp
ORGANIZER;CN="Cattle Dog Jiu Jitsu":MAILTO:cattledogjiujitsu@gmail.com
END:VEVENT
BEGIN:VEVENT
DTSTART;TZID=America/Los_Angeles:20260429T170000
DTEND;TZID=America/Los_Angeles:20260429T181500
DTSTAMP:20260422T033716
CREATED:20260415T192303Z
LAST-MODIFIED:20260415T192303Z
UID:10002538-1777482000-1777486500@bishoplocal.com
SUMMARY:Lyra Skills (Beg/Int)
DESCRIPTION:Beginner to intermediate lyra hoop skills class at Eastern Sierra Aerial Arts.
URL:https://bishoplocal.com/event/lyra-skills-beg-int-3/
LOCATION:Eastern Sierra Aerial Arts\, Bishop\, 93514\, USA
CATEGORIES:sports-recreation
END:VEVENT
END:VCALENDAR