BEGIN:VCALENDAR
VERSION:2.0
PRODID:-//BishopLocal.com - ECPv6.15.18//NONSGML v1.0//EN
CALSCALE:GREGORIAN
METHOD:PUBLISH
X-WR-CALNAME:BishopLocal.com
X-ORIGINAL-URL:https://bishoplocal.com
X-WR-CALDESC:Events for BishopLocal.com
REFRESH-INTERVAL;VALUE=DURATION:PT1H
X-Robots-Tag:noindex
X-PUBLISHED-TTL:PT1H
BEGIN:VTIMEZONE
TZID:America/Los_Angeles
BEGIN:DAYLIGHT
TZOFFSETFROM:-0800
TZOFFSETTO:-0700
TZNAME:PDT
DTSTART:20250309T100000
END:DAYLIGHT
BEGIN:STANDARD
TZOFFSETFROM:-0700
TZOFFSETTO:-0800
TZNAME:PST
DTSTART:20251102T090000
END:STANDARD
BEGIN:DAYLIGHT
TZOFFSETFROM:-0800
TZOFFSETTO:-0700
TZNAME:PDT
DTSTART:20260308T100000
END:DAYLIGHT
BEGIN:STANDARD
TZOFFSETFROM:-0700
TZOFFSETTO:-0800
TZNAME:PST
DTSTART:20261101T090000
END:STANDARD
BEGIN:DAYLIGHT
TZOFFSETFROM:-0800
TZOFFSETTO:-0700
TZNAME:PDT
DTSTART:20270314T100000
END:DAYLIGHT
BEGIN:STANDARD
TZOFFSETFROM:-0700
TZOFFSETTO:-0800
TZNAME:PST
DTSTART:20271107T090000
END:STANDARD
END:VTIMEZONE
BEGIN:VEVENT
DTSTART;TZID=America/Los_Angeles:20260415T053000
DTEND;TZID=America/Los_Angeles:20260415T063000
DTSTAMP:20260424T024526
CREATED:20260415T192416Z
LAST-MODIFIED:20260415T192417Z
UID:10002590-1776231000-1776234600@bishoplocal.com
SUMMARY:Weightlifting (BTB)
DESCRIPTION:Barbell weightlifting class at Bishop Strength with Jared Waasdorp.
URL:https://bishoplocal.com/event/weightlifting-btb-7/
LOCATION:Bishop Strength\, 162 Willow St\, Bishop\, 93514\, USA
CATEGORIES:Wellness
END:VEVENT
BEGIN:VEVENT
DTSTART;TZID=America/Los_Angeles:20260415T081500
DTEND;TZID=America/Los_Angeles:20260415T091000
DTSTAMP:20260424T024526
CREATED:20260409T202354Z
LAST-MODIFIED:20260409T215018Z
UID:10002154-1776240900-1776244200@bishoplocal.com
SUMMARY:Gentle Flow Pilates
DESCRIPTION:All-levels reformer Pilates class using the reformer\, tower\, and stability chair. Suitable for all experience levels with options offered for beginners through advanced practitioners.
URL:https://bishoplocal.com/event/gentle-flow-pilates-107/
LOCATION:Hummingbird Movement Collective\, 126 N Main St\, Bishop\, 93514\, USA
CATEGORIES:Wellness
END:VEVENT
BEGIN:VEVENT
DTSTART;TZID=America/Los_Angeles:20260415T091500
DTEND;TZID=America/Los_Angeles:20260415T101000
DTSTAMP:20260424T024526
CREATED:20260409T202346Z
LAST-MODIFIED:20260409T215018Z
UID:10002155-1776244500-1776247800@bishoplocal.com
SUMMARY:Gentle Flow Pilates
DESCRIPTION:All-levels reformer Pilates class using the reformer\, tower\, and stability chair. Suitable for all experience levels with options offered for beginners through advanced practitioners.
URL:https://bishoplocal.com/event/gentle-flow-pilates-106/
LOCATION:Hummingbird Movement Collective\, 126 N Main St\, Bishop\, 93514\, USA
CATEGORIES:Wellness
END:VEVENT
BEGIN:VEVENT
DTSTART;TZID=America/Los_Angeles:20260415T101500
DTEND;TZID=America/Los_Angeles:20260415T111000
DTSTAMP:20260424T024526
CREATED:20260409T202346Z
LAST-MODIFIED:20260409T215018Z
UID:10002156-1776248100-1776251400@bishoplocal.com
SUMMARY:Gentle Flow Pilates
DESCRIPTION:All-levels reformer Pilates class using the reformer\, tower\, and stability chair. Suitable for all experience levels with options offered for beginners through advanced practitioners.
URL:https://bishoplocal.com/event/gentle-flow-pilates-105/
LOCATION:Hummingbird Movement Collective\, 126 N Main St\, Bishop\, 93514\, USA
CATEGORIES:Wellness
END:VEVENT
BEGIN:VEVENT
DTSTART;TZID=America/Los_Angeles:20260415T120000
DTEND;TZID=America/Los_Angeles:20260415T124500
DTSTAMP:20260424T024526
CREATED:20260409T202655Z
LAST-MODIFIED:20260409T214905Z
UID:10001982-1776254400-1776257100@bishoplocal.com
SUMMARY:Lunch Vinyasa Flow
DESCRIPTION:Midday vinyasa yoga flow class for an energizing lunchtime movement practice. Held at Sierra Shanti Studio in Bishop.
URL:https://bishoplocal.com/event/lunch-vinyasa-flow-3/
LOCATION:Sierra Shanti Studio\, 275B S Main St\, Bishop\, CA\, 93514\, United States
CATEGORIES:Wellness
ORGANIZER;CN="Sierra Shanti Studio":MAILTO:sierrashanti108@gmail.com
END:VEVENT
BEGIN:VEVENT
DTSTART;TZID=America/Los_Angeles:20260415T120000
DTEND;TZID=America/Los_Angeles:20260415T125500
DTSTAMP:20260424T024526
CREATED:20260409T202346Z
LAST-MODIFIED:20260409T215018Z
UID:10002157-1776254400-1776257700@bishoplocal.com
SUMMARY:Dynamic Flow Pilates
DESCRIPTION:Intermediate to advanced reformer Pilates class using the reformer\, Cadillac tower\, and stability chair. Best suited for Pilates-experienced clients or fit beginners.
URL:https://bishoplocal.com/event/dynamic-flow-pilates-74/
LOCATION:Hummingbird Movement Collective\, 126 N Main St\, Bishop\, 93514\, USA
CATEGORIES:Wellness
END:VEVENT
BEGIN:VEVENT
DTSTART;TZID=America/Los_Angeles:20260415T163000
DTEND;TZID=America/Los_Angeles:20260415T172500
DTSTAMP:20260424T024526
CREATED:20260409T202345Z
LAST-MODIFIED:20260409T215018Z
UID:10002158-1776270600-1776273900@bishoplocal.com
SUMMARY:Gentle Flow Pilates
DESCRIPTION:All-levels reformer Pilates class using the reformer\, tower\, and stability chair. Suitable for all experience levels with options offered for beginners through advanced practitioners.
URL:https://bishoplocal.com/event/gentle-flow-pilates-104/
LOCATION:Hummingbird Movement Collective\, 126 N Main St\, Bishop\, 93514\, USA
CATEGORIES:Wellness
END:VEVENT
BEGIN:VEVENT
DTSTART;TZID=America/Los_Angeles:20260415T171500
DTEND;TZID=America/Los_Angeles:20260415T183000
DTSTAMP:20260424T024526
CREATED:20260415T192416Z
LAST-MODIFIED:20260415T192417Z
UID:10002591-1776273300-1776277800@bishoplocal.com
SUMMARY:The Practice
DESCRIPTION:Yoga-based movement practice at Bishop Strength with Sonia Peltzer.
URL:https://bishoplocal.com/event/the-practice/
LOCATION:Bishop Strength\, 162 Willow St\, Bishop\, 93514\, USA
CATEGORIES:Wellness
END:VEVENT
BEGIN:VEVENT
DTSTART;TZID=America/Los_Angeles:20260415T173000
DTEND;TZID=America/Los_Angeles:20260415T182500
DTSTAMP:20260424T024526
CREATED:20260409T202345Z
LAST-MODIFIED:20260409T215026Z
UID:10002159-1776274200-1776277500@bishoplocal.com
SUMMARY:Dynamic Flow Pilates
DESCRIPTION:Intermediate to advanced reformer Pilates class using the reformer\, Cadillac tower\, and stability chair. Best suited for Pilates-experienced clients or fit beginners.
URL:https://bishoplocal.com/event/dynamic-flow-pilates-73/
LOCATION:Hummingbird Movement Collective\, 126 N Main St\, Bishop\, 93514\, USA
CATEGORIES:Wellness
END:VEVENT
BEGIN:VEVENT
DTSTART;TZID=America/Los_Angeles:20260415T173000
DTEND;TZID=America/Los_Angeles:20260415T183000
DTSTAMP:20260424T024526
CREATED:20260415T192416Z
LAST-MODIFIED:20260415T192417Z
UID:10002592-1776274200-1776277800@bishoplocal.com
SUMMARY:Conditioning
DESCRIPTION:Conditioning class at Bishop Strength with Noah Erlin.
URL:https://bishoplocal.com/event/conditioning/
LOCATION:Bishop Strength\, 162 Willow St\, Bishop\, 93514\, USA
CATEGORIES:Wellness
END:VEVENT
BEGIN:VEVENT
DTSTART;TZID=America/Los_Angeles:20260415T173000
DTEND;TZID=America/Los_Angeles:20260415T184500
DTSTAMP:20260424T024526
CREATED:20260409T202703Z
LAST-MODIFIED:20260409T214849Z
UID:10001967-1776274200-1776278700@bishoplocal.com
SUMMARY:Shakti Vinyasa Flow
DESCRIPTION:Energizing Shakti vinyasa yoga flow blending movement with strength-building sequences. Held at Sierra Shanti Studio in Bishop.
URL:https://bishoplocal.com/event/shakti-vinyasa-flow-2/
LOCATION:Sierra Shanti Studio\, 275B S Main St\, Bishop\, CA\, 93514\, United States
CATEGORIES:Wellness
ORGANIZER;CN="Sierra Shanti Studio":MAILTO:sierrashanti108@gmail.com
END:VEVENT
BEGIN:VEVENT
DTSTART;TZID=America/Los_Angeles:20260415T183000
DTEND;TZID=America/Los_Angeles:20260415T193000
DTSTAMP:20260424T024526
CREATED:20260415T192416Z
LAST-MODIFIED:20260415T192417Z
UID:10002593-1776277800-1776281400@bishoplocal.com
SUMMARY:Conditioning
DESCRIPTION:Conditioning class at Bishop Strength with Noah Erlin. Second session.
URL:https://bishoplocal.com/event/conditioning-2/
LOCATION:Bishop Strength\, 162 Willow St\, Bishop\, 93514\, USA
CATEGORIES:Wellness
END:VEVENT
BEGIN:VEVENT
DTSTART;TZID=America/Los_Angeles:20260415T183000
DTEND;TZID=America/Los_Angeles:20260415T200000
DTSTAMP:20260424T024526
CREATED:20260409T202549Z
LAST-MODIFIED:20260409T202549Z
UID:10002039-1776277800-1776283200@bishoplocal.com
SUMMARY:Ecstatic Dance
DESCRIPTION:Freeform conscious dance event focused on uninhibited movement in a judgment-free community. Substance-free. No experience necessary. Hosted by Galen von Wodtke and local DJs. Suggested donation $10-20.
URL:https://bishoplocal.com/event/ecstatic-dance-2/
LOCATION:C5 Studios\, 210 S Warren St\, Bishop\, CA\, 93514\, United States
CATEGORIES:Wellness
ATTACH;FMTTYPE=image/jpeg:https://bishoplocal.com/wp-content/uploads/2026/04/ECSTATICDANCE288.5x11in2928129.jpg
END:VEVENT
BEGIN:VEVENT
DTSTART;TZID=America/Los_Angeles:20260416T051500
DTEND;TZID=America/Los_Angeles:20260416T061500
DTSTAMP:20260424T024526
CREATED:20260415T192446Z
LAST-MODIFIED:20260415T192447Z
UID:10002618-1776316500-1776320100@bishoplocal.com
SUMMARY:Bootcamp
DESCRIPTION:Bootcamp class at Bishop Strength with Kelly Ludwick.
URL:https://bishoplocal.com/event/bootcamp-13/
LOCATION:Bishop Strength\, 162 Willow St\, Bishop\, 93514\, USA
CATEGORIES:Wellness
END:VEVENT
BEGIN:VEVENT
DTSTART;TZID=America/Los_Angeles:20260416T064500
DTEND;TZID=America/Los_Angeles:20260416T074000
DTSTAMP:20260424T024526
CREATED:20260409T202345Z
LAST-MODIFIED:20260409T215026Z
UID:10002160-1776321900-1776325200@bishoplocal.com
SUMMARY:Dynamic Flow Pilates
DESCRIPTION:Intermediate to advanced reformer Pilates class using the reformer\, Cadillac tower\, and stability chair. Best suited for Pilates-experienced clients or fit beginners.
URL:https://bishoplocal.com/event/dynamic-flow-pilates-72/
LOCATION:Hummingbird Movement Collective\, 126 N Main St\, Bishop\, 93514\, USA
CATEGORIES:Wellness
END:VEVENT
BEGIN:VEVENT
DTSTART;TZID=America/Los_Angeles:20260416T070000
DTEND;TZID=America/Los_Angeles:20260416T074500
DTSTAMP:20260424T024526
CREATED:20260409T202842Z
LAST-MODIFIED:20260409T214713Z
UID:10001874-1776322800-1776325500@bishoplocal.com
SUMMARY:Vipassana Meditation
DESCRIPTION:Vipassana insight meditation class in the Buddhist tradition focusing on self-awareness and mindful observation. Donation-based class at Bishop Yoga & Pilates Center.
URL:https://bishoplocal.com/event/vipassana-meditation-2/
LOCATION:Bishop Yoga & Pilates Center\, 621 W. Line St. #203\, Bishop\, CA\, 93514\, United States
CATEGORIES:Wellness
END:VEVENT
BEGIN:VEVENT
DTSTART;TZID=America/Los_Angeles:20260416T070000
DTEND;TZID=America/Los_Angeles:20260416T080000
DTSTAMP:20260424T024526
CREATED:20260409T202703Z
LAST-MODIFIED:20260409T214849Z
UID:10001968-1776322800-1776326400@bishoplocal.com
SUMMARY:Wake Up & Flow Vinyasa
DESCRIPTION:Early morning vinyasa yoga class to start the day with flowing movement and mindful practice. Held at Sierra Shanti Studio in Bishop.
URL:https://bishoplocal.com/event/wake-up-flow-vinyasa-2/
LOCATION:Sierra Shanti Studio\, 275B S Main St\, Bishop\, CA\, 93514\, United States
CATEGORIES:Wellness
ORGANIZER;CN="Sierra Shanti Studio":MAILTO:sierrashanti108@gmail.com
END:VEVENT
BEGIN:VEVENT
DTSTART;TZID=America/Los_Angeles:20260416T080000
DTEND;TZID=America/Los_Angeles:20260416T090000
DTSTAMP:20260424T024526
CREATED:20260409T202842Z
LAST-MODIFIED:20260409T214721Z
UID:10001875-1776326400-1776330000@bishoplocal.com
SUMMARY:Mat/Springwall Pilates
DESCRIPTION:Mat and springwall Pilates class focusing on core strength\, body alignment\, mobility\, and breathing. Taught in the Stott Pilates method at Bishop Yoga & Pilates Center.
URL:https://bishoplocal.com/event/mat-springwall-pilates-4/
LOCATION:Bishop Yoga & Pilates Center\, 621 W. Line St. #203\, Bishop\, CA\, 93514\, United States
CATEGORIES:Wellness
END:VEVENT
BEGIN:VEVENT
DTSTART;TZID=America/Los_Angeles:20260416T081500
DTEND;TZID=America/Los_Angeles:20260416T091000
DTSTAMP:20260424T024526
CREATED:20260409T202345Z
LAST-MODIFIED:20260409T215026Z
UID:10002161-1776327300-1776330600@bishoplocal.com
SUMMARY:Spin & Strength
DESCRIPTION:A dynamic blend of cycling and strength training for a balanced full-body workout. Combines heart-pumping cycling intervals with strength exercises.
URL:https://bishoplocal.com/event/spin-strength-12/
LOCATION:Hummingbird Movement Collective\, 126 N Main St\, Bishop\, 93514\, USA
CATEGORIES:Wellness
END:VEVENT
BEGIN:VEVENT
DTSTART;TZID=America/Los_Angeles:20260416T083000
DTEND;TZID=America/Los_Angeles:20260416T093000
DTSTAMP:20260424T024526
CREATED:20260415T192454Z
LAST-MODIFIED:20260415T192456Z
UID:10002619-1776328200-1776331800@bishoplocal.com
SUMMARY:Bootcamp
DESCRIPTION:Morning bootcamp class at Bishop Strength with Kelly Ludwick.
URL:https://bishoplocal.com/event/bootcamp-14/
LOCATION:Bishop Strength\, 162 Willow St\, Bishop\, 93514\, USA
CATEGORIES:Wellness
END:VEVENT
BEGIN:VEVENT
DTSTART;TZID=America/Los_Angeles:20260416T090000
DTEND;TZID=America/Los_Angeles:20260416T095500
DTSTAMP:20260424T024526
CREATED:20260409T202345Z
LAST-MODIFIED:20260409T215026Z
UID:10002162-1776330000-1776333300@bishoplocal.com
SUMMARY:Gentle Flow Pilates
DESCRIPTION:All-levels reformer Pilates class using the reformer\, tower\, and stability chair. Suitable for all experience levels with options offered for beginners through advanced practitioners.
URL:https://bishoplocal.com/event/gentle-flow-pilates-103/
LOCATION:Hummingbird Movement Collective\, 126 N Main St\, Bishop\, 93514\, USA
CATEGORIES:Wellness
END:VEVENT
BEGIN:VEVENT
DTSTART;TZID=America/Los_Angeles:20260416T091500
DTEND;TZID=America/Los_Angeles:20260416T101000
DTSTAMP:20260424T024526
CREATED:20260409T202337Z
LAST-MODIFIED:20260409T215026Z
UID:10002163-1776330900-1776334200@bishoplocal.com
SUMMARY:Weight Lifting
DESCRIPTION:Small-group weight lifting class with simple programming and progressive instruction. Great for beginners or those who prefer a small-group setting for personalized guidance.
URL:https://bishoplocal.com/event/weight-lifting-53/
LOCATION:Hummingbird Movement Collective\, 126 N Main St\, Bishop\, 93514\, USA
CATEGORIES:Wellness
END:VEVENT
BEGIN:VEVENT
DTSTART;TZID=America/Los_Angeles:20260416T100000
DTEND;TZID=America/Los_Angeles:20260416T105500
DTSTAMP:20260424T024526
CREATED:20260409T202337Z
LAST-MODIFIED:20260409T215026Z
UID:10002164-1776333600-1776336900@bishoplocal.com
SUMMARY:Gentle Flow Pilates
DESCRIPTION:All-levels reformer Pilates class using the reformer\, tower\, and stability chair. Suitable for all experience levels with options offered for beginners through advanced practitioners.
URL:https://bishoplocal.com/event/gentle-flow-pilates-102/
LOCATION:Hummingbird Movement Collective\, 126 N Main St\, Bishop\, 93514\, USA
CATEGORIES:Wellness
END:VEVENT
BEGIN:VEVENT
DTSTART;TZID=America/Los_Angeles:20260416T101500
DTEND;TZID=America/Los_Angeles:20260416T111000
DTSTAMP:20260424T024526
CREATED:20260409T202337Z
LAST-MODIFIED:20260409T215026Z
UID:10002165-1776334500-1776337800@bishoplocal.com
SUMMARY:Weight Lifting
DESCRIPTION:Small-group weight lifting class with simple programming and progressive instruction. Great for beginners or those who prefer a small-group setting for personalized guidance.
URL:https://bishoplocal.com/event/weight-lifting-52/
LOCATION:Hummingbird Movement Collective\, 126 N Main St\, Bishop\, 93514\, USA
CATEGORIES:Wellness
END:VEVENT
BEGIN:VEVENT
DTSTART;TZID=America/Los_Angeles:20260416T111500
DTEND;TZID=America/Los_Angeles:20260416T121000
DTSTAMP:20260424T024526
CREATED:20260409T202337Z
LAST-MODIFIED:20260409T215026Z
UID:10002166-1776338100-1776341400@bishoplocal.com
SUMMARY:Weight Lifting
DESCRIPTION:Small-group weight lifting class with simple programming and progressive instruction. Great for beginners or those who prefer a small-group setting for personalized guidance.
URL:https://bishoplocal.com/event/weight-lifting-51/
LOCATION:Hummingbird Movement Collective\, 126 N Main St\, Bishop\, 93514\, USA
CATEGORIES:Wellness
END:VEVENT
BEGIN:VEVENT
DTSTART;TZID=America/Los_Angeles:20260416T120000
DTEND;TZID=America/Los_Angeles:20260416T125500
DTSTAMP:20260424T024526
CREATED:20260409T202337Z
LAST-MODIFIED:20260409T215034Z
UID:10002167-1776340800-1776344100@bishoplocal.com
SUMMARY:TRX
DESCRIPTION:TRX suspension training class for a full-body workout using bodyweight resistance.
URL:https://bishoplocal.com/event/trx-26/
LOCATION:Hummingbird Movement Collective\, 126 N Main St\, Bishop\, 93514\, USA
CATEGORIES:Wellness
END:VEVENT
BEGIN:VEVENT
DTSTART;TZID=America/Los_Angeles:20260416T150000
DTEND;TZID=America/Los_Angeles:20260416T155500
DTSTAMP:20260424T024526
CREATED:20260409T202337Z
LAST-MODIFIED:20260409T215034Z
UID:10002168-1776351600-1776354900@bishoplocal.com
SUMMARY:TRX
DESCRIPTION:TRX suspension training class for a full-body workout using bodyweight resistance.
URL:https://bishoplocal.com/event/trx-25/
LOCATION:Hummingbird Movement Collective\, 126 N Main St\, Bishop\, 93514\, USA
CATEGORIES:Wellness
END:VEVENT
BEGIN:VEVENT
DTSTART;TZID=America/Los_Angeles:20260416T160000
DTEND;TZID=America/Los_Angeles:20260416T164500
DTSTAMP:20260424T024526
CREATED:20260409T202337Z
LAST-MODIFIED:20260409T215034Z
UID:10002169-1776355200-1776357900@bishoplocal.com
SUMMARY:Spin
DESCRIPTION:Energizing indoor cycling class combining music\, motivating coaching\, and interval-based cycling drills for a full-body cardiovascular workout.
URL:https://bishoplocal.com/event/spin-27/
LOCATION:Hummingbird Movement Collective\, 126 N Main St\, Bishop\, 93514\, USA
CATEGORIES:Wellness
END:VEVENT
BEGIN:VEVENT
DTSTART;TZID=America/Los_Angeles:20260416T170000
DTEND;TZID=America/Los_Angeles:20260416T175500
DTSTAMP:20260424T024526
CREATED:20260409T202337Z
LAST-MODIFIED:20260409T215034Z
UID:10002170-1776358800-1776362100@bishoplocal.com
SUMMARY:Gentle Flow Pilates
DESCRIPTION:All-levels reformer Pilates class using the reformer\, tower\, and stability chair. Suitable for all experience levels with options offered for beginners through advanced practitioners.
URL:https://bishoplocal.com/event/gentle-flow-pilates-101/
LOCATION:Hummingbird Movement Collective\, 126 N Main St\, Bishop\, 93514\, USA
CATEGORIES:Wellness
END:VEVENT
BEGIN:VEVENT
DTSTART;TZID=America/Los_Angeles:20260416T173000
DTEND;TZID=America/Los_Angeles:20260416T183000
DTSTAMP:20260424T024526
CREATED:20260409T202703Z
LAST-MODIFIED:20260409T214849Z
UID:10001969-1776360600-1776364200@bishoplocal.com
SUMMARY:Vinyasa to Yin Flow
DESCRIPTION:Yoga class transitioning from active vinyasa movement into slower\, restorative yin holds. Held at Sierra Shanti Studio in Bishop.
URL:https://bishoplocal.com/event/vinyasa-to-yin-flow-2/
LOCATION:Sierra Shanti Studio\, 275B S Main St\, Bishop\, CA\, 93514\, United States
CATEGORIES:Wellness
ORGANIZER;CN="Sierra Shanti Studio":MAILTO:sierrashanti108@gmail.com
END:VEVENT
END:VCALENDAR