BEGIN:VCALENDAR
VERSION:2.0
PRODID:-//BishopLocal.com - ECPv6.15.18//NONSGML v1.0//EN
CALSCALE:GREGORIAN
METHOD:PUBLISH
X-WR-CALNAME:BishopLocal.com
X-ORIGINAL-URL:https://bishoplocal.com
X-WR-CALDESC:Events for BishopLocal.com
REFRESH-INTERVAL;VALUE=DURATION:PT1H
X-Robots-Tag:noindex
X-PUBLISHED-TTL:PT1H
BEGIN:VTIMEZONE
TZID:America/Los_Angeles
BEGIN:DAYLIGHT
TZOFFSETFROM:-0800
TZOFFSETTO:-0700
TZNAME:PDT
DTSTART:20250309T100000
END:DAYLIGHT
BEGIN:STANDARD
TZOFFSETFROM:-0700
TZOFFSETTO:-0800
TZNAME:PST
DTSTART:20251102T090000
END:STANDARD
BEGIN:DAYLIGHT
TZOFFSETFROM:-0800
TZOFFSETTO:-0700
TZNAME:PDT
DTSTART:20260308T100000
END:DAYLIGHT
BEGIN:STANDARD
TZOFFSETFROM:-0700
TZOFFSETTO:-0800
TZNAME:PST
DTSTART:20261101T090000
END:STANDARD
BEGIN:DAYLIGHT
TZOFFSETFROM:-0800
TZOFFSETTO:-0700
TZNAME:PDT
DTSTART:20270314T100000
END:DAYLIGHT
BEGIN:STANDARD
TZOFFSETFROM:-0700
TZOFFSETTO:-0800
TZNAME:PST
DTSTART:20271107T090000
END:STANDARD
END:VTIMEZONE
BEGIN:VEVENT
DTSTART;TZID=America/Los_Angeles:20260502T093000
DTEND;TZID=America/Los_Angeles:20260503T130000
DTSTAMP:20260422T084225
CREATED:20260415T192232Z
LAST-MODIFIED:20260416T183917Z
UID:10002509-1777714200-1777813200@bishoplocal.com
SUMMARY:Dances of Universal Peace Retreat
DESCRIPTION:Spring spiritual dance retreat led by Shivadam Burke. Suggested donation $20-$35.
URL:https://bishoplocal.com/event/dances-of-universal-peace-retreat/
LOCATION:Bishop Civic Auditorium\, 377 W Line Street\, Bishop\, 93514
CATEGORIES:Wellness
ATTACH;FMTTYPE=image/png:https://bishoplocal.com/wp-content/uploads/2026/04/Screenshot-2026-04-16-at-11.37.37-AM.png
END:VEVENT
BEGIN:VEVENT
DTSTART;TZID=America/Los_Angeles:20260502T100000
DTEND;TZID=America/Los_Angeles:20260502T105500
DTSTAMP:20260422T084225
CREATED:20260409T202148Z
LAST-MODIFIED:20260409T202148Z
UID:10002274-1777716000-1777719300@bishoplocal.com
SUMMARY:Gentle Flow Pilates
DESCRIPTION:All-levels reformer Pilates class using the reformer\, tower\, and stability chair. Suitable for all experience levels with options offered for beginners through advanced practitioners.
URL:https://bishoplocal.com/event/gentle-flow-pilates-65/
LOCATION:Hummingbird Movement Collective\, 126 N Main St\, Bishop\, 93514\, USA
CATEGORIES:Wellness
END:VEVENT
BEGIN:VEVENT
DTSTART;TZID=America/Los_Angeles:20260502T110000
DTEND;TZID=America/Los_Angeles:20260502T115500
DTSTAMP:20260422T084225
CREATED:20260409T202140Z
LAST-MODIFIED:20260409T202140Z
UID:10002275-1777719600-1777722900@bishoplocal.com
SUMMARY:Weight Lifting
DESCRIPTION:Small-group weight lifting class with simple programming and progressive instruction. Great for beginners or those who prefer a small-group setting for personalized guidance.
URL:https://bishoplocal.com/event/weight-lifting-33/
LOCATION:Hummingbird Movement Collective\, 126 N Main St\, Bishop\, 93514\, USA
CATEGORIES:Wellness
END:VEVENT
BEGIN:VEVENT
DTSTART;TZID=America/Los_Angeles:20260503T080000
DTEND;TZID=America/Los_Angeles:20260503T090000
DTSTAMP:20260422T084225
CREATED:20260409T202859Z
LAST-MODIFIED:20260409T202859Z
UID:10001855-1777795200-1777798800@bishoplocal.com
SUMMARY:Mat/Springwall Pilates
DESCRIPTION:Mat and springwall Pilates class focusing on core strength\, body alignment\, mobility\, and breathing. Taught in the Stott Pilates method at Bishop Yoga & Pilates Center.
URL:https://bishoplocal.com/event/mat-springwall-pilates-11/
LOCATION:Bishop Yoga & Pilates Center\, 621 W. Line St. #203\, Bishop\, CA\, 93514\, United States
CATEGORIES:Wellness
END:VEVENT
BEGIN:VEVENT
DTSTART;TZID=America/Los_Angeles:20260503T090000
DTEND;TZID=America/Los_Angeles:20260503T100000
DTSTAMP:20260422T084225
CREATED:20260409T202736Z
LAST-MODIFIED:20260409T202736Z
UID:10001936-1777798800-1777802400@bishoplocal.com
SUMMARY:Community Class - Donation Based
DESCRIPTION:Donation-based community yoga class open to all levels and abilities. Held at Sierra Shanti Studio in Bishop.
URL:https://bishoplocal.com/event/community-class-donation-based-5/
LOCATION:Sierra Shanti Studio\, 275B S Main St\, Bishop\, CA\, 93514\, United States
CATEGORIES:Wellness
ORGANIZER;CN="Sierra Shanti Studio":MAILTO:sierrashanti108@gmail.com
END:VEVENT
BEGIN:VEVENT
DTSTART;TZID=America/Los_Angeles:20260503T093000
DTEND;TZID=America/Los_Angeles:20260503T102500
DTSTAMP:20260422T084225
CREATED:20260409T202140Z
LAST-MODIFIED:20260409T202140Z
UID:10002276-1777800600-1777803900@bishoplocal.com
SUMMARY:Dynamic Flow Pilates
DESCRIPTION:Intermediate to advanced reformer Pilates class using the reformer\, Cadillac tower\, and stability chair. Best suited for Pilates-experienced clients or fit beginners.
URL:https://bishoplocal.com/event/dynamic-flow-pilates-46/
LOCATION:Hummingbird Movement Collective\, 126 N Main St\, Bishop\, 93514\, USA
CATEGORIES:Wellness
END:VEVENT
BEGIN:VEVENT
DTSTART;TZID=America/Los_Angeles:20260503T103000
DTEND;TZID=America/Los_Angeles:20260503T112500
DTSTAMP:20260422T084225
CREATED:20260409T202140Z
LAST-MODIFIED:20260409T202140Z
UID:10002277-1777804200-1777807500@bishoplocal.com
SUMMARY:GYROKINESIS
DESCRIPTION:Full-body movement workout accessible to athletes\, seniors\, and those recovering from injury. Focuses on fluid\, rhythmic sequences to improve mobility and coordination.
URL:https://bishoplocal.com/event/gyrokinesis-5/
LOCATION:Hummingbird Movement Collective\, 126 N Main St\, Bishop\, 93514\, USA
CATEGORIES:Wellness
END:VEVENT
BEGIN:VEVENT
DTSTART;TZID=America/Los_Angeles:20260503T113000
DTEND;TZID=America/Los_Angeles:20260503T122500
DTSTAMP:20260422T084225
CREATED:20260409T202140Z
LAST-MODIFIED:20260409T202140Z
UID:10002278-1777807800-1777811100@bishoplocal.com
SUMMARY:Dynamic Flow Pilates
DESCRIPTION:Intermediate to advanced reformer Pilates class using the reformer\, Cadillac tower\, and stability chair. Best suited for Pilates-experienced clients or fit beginners.
URL:https://bishoplocal.com/event/dynamic-flow-pilates-45/
LOCATION:Hummingbird Movement Collective\, 126 N Main St\, Bishop\, 93514\, USA
CATEGORIES:Wellness
END:VEVENT
BEGIN:VEVENT
DTSTART;TZID=America/Los_Angeles:20260503T130000
DTEND;TZID=America/Los_Angeles:20260503T135500
DTSTAMP:20260422T084225
CREATED:20260409T202140Z
LAST-MODIFIED:20260409T202140Z
UID:10002279-1777813200-1777816500@bishoplocal.com
SUMMARY:Cardio Tramp Pilates
DESCRIPTION:High-energy Pilates class using the cardio tramp reformer for plyometric movement on a soft landing surface. Designed for those looking to sweat and build cardiovascular endurance.
URL:https://bishoplocal.com/event/cardio-tramp-pilates-5/
LOCATION:Hummingbird Movement Collective\, 126 N Main St\, Bishop\, 93514\, USA
CATEGORIES:Wellness
END:VEVENT
BEGIN:VEVENT
DTSTART;TZID=America/Los_Angeles:20260503T170000
DTEND;TZID=America/Los_Angeles:20260503T181500
DTSTAMP:20260422T084225
CREATED:20260415T192535Z
LAST-MODIFIED:20260415T192535Z
UID:10002655-1777827600-1777832100@bishoplocal.com
SUMMARY:Ashtanga Vinyasa
DESCRIPTION:Ashtanga vinyasa yoga class at Bishop Strength with Jen Fitzwater.
URL:https://bishoplocal.com/event/ashtanga-vinyasa-3/
LOCATION:Bishop Strength\, 162 Willow St\, Bishop\, 93514\, USA
CATEGORIES:Wellness
END:VEVENT
BEGIN:VEVENT
DTSTART;TZID=America/Los_Angeles:20260503T173000
DTEND;TZID=America/Los_Angeles:20260503T183000
DTSTAMP:20260422T084225
CREATED:20260409T202736Z
LAST-MODIFIED:20260409T202736Z
UID:10001937-1777829400-1777833000@bishoplocal.com
SUMMARY:Restorative Yoga for Athletes: Sunday Flow
DESCRIPTION:Restorative yoga class designed for athletes\, focusing on recovery\, flexibility\, and deep relaxation. Held at Sierra Shanti Studio in Bishop.
URL:https://bishoplocal.com/event/restorative-yoga-for-athletes-sunday-flow-5/
LOCATION:Sierra Shanti Studio\, 275B S Main St\, Bishop\, CA\, 93514\, United States
CATEGORIES:Wellness
ORGANIZER;CN="Sierra Shanti Studio":MAILTO:sierrashanti108@gmail.com
END:VEVENT
BEGIN:VEVENT
DTSTART;TZID=America/Los_Angeles:20260504T053000
DTEND;TZID=America/Los_Angeles:20260504T063000
DTSTAMP:20260422T084225
CREATED:20260415T192325Z
LAST-MODIFIED:20260415T192325Z
UID:10002554-1777872600-1777876200@bishoplocal.com
SUMMARY:Weightlifting (BTB)
DESCRIPTION:Barbell weightlifting class at Bishop Strength with Jared Waasdorp.
URL:https://bishoplocal.com/event/weightlifting-btb-3/
LOCATION:Bishop Strength\, 162 Willow St\, Bishop\, 93514\, USA
CATEGORIES:Wellness
END:VEVENT
BEGIN:VEVENT
DTSTART;TZID=America/Los_Angeles:20260504T081500
DTEND;TZID=America/Los_Angeles:20260504T091000
DTSTAMP:20260422T084225
CREATED:20260409T202140Z
LAST-MODIFIED:20260409T202140Z
UID:10002280-1777882500-1777885800@bishoplocal.com
SUMMARY:Gentle Flow Pilates
DESCRIPTION:All-levels reformer Pilates class using the reformer\, tower\, and stability chair. Suitable for all experience levels with options offered for beginners through advanced practitioners.
URL:https://bishoplocal.com/event/gentle-flow-pilates-64/
LOCATION:Hummingbird Movement Collective\, 126 N Main St\, Bishop\, 93514\, USA
CATEGORIES:Wellness
END:VEVENT
BEGIN:VEVENT
DTSTART;TZID=America/Los_Angeles:20260504T091500
DTEND;TZID=America/Los_Angeles:20260504T101000
DTSTAMP:20260422T084225
CREATED:20260409T202140Z
LAST-MODIFIED:20260409T202140Z
UID:10002281-1777886100-1777889400@bishoplocal.com
SUMMARY:Gentle Flow Pilates
DESCRIPTION:All-levels reformer Pilates class using the reformer\, tower\, and stability chair. Suitable for all experience levels with options offered for beginners through advanced practitioners.
URL:https://bishoplocal.com/event/gentle-flow-pilates-63/
LOCATION:Hummingbird Movement Collective\, 126 N Main St\, Bishop\, 93514\, USA
CATEGORIES:Wellness
END:VEVENT
BEGIN:VEVENT
DTSTART;TZID=America/Los_Angeles:20260504T101500
DTEND;TZID=America/Los_Angeles:20260504T111000
DTSTAMP:20260422T084225
CREATED:20260409T202140Z
LAST-MODIFIED:20260409T202140Z
UID:10002282-1777889700-1777893000@bishoplocal.com
SUMMARY:Gentle Flow Pilates
DESCRIPTION:All-levels reformer Pilates class using the reformer\, tower\, and stability chair. Suitable for all experience levels with options offered for beginners through advanced practitioners.
URL:https://bishoplocal.com/event/gentle-flow-pilates-62/
LOCATION:Hummingbird Movement Collective\, 126 N Main St\, Bishop\, 93514\, USA
CATEGORIES:Wellness
END:VEVENT
BEGIN:VEVENT
DTSTART;TZID=America/Los_Angeles:20260504T113000
DTEND;TZID=America/Los_Angeles:20260504T130000
DTSTAMP:20260422T084225
CREATED:20260409T202736Z
LAST-MODIFIED:20260409T202736Z
UID:10001938-1777894200-1777899600@bishoplocal.com
SUMMARY:Tai Chi
DESCRIPTION:Tai chi class focused on mindful movement\, balance\, and wellness practice. Held at Sierra Shanti Studio in Bishop.
URL:https://bishoplocal.com/event/tai-chi-5/
LOCATION:Sierra Shanti Studio\, 275B S Main St\, Bishop\, CA\, 93514\, United States
CATEGORIES:Wellness
ORGANIZER;CN="Sierra Shanti Studio":MAILTO:sierrashanti108@gmail.com
END:VEVENT
BEGIN:VEVENT
DTSTART;TZID=America/Los_Angeles:20260504T120000
DTEND;TZID=America/Los_Angeles:20260504T125500
DTSTAMP:20260422T084225
CREATED:20260409T202131Z
LAST-MODIFIED:20260409T202131Z
UID:10002283-1777896000-1777899300@bishoplocal.com
SUMMARY:Dynamic Flow Pilates
DESCRIPTION:Intermediate to advanced reformer Pilates class using the reformer\, Cadillac tower\, and stability chair. Best suited for Pilates-experienced clients or fit beginners.
URL:https://bishoplocal.com/event/dynamic-flow-pilates-44/
LOCATION:Hummingbird Movement Collective\, 126 N Main St\, Bishop\, 93514\, USA
CATEGORIES:Wellness
END:VEVENT
BEGIN:VEVENT
DTSTART;TZID=America/Los_Angeles:20260504T163000
DTEND;TZID=America/Los_Angeles:20260504T172500
DTSTAMP:20260422T084225
CREATED:20260409T202131Z
LAST-MODIFIED:20260409T202131Z
UID:10002284-1777912200-1777915500@bishoplocal.com
SUMMARY:Gentle Flow Pilates
DESCRIPTION:All-levels reformer Pilates class using the reformer\, tower\, and stability chair. Suitable for all experience levels with options offered for beginners through advanced practitioners.
URL:https://bishoplocal.com/event/gentle-flow-pilates-61/
LOCATION:Hummingbird Movement Collective\, 126 N Main St\, Bishop\, 93514\, USA
CATEGORIES:Wellness
END:VEVENT
BEGIN:VEVENT
DTSTART;TZID=America/Los_Angeles:20260504T173000
DTEND;TZID=America/Los_Angeles:20260504T181500
DTSTAMP:20260422T084225
CREATED:20260409T202736Z
LAST-MODIFIED:20260409T202736Z
UID:10001939-1777915800-1777918500@bishoplocal.com
SUMMARY:Grounding Flow
DESCRIPTION:Grounding yoga flow class emphasizing stability\, breath\, and mindful movement. Held at Sierra Shanti Studio in Bishop.
URL:https://bishoplocal.com/event/grounding-flow-5/
LOCATION:Sierra Shanti Studio\, 275B S Main St\, Bishop\, CA\, 93514\, United States
CATEGORIES:Wellness
ORGANIZER;CN="Sierra Shanti Studio":MAILTO:sierrashanti108@gmail.com
END:VEVENT
BEGIN:VEVENT
DTSTART;TZID=America/Los_Angeles:20260504T173000
DTEND;TZID=America/Los_Angeles:20260504T182500
DTSTAMP:20260422T084225
CREATED:20260409T202131Z
LAST-MODIFIED:20260409T202131Z
UID:10002285-1777915800-1777919100@bishoplocal.com
SUMMARY:Dynamic Flow Pilates
DESCRIPTION:Intermediate to advanced reformer Pilates class using the reformer\, Cadillac tower\, and stability chair. Best suited for Pilates-experienced clients or fit beginners.
URL:https://bishoplocal.com/event/dynamic-flow-pilates-43/
LOCATION:Hummingbird Movement Collective\, 126 N Main St\, Bishop\, 93514\, USA
CATEGORIES:Wellness
END:VEVENT
BEGIN:VEVENT
DTSTART;TZID=America/Los_Angeles:20260504T173000
DTEND;TZID=America/Los_Angeles:20260504T183000
DTSTAMP:20260422T084225
CREATED:20260409T203157Z
LAST-MODIFIED:20260409T203157Z
UID:10001688-1777915800-1777919400@bishoplocal.com
SUMMARY:Community Yoga – Creative Flow Yoga
DESCRIPTION:Drop-in Creative Flow Yoga class with Jean on Monday evenings. Sliding scale pricing\, no advance registration required. Payment via Venmo\, Zelle\, PayPal\, or cash. Mats and props available to borrow.
URL:https://bishoplocal.com/event/community-yoga-creative-flow-yoga-4/
LOCATION:C5 Studios\, 210 S Warren St\, Bishop\, CA\, 93514\, United States
CATEGORIES:Wellness
ATTACH;FMTTYPE=image/jpeg:https://bishoplocal.com/wp-content/uploads/2026/04/c5Yoga.jpg
END:VEVENT
BEGIN:VEVENT
DTSTART;TZID=America/Los_Angeles:20260504T173000
DTEND;TZID=America/Los_Angeles:20260504T183000
DTSTAMP:20260422T084225
CREATED:20260415T192333Z
LAST-MODIFIED:20260415T192333Z
UID:10002555-1777915800-1777919400@bishoplocal.com
SUMMARY:Olympic Lifting + Technique
DESCRIPTION:Olympic lifting and technique class at Bishop Strength with Paul Mandell.
URL:https://bishoplocal.com/event/olympic-lifting-technique-5/
LOCATION:Bishop Strength\, 162 Willow St\, Bishop\, 93514\, USA
CATEGORIES:Wellness
END:VEVENT
BEGIN:VEVENT
DTSTART;TZID=America/Los_Angeles:20260504T183000
DTEND;TZID=America/Los_Angeles:20260504T193000
DTSTAMP:20260422T084225
CREATED:20260415T192333Z
LAST-MODIFIED:20260415T192333Z
UID:10002556-1777919400-1777923000@bishoplocal.com
SUMMARY:Olympic Lifting + Technique
DESCRIPTION:Olympic lifting and technique class at Bishop Strength with Paul Mandell. Second session.
URL:https://bishoplocal.com/event/olympic-lifting-technique-6/
LOCATION:Bishop Strength\, 162 Willow St\, Bishop\, 93514\, USA
CATEGORIES:Wellness
END:VEVENT
BEGIN:VEVENT
DTSTART;TZID=America/Los_Angeles:20260504T190000
DTEND;TZID=America/Los_Angeles:20260504T200000
DTSTAMP:20260422T084225
CREATED:20260415T192545Z
LAST-MODIFIED:20260415T192545Z
UID:10002664-1777921200-1777924800@bishoplocal.com
SUMMARY:Monday Night Meditation: Flowing Waters Sangha
DESCRIPTION:Community meditation group exploring Buddhist and earth-based teachings informed by Plum Village Zen and Theravada traditions. No prior experience needed\, beginners welcome.
URL:https://bishoplocal.com/event/monday-night-meditation-flowing-waters-sangha-3/
LOCATION:Root Down Community Hub\, Bishop\, 93514\, USA
CATEGORIES:Wellness
END:VEVENT
BEGIN:VEVENT
DTSTART;TZID=America/Los_Angeles:20260504T191500
DTEND;TZID=America/Los_Angeles:20260504T201500
DTSTAMP:20260422T084225
CREATED:20260409T202736Z
LAST-MODIFIED:20260409T202736Z
UID:10001940-1777922100-1777925700@bishoplocal.com
SUMMARY:Monday Reset Flow
DESCRIPTION:Monday evening yoga flow class designed to reset and restore through guided movement and breathwork. Held at Sierra Shanti Studio in Bishop.
URL:https://bishoplocal.com/event/monday-reset-flow-5/
LOCATION:Sierra Shanti Studio\, 275B S Main St\, Bishop\, CA\, 93514\, United States
CATEGORIES:Wellness
ORGANIZER;CN="Sierra Shanti Studio":MAILTO:sierrashanti108@gmail.com
END:VEVENT
BEGIN:VEVENT
DTSTART;TZID=America/Los_Angeles:20260505T051500
DTEND;TZID=America/Los_Angeles:20260505T061500
DTSTAMP:20260422T084225
CREATED:20260415T192355Z
LAST-MODIFIED:20260415T192355Z
UID:10002574-1777958100-1777961700@bishoplocal.com
SUMMARY:Bootcamp
DESCRIPTION:Bootcamp class at Bishop Strength with Kelly Ludwick.
URL:https://bishoplocal.com/event/bootcamp-5/
LOCATION:Bishop Strength\, 162 Willow St\, Bishop\, 93514\, USA
CATEGORIES:Wellness
END:VEVENT
BEGIN:VEVENT
DTSTART;TZID=America/Los_Angeles:20260505T064500
DTEND;TZID=America/Los_Angeles:20260505T074000
DTSTAMP:20260422T084225
CREATED:20260409T202131Z
LAST-MODIFIED:20260409T202131Z
UID:10002286-1777963500-1777966800@bishoplocal.com
SUMMARY:Dynamic Flow Pilates
DESCRIPTION:Intermediate to advanced reformer Pilates class using the reformer\, Cadillac tower\, and stability chair. Best suited for Pilates-experienced clients or fit beginners.
URL:https://bishoplocal.com/event/dynamic-flow-pilates-42/
LOCATION:Hummingbird Movement Collective\, 126 N Main St\, Bishop\, 93514\, USA
CATEGORIES:Wellness
END:VEVENT
BEGIN:VEVENT
DTSTART;TZID=America/Los_Angeles:20260505T083000
DTEND;TZID=America/Los_Angeles:20260505T093000
DTSTAMP:20260422T084225
CREATED:20260415T192355Z
LAST-MODIFIED:20260415T192355Z
UID:10002575-1777969800-1777973400@bishoplocal.com
SUMMARY:Bootcamp
DESCRIPTION:Morning bootcamp class at Bishop Strength with Kelly Ludwick.
URL:https://bishoplocal.com/event/bootcamp-6/
LOCATION:Bishop Strength\, 162 Willow St\, Bishop\, 93514\, USA
CATEGORIES:Wellness
END:VEVENT
BEGIN:VEVENT
DTSTART;TZID=America/Los_Angeles:20260505T090000
DTEND;TZID=America/Los_Angeles:20260505T095500
DTSTAMP:20260422T084225
CREATED:20260409T202131Z
LAST-MODIFIED:20260409T202131Z
UID:10002287-1777971600-1777974900@bishoplocal.com
SUMMARY:Gentle Flow Pilates
DESCRIPTION:All-levels reformer Pilates class using the reformer\, tower\, and stability chair. Suitable for all experience levels with options offered for beginners through advanced practitioners.
URL:https://bishoplocal.com/event/gentle-flow-pilates-60/
LOCATION:Hummingbird Movement Collective\, 126 N Main St\, Bishop\, 93514\, USA
CATEGORIES:Wellness
END:VEVENT
BEGIN:VEVENT
DTSTART;TZID=America/Los_Angeles:20260505T091500
DTEND;TZID=America/Los_Angeles:20260505T101000
DTSTAMP:20260422T084225
CREATED:20260409T202131Z
LAST-MODIFIED:20260409T202131Z
UID:10002288-1777972500-1777975800@bishoplocal.com
SUMMARY:Weight Lifting
DESCRIPTION:Small-group weight lifting class with simple programming and progressive instruction. Great for beginners or those who prefer a small-group setting for personalized guidance.
URL:https://bishoplocal.com/event/weight-lifting-32/
LOCATION:Hummingbird Movement Collective\, 126 N Main St\, Bishop\, 93514\, USA
CATEGORIES:Wellness
END:VEVENT
END:VCALENDAR