BEGIN:VCALENDAR
VERSION:2.0
PRODID:-//BishopLocal.com - ECPv6.15.18//NONSGML v1.0//EN
CALSCALE:GREGORIAN
METHOD:PUBLISH
X-WR-CALNAME:BishopLocal.com
X-ORIGINAL-URL:https://bishoplocal.com
X-WR-CALDESC:Events for BishopLocal.com
REFRESH-INTERVAL;VALUE=DURATION:PT1H
X-Robots-Tag:noindex
X-PUBLISHED-TTL:PT1H
BEGIN:VTIMEZONE
TZID:America/Los_Angeles
BEGIN:DAYLIGHT
TZOFFSETFROM:-0800
TZOFFSETTO:-0700
TZNAME:PDT
DTSTART:20250309T100000
END:DAYLIGHT
BEGIN:STANDARD
TZOFFSETFROM:-0700
TZOFFSETTO:-0800
TZNAME:PST
DTSTART:20251102T090000
END:STANDARD
BEGIN:DAYLIGHT
TZOFFSETFROM:-0800
TZOFFSETTO:-0700
TZNAME:PDT
DTSTART:20260308T100000
END:DAYLIGHT
BEGIN:STANDARD
TZOFFSETFROM:-0700
TZOFFSETTO:-0800
TZNAME:PST
DTSTART:20261101T090000
END:STANDARD
BEGIN:DAYLIGHT
TZOFFSETFROM:-0800
TZOFFSETTO:-0700
TZNAME:PDT
DTSTART:20270314T100000
END:DAYLIGHT
BEGIN:STANDARD
TZOFFSETFROM:-0700
TZOFFSETTO:-0800
TZNAME:PST
DTSTART:20271107T090000
END:STANDARD
END:VTIMEZONE
BEGIN:VEVENT
DTSTART;TZID=America/Los_Angeles:20260527T180000
DTEND;TZID=America/Los_Angeles:20260527T210000
DTSTAMP:20260420T081054
CREATED:20260415T192242Z
LAST-MODIFIED:20260415T192242Z
UID:10002519-1779904800-1779915600@bishoplocal.com
SUMMARY:Planning Commission Meeting
DESCRIPTION:Regular City of Bishop planning commission meeting.
URL:https://bishoplocal.com/event/planning-commission-meeting/
LOCATION:Bishop City Hall – Council Chambers\, 377 W Line St\, Bishop\, 93514
CATEGORIES:Community
END:VEVENT
BEGIN:VEVENT
DTSTART;TZID=America/Los_Angeles:20260527T183000
DTEND;TZID=America/Los_Angeles:20260527T193000
DTSTAMP:20260420T081054
CREATED:20260415T192302Z
LAST-MODIFIED:20260415T192303Z
UID:10002531-1779906600-1779910200@bishoplocal.com
SUMMARY:Adult Beginner Tap Dance
DESCRIPTION:8-week beginner tap dance series with Courtney Keeler. $20 per class or $140 for the series.
URL:https://bishoplocal.com/event/adult-beginner-tap-dance-4/
LOCATION:Bishop Yoga & Pilates Center\, 621 W. Line St. #203\, Bishop\, CA\, 93514\, United States
CATEGORIES:arts-culture
END:VEVENT
BEGIN:VEVENT
DTSTART;TZID=America/Los_Angeles:20260528T160000
DTEND;TZID=America/Los_Angeles:20260528T190000
DTSTAMP:20260420T081054
CREATED:20260409T202631Z
LAST-MODIFIED:20260409T202631Z
UID:10002006-1779984000-1779994800@bishoplocal.com
SUMMARY:Farm to Table Market
DESCRIPTION:Weekly community market featuring local vendors\, seasonal foods\, handmade goods\, live music\, and hands-on workshops at Bishop United Methodist Church.
URL:https://bishoplocal.com/event/farm-to-table-market-5/
LOCATION:First United Methodist Church\, 205 N Fowler St\, Bishop\, CA\, 93514\, United States
CATEGORIES:food-drink
ORGANIZER;CN="Eastern Sierra Farm Fresh":MAILTO:esffbishopinfo@gmail.com
END:VEVENT
BEGIN:VEVENT
DTSTART;TZID=America/Los_Angeles:20260528T170000
DTEND;TZID=America/Los_Angeles:20260528T210000
DTSTAMP:20260420T081054
CREATED:20260409T202451Z
LAST-MODIFIED:20260409T202451Z
UID:10002096-1779987600-1780002000@bishoplocal.com
SUMMARY:Cloudripper Pop-Up Dinner
DESCRIPTION:Weekly pop-up dinner at Owens Valley Distilling Company. Rotating menu featuring East and Southeast Asian food\, falafel bowls\, and seasonal dishes made with local ingredients. Check @cloudripperbishop on Instagram for this week’s menu.
URL:https://bishoplocal.com/event/cloudripper-pop-up-dinner-2/
LOCATION:Owens Valley Distilling Company\, 237 E South Street\, Bishop\, 442-228-5041\, 93514
CATEGORIES:food-drink
END:VEVENT
BEGIN:VEVENT
DTSTART;TZID=America/Los_Angeles:20260528T180000
DTEND;TZID=America/Los_Angeles:20260528T190000
DTSTAMP:20260420T081054
CREATED:20260415T192242Z
LAST-MODIFIED:20260415T192242Z
UID:10002521-1779991200-1779994800@bishoplocal.com
SUMMARY:Parks and Recreation Commission Meeting
DESCRIPTION:City of Bishop Parks and Recreation Commission meeting.
URL:https://bishoplocal.com/event/parks-and-recreation-commission-meeting-2/
LOCATION:Bishop City Hall – Council Chambers\, 377 W Line St\, Bishop\, 93514
CATEGORIES:Community
END:VEVENT
BEGIN:VEVENT
DTSTART;TZID=America/Los_Angeles:20260529T180000
DTEND;TZID=America/Los_Angeles:20260529T190000
DTSTAMP:20260420T081054
CREATED:20260409T202532Z
LAST-MODIFIED:20260409T202533Z
UID:10002058-1780077600-1780081200@bishoplocal.com
SUMMARY:Live Figure Drawing
DESCRIPTION:Uninstructed figure drawing session with a live model at C5 Studios. Bring your own supplies. No photography. Ages 18+. Suggested donation $15-$30.
URL:https://bishoplocal.com/event/live-figure-drawing/
LOCATION:C5 Studios\, 210 S Warren St\, Bishop\, CA\, 93514\, United States
CATEGORIES:arts-culture
ATTACH;FMTTYPE=image/jpeg:https://bishoplocal.com/wp-content/uploads/2026/04/FigureDrawingflyer2026.jpg
END:VEVENT
BEGIN:VEVENT
DTSTART;TZID=America/Los_Angeles:20260530T170000
DTEND;TZID=America/Los_Angeles:20260530T210000
DTSTAMP:20260420T081054
CREATED:20260409T202451Z
LAST-MODIFIED:20260409T202451Z
UID:10002097-1780160400-1780174800@bishoplocal.com
SUMMARY:Cloudripper Pop-Up Dinner
DESCRIPTION:Weekly pop-up dinner at Owens Valley Distilling Company. Rotating menu featuring East and Southeast Asian food\, falafel bowls\, and seasonal dishes made with local ingredients. Check @cloudripperbishop on Instagram for this week’s menu.
URL:https://bishoplocal.com/event/cloudripper-pop-up-dinner/
LOCATION:Owens Valley Distilling Company\, 237 E South Street\, Bishop\, 442-228-5041\, 93514
CATEGORIES:food-drink
END:VEVENT
BEGIN:VEVENT
DTSTART;TZID=America/Los_Angeles:20260531T080000
DTEND;TZID=America/Los_Angeles:20260531T120000
DTSTAMP:20260420T081054
CREATED:20260409T202507Z
LAST-MODIFIED:20260409T202507Z
UID:10002082-1780214400-1780228800@bishoplocal.com
SUMMARY:Coffee Church
DESCRIPTION:Weekly pop-up cafe at Indy Coffee Roasting Company. Organic European-style pour-overs\, Mexican and Scandinavian coffee drinks\, and artisan pastries. Enter at Lagoon Street behind Luxe Salon.
URL:https://bishoplocal.com/event/coffee-church/
LOCATION:Indy Coffee Roasting Company\, 307 S Main St\, Bishop\, CA\, 93514\, United States
CATEGORIES:food-drink
END:VEVENT
BEGIN:VEVENT
DTSTART;TZID=America/Los_Angeles:20260606T100000
DTEND;TZID=America/Los_Angeles:20260607T220000
DTSTAMP:20260420T081054
CREATED:20260415T192241Z
LAST-MODIFIED:20260415T192242Z
UID:10002516-1780740000-1780869600@bishoplocal.com
SUMMARY:Eastern Sierra Pride Festival 2026
DESCRIPTION:Annual Eastern Sierra Pride festival at Canyon Lodge\, Mammoth Mountain.
URL:https://bishoplocal.com/event/eastern-sierra-pride-festival-2026/
LOCATION:Canyon Lodge\, Mammoth Mountain\, Mammoth Lakes\, 93546\, USA
CATEGORIES:Community
ORGANIZER;CN="Eastern Sierra Pride":MAILTO:info@easternsierrapride.org
END:VEVENT
END:VCALENDAR