BEGIN:VCALENDAR
VERSION:2.0
PRODID:-//BishopLocal.com - ECPv6.15.18//NONSGML v1.0//EN
CALSCALE:GREGORIAN
METHOD:PUBLISH
X-WR-CALNAME:BishopLocal.com
X-ORIGINAL-URL:https://bishoplocal.com
X-WR-CALDESC:Events for BishopLocal.com
REFRESH-INTERVAL;VALUE=DURATION:PT1H
X-Robots-Tag:noindex
X-PUBLISHED-TTL:PT1H
BEGIN:VTIMEZONE
TZID:America/Los_Angeles
BEGIN:DAYLIGHT
TZOFFSETFROM:-0800
TZOFFSETTO:-0700
TZNAME:PDT
DTSTART:20250309T100000
END:DAYLIGHT
BEGIN:STANDARD
TZOFFSETFROM:-0700
TZOFFSETTO:-0800
TZNAME:PST
DTSTART:20251102T090000
END:STANDARD
BEGIN:DAYLIGHT
TZOFFSETFROM:-0800
TZOFFSETTO:-0700
TZNAME:PDT
DTSTART:20260308T100000
END:DAYLIGHT
BEGIN:STANDARD
TZOFFSETFROM:-0700
TZOFFSETTO:-0800
TZNAME:PST
DTSTART:20261101T090000
END:STANDARD
BEGIN:DAYLIGHT
TZOFFSETFROM:-0800
TZOFFSETTO:-0700
TZNAME:PDT
DTSTART:20270314T100000
END:DAYLIGHT
BEGIN:STANDARD
TZOFFSETFROM:-0700
TZOFFSETTO:-0800
TZNAME:PST
DTSTART:20271107T090000
END:STANDARD
END:VTIMEZONE
BEGIN:VEVENT
DTSTART;TZID=America/Los_Angeles:20260519T083000
DTEND;TZID=America/Los_Angeles:20260519T093000
DTSTAMP:20260422T035554
CREATED:20260415T192405Z
LAST-MODIFIED:20260415T192405Z
UID:10002583-1779179400-1779183000@bishoplocal.com
SUMMARY:Bootcamp
DESCRIPTION:Morning bootcamp class at Bishop Strength with Kelly Ludwick.
URL:https://bishoplocal.com/event/bootcamp-10/
LOCATION:Bishop Strength\, 162 Willow St\, Bishop\, 93514\, USA
CATEGORIES:Wellness
END:VEVENT
BEGIN:VEVENT
DTSTART;TZID=America/Los_Angeles:20260519T090000
DTEND;TZID=America/Los_Angeles:20260519T095500
DTSTAMP:20260422T035554
CREATED:20260409T201948Z
LAST-MODIFIED:20260409T201948Z
UID:10002381-1779181200-1779184500@bishoplocal.com
SUMMARY:Gentle Flow Pilates
DESCRIPTION:All-levels reformer Pilates class using the reformer\, tower\, and stability chair. Suitable for all experience levels with options offered for beginners through advanced practitioners.
URL:https://bishoplocal.com/event/gentle-flow-pilates-28/
LOCATION:Hummingbird Movement Collective\, 126 N Main St\, Bishop\, 93514\, USA
CATEGORIES:Wellness
END:VEVENT
BEGIN:VEVENT
DTSTART;TZID=America/Los_Angeles:20260519T091500
DTEND;TZID=America/Los_Angeles:20260519T101000
DTSTAMP:20260422T035554
CREATED:20260409T201948Z
LAST-MODIFIED:20260409T201948Z
UID:10002382-1779182100-1779185400@bishoplocal.com
SUMMARY:Weight Lifting
DESCRIPTION:Small-group weight lifting class with simple programming and progressive instruction. Great for beginners or those who prefer a small-group setting for personalized guidance.
URL:https://bishoplocal.com/event/weight-lifting-16/
LOCATION:Hummingbird Movement Collective\, 126 N Main St\, Bishop\, 93514\, USA
CATEGORIES:Wellness
END:VEVENT
BEGIN:VEVENT
DTSTART;TZID=America/Los_Angeles:20260519T100000
DTEND;TZID=America/Los_Angeles:20260519T105500
DTSTAMP:20260422T035554
CREATED:20260409T201948Z
LAST-MODIFIED:20260409T201948Z
UID:10002383-1779184800-1779188100@bishoplocal.com
SUMMARY:Gentle Flow Pilates
DESCRIPTION:All-levels reformer Pilates class using the reformer\, tower\, and stability chair. Suitable for all experience levels with options offered for beginners through advanced practitioners.
URL:https://bishoplocal.com/event/gentle-flow-pilates-27/
LOCATION:Hummingbird Movement Collective\, 126 N Main St\, Bishop\, 93514\, USA
CATEGORIES:Wellness
END:VEVENT
BEGIN:VEVENT
DTSTART;TZID=America/Los_Angeles:20260519T101500
DTEND;TZID=America/Los_Angeles:20260519T111000
DTSTAMP:20260422T035554
CREATED:20260409T201948Z
LAST-MODIFIED:20260409T201948Z
UID:10002384-1779185700-1779189000@bishoplocal.com
SUMMARY:Weight Lifting
DESCRIPTION:Small-group weight lifting class with simple programming and progressive instruction. Great for beginners or those who prefer a small-group setting for personalized guidance.
URL:https://bishoplocal.com/event/weight-lifting-15/
LOCATION:Hummingbird Movement Collective\, 126 N Main St\, Bishop\, 93514\, USA
CATEGORIES:Wellness
END:VEVENT
BEGIN:VEVENT
DTSTART;TZID=America/Los_Angeles:20260519T111500
DTEND;TZID=America/Los_Angeles:20260519T121000
DTSTAMP:20260422T035554
CREATED:20260409T201948Z
LAST-MODIFIED:20260409T201948Z
UID:10002385-1779189300-1779192600@bishoplocal.com
SUMMARY:Weight Lifting
DESCRIPTION:Small-group weight lifting class with simple programming and progressive instruction. Great for beginners or those who prefer a small-group setting for personalized guidance.
URL:https://bishoplocal.com/event/weight-lifting-14/
LOCATION:Hummingbird Movement Collective\, 126 N Main St\, Bishop\, 93514\, USA
CATEGORIES:Wellness
END:VEVENT
BEGIN:VEVENT
DTSTART;TZID=America/Los_Angeles:20260519T120000
DTEND;TZID=America/Los_Angeles:20260519T124500
DTSTAMP:20260422T035554
CREATED:20260409T202809Z
LAST-MODIFIED:20260409T202809Z
UID:10001905-1779192000-1779194700@bishoplocal.com
SUMMARY:Lunch Vinyasa Flow
DESCRIPTION:Midday vinyasa yoga flow class for an energizing lunchtime movement practice. Held at Sierra Shanti Studio in Bishop.
URL:https://bishoplocal.com/event/lunch-vinyasa-flow-14/
LOCATION:Sierra Shanti Studio\, 275B S Main St\, Bishop\, CA\, 93514\, United States
CATEGORIES:Wellness
ORGANIZER;CN="Sierra Shanti Studio":MAILTO:sierrashanti108@gmail.com
END:VEVENT
BEGIN:VEVENT
DTSTART;TZID=America/Los_Angeles:20260519T120000
DTEND;TZID=America/Los_Angeles:20260519T125500
DTSTAMP:20260422T035554
CREATED:20260409T201948Z
LAST-MODIFIED:20260409T201948Z
UID:10002386-1779192000-1779195300@bishoplocal.com
SUMMARY:TRX
DESCRIPTION:TRX suspension training class for a full-body workout using bodyweight resistance.
URL:https://bishoplocal.com/event/trx-8/
LOCATION:Hummingbird Movement Collective\, 126 N Main St\, Bishop\, 93514\, USA
CATEGORIES:Wellness
END:VEVENT
BEGIN:VEVENT
DTSTART;TZID=America/Los_Angeles:20260519T120000
DTEND;TZID=America/Los_Angeles:20260519T133000
DTSTAMP:20260422T035554
CREATED:20260409T203156Z
LAST-MODIFIED:20260409T203156Z
UID:10001694-1779192000-1779197400@bishoplocal.com
SUMMARY:Homeschool Arts and Nature Connection Session
DESCRIPTION:Weekly arts and nature connection session for homeschool families. Hands-on experiences in visual arts\, music\, theater\, movement\, games\, and nature connection for children in the K-12 age range. Cost is $25 per session or $140 for a package of six.
URL:https://bishoplocal.com/event/homeschool-arts-and-nature-connection-session-6/
LOCATION:C5 Studios\, 210 S Warren St\, Bishop\, CA\, 93514\, United States
CATEGORIES:kids-family
END:VEVENT
BEGIN:VEVENT
DTSTART;TZID=America/Los_Angeles:20260519T143000
DTEND;TZID=America/Los_Angeles:20260519T170000
DTSTAMP:20260422T035554
CREATED:20260409T203149Z
LAST-MODIFIED:20260409T203149Z
UID:10001696-1779201000-1779210000@bishoplocal.com
SUMMARY:After-School Arts Program (ASAP)
DESCRIPTION:After-school arts program for children ages 6-12 featuring hands-on arts\, crafts\, storytelling\, movement\, and nature connection activities led by Teaching Artist Marijke IJff. Snack provided by Manor Market.
URL:https://bishoplocal.com/event/after-school-arts-program-asap-12/
LOCATION:C5 Studios\, 210 S Warren St\, Bishop\, CA\, 93514\, United States
CATEGORIES:kids-family
END:VEVENT
BEGIN:VEVENT
DTSTART;TZID=America/Los_Angeles:20260519T150000
DTEND;TZID=America/Los_Angeles:20260519T155500
DTSTAMP:20260422T035554
CREATED:20260409T201939Z
LAST-MODIFIED:20260409T201939Z
UID:10002387-1779202800-1779206100@bishoplocal.com
SUMMARY:TRX
DESCRIPTION:TRX suspension training class for a full-body workout using bodyweight resistance.
URL:https://bishoplocal.com/event/trx-7/
LOCATION:Hummingbird Movement Collective\, 126 N Main St\, Bishop\, 93514\, USA
CATEGORIES:Wellness
END:VEVENT
BEGIN:VEVENT
DTSTART;TZID=America/Los_Angeles:20260519T160000
DTEND;TZID=America/Los_Angeles:20260519T164500
DTSTAMP:20260422T035554
CREATED:20260409T201939Z
LAST-MODIFIED:20260409T201939Z
UID:10002388-1779206400-1779209100@bishoplocal.com
SUMMARY:Spin
DESCRIPTION:Energizing indoor cycling class combining music\, motivating coaching\, and interval-based cycling drills for a full-body cardiovascular workout.
URL:https://bishoplocal.com/event/spin-8/
LOCATION:Hummingbird Movement Collective\, 126 N Main St\, Bishop\, 93514\, USA
CATEGORIES:Wellness
END:VEVENT
BEGIN:VEVENT
DTSTART;TZID=America/Los_Angeles:20260519T160000
DTEND;TZID=America/Los_Angeles:20260519T170000
DTSTAMP:20260422T035554
CREATED:20260409T203107Z
LAST-MODIFIED:20260409T203107Z
UID:10001736-1779206400-1779210000@bishoplocal.com
SUMMARY:Pups (3-7) Jiu Jitsu
DESCRIPTION:Jiu jitsu class for kids ages 3-7. Focuses on body awareness\, discipline\, and fun games that build motor skills and muscle memory for martial arts progression.
URL:https://bishoplocal.com/event/pups-3-7-jiu-jitsu-20/
LOCATION:Cattle Dog Jiu Jitsu\, 364 Rose St\, Bishop\, CA\, 93514\, United States
CATEGORIES:sports-recreation
ATTACH;FMTTYPE=image/webp:https://bishoplocal.com/wp-content/uploads/2026/04/16643643750_9e92c5ccf0_o.webp
ORGANIZER;CN="Cattle Dog Jiu Jitsu":MAILTO:cattledogjiujitsu@gmail.com
END:VEVENT
BEGIN:VEVENT
DTSTART;TZID=America/Los_Angeles:20260519T170000
DTEND;TZID=America/Los_Angeles:20260519T175500
DTSTAMP:20260422T035554
CREATED:20260409T201939Z
LAST-MODIFIED:20260409T201939Z
UID:10002389-1779210000-1779213300@bishoplocal.com
SUMMARY:Gentle Flow Pilates
DESCRIPTION:All-levels reformer Pilates class using the reformer\, tower\, and stability chair. Suitable for all experience levels with options offered for beginners through advanced practitioners.
URL:https://bishoplocal.com/event/gentle-flow-pilates-26/
LOCATION:Hummingbird Movement Collective\, 126 N Main St\, Bishop\, 93514\, USA
CATEGORIES:Wellness
END:VEVENT
BEGIN:VEVENT
DTSTART;TZID=America/Los_Angeles:20260519T170000
DTEND;TZID=America/Los_Angeles:20260519T183000
DTSTAMP:20260422T035554
CREATED:20260409T203107Z
LAST-MODIFIED:20260409T203107Z
UID:10001737-1779210000-1779215400@bishoplocal.com
SUMMARY:Heelers (8 up) Jiu Jitsu
DESCRIPTION:Jiu jitsu class for kids ages 8 and up. Builds on fundamentals with more detailed instruction\, situational rolling\, and self-defense preparation.
URL:https://bishoplocal.com/event/heelers-8-up-jiu-jitsu-19/
LOCATION:Cattle Dog Jiu Jitsu\, 364 Rose St\, Bishop\, CA\, 93514\, United States
CATEGORIES:sports-recreation
ATTACH;FMTTYPE=image/webp:https://bishoplocal.com/wp-content/uploads/2026/04/16643643750_9e92c5ccf0_o.webp
ORGANIZER;CN="Cattle Dog Jiu Jitsu":MAILTO:cattledogjiujitsu@gmail.com
END:VEVENT
BEGIN:VEVENT
DTSTART;TZID=America/Los_Angeles:20260519T170000
DTEND;TZID=America/Los_Angeles:20260519T190000
DTSTAMP:20260422T035554
CREATED:20260415T192253Z
LAST-MODIFIED:20260415T192253Z
UID:10002526-1779210000-1779217200@bishoplocal.com
SUMMARY:Buttermilks Bouldering
DESCRIPTION:Bouldering session at Birthday Boulder in the Buttermilk Boulders. All skill levels welcome.
URL:https://bishoplocal.com/event/buttermilks-bouldering-5/
LOCATION:Buttermilk Boulders\, Buttermilk Rd\, Bishop\, 93514\, USA
CATEGORIES:sports-recreation
END:VEVENT
BEGIN:VEVENT
DTSTART;TZID=America/Los_Angeles:20260519T173000
DTEND;TZID=America/Los_Angeles:20260519T183000
DTSTAMP:20260422T035554
CREATED:20260415T192405Z
LAST-MODIFIED:20260415T192405Z
UID:10002584-1779211800-1779215400@bishoplocal.com
SUMMARY:Strength Training
DESCRIPTION:Strength training class at Bishop Strength with Shawn Fuller.
URL:https://bishoplocal.com/event/strength-training-9/
LOCATION:Bishop Strength\, 162 Willow St\, Bishop\, 93514\, USA
CATEGORIES:Wellness
END:VEVENT
BEGIN:VEVENT
DTSTART;TZID=America/Los_Angeles:20260519T173000
DTEND;TZID=America/Los_Angeles:20260519T190000
DTSTAMP:20260422T035554
CREATED:20260409T202809Z
LAST-MODIFIED:20260409T202809Z
UID:10001906-1779211800-1779217200@bishoplocal.com
SUMMARY:Steady Flow
DESCRIPTION:Sustained vinyasa yoga flow class offering a balanced\, steady-paced practice. Held at Sierra Shanti Studio in Bishop.
URL:https://bishoplocal.com/event/steady-flow-7/
LOCATION:Sierra Shanti Studio\, 275B S Main St\, Bishop\, CA\, 93514\, United States
CATEGORIES:Wellness
ORGANIZER;CN="Sierra Shanti Studio":MAILTO:sierrashanti108@gmail.com
END:VEVENT
BEGIN:VEVENT
DTSTART;TZID=America/Los_Angeles:20260519T173000
DTEND;TZID=America/Los_Angeles:20260519T190000
DTSTAMP:20260422T035554
CREATED:20260409T202907Z
LAST-MODIFIED:20260409T202907Z
UID:10001850-1779211800-1779217200@bishoplocal.com
SUMMARY:Iyengar Yoga
DESCRIPTION:Iyengar yoga class focusing on proper alignment\, precision\, and the use of props. Suitable for all ages and abilities\, taught by a certified Iyengar yoga instructor at Bishop Yoga & Pilates Center.
URL:https://bishoplocal.com/event/iyengar-yoga-14/
LOCATION:Bishop Yoga & Pilates Center\, 621 W. Line St. #203\, Bishop\, CA\, 93514\, United States
CATEGORIES:Wellness
END:VEVENT
BEGIN:VEVENT
DTSTART;TZID=America/Los_Angeles:20260519T183000
DTEND;TZID=America/Los_Angeles:20260519T193000
DTSTAMP:20260422T035554
CREATED:20260415T192405Z
LAST-MODIFIED:20260415T192405Z
UID:10002585-1779215400-1779219000@bishoplocal.com
SUMMARY:Strength Training
DESCRIPTION:Strength training class at Bishop Strength with Shawn Fuller. Second session.
URL:https://bishoplocal.com/event/strength-training-10/
LOCATION:Bishop Strength\, 162 Willow St\, Bishop\, 93514\, USA
CATEGORIES:Wellness
END:VEVENT
BEGIN:VEVENT
DTSTART;TZID=America/Los_Angeles:20260519T183000
DTEND;TZID=America/Los_Angeles:20260519T203000
DTSTAMP:20260422T035554
CREATED:20260409T203107Z
LAST-MODIFIED:20260409T203107Z
UID:10001738-1779215400-1779222600@bishoplocal.com
SUMMARY:Adult All Levels Jiu Jitsu
DESCRIPTION:Adult jiu jitsu class open to all levels\, ages 18 and older. Covers fundamentals and self-defense philosophy with situational and live sparring.
URL:https://bishoplocal.com/event/adult-all-levels-jiu-jitsu-20/
LOCATION:Cattle Dog Jiu Jitsu\, 364 Rose St\, Bishop\, CA\, 93514\, United States
CATEGORIES:sports-recreation
ATTACH;FMTTYPE=image/webp:https://bishoplocal.com/wp-content/uploads/2026/04/16643643750_9e92c5ccf0_o.webp
ORGANIZER;CN="Cattle Dog Jiu Jitsu":MAILTO:cattledogjiujitsu@gmail.com
END:VEVENT
BEGIN:VEVENT
DTSTART;TZID=America/Los_Angeles:20260519T190000
DTEND;TZID=America/Los_Angeles:20260519T210000
DTSTAMP:20260422T035554
CREATED:20260415T192152Z
LAST-MODIFIED:20260415T192152Z
UID:10002480-1779217200-1779224400@bishoplocal.com
SUMMARY:Jam Night with the Jamblers
DESCRIPTION:Weekly music jam night at Mountain Rambler Brewery. Every Tuesday 7-9 PM.
URL:https://bishoplocal.com/event/jam-night-with-the-jamblers-5/
LOCATION:Mountain Rambler Brewery\, 186 S Main St\, Bishop\, CA\, 93514\, United States
CATEGORIES:Music
END:VEVENT
BEGIN:VEVENT
DTSTART;TZID=America/Los_Angeles:20260519T191500
DTEND;TZID=America/Los_Angeles:20260519T201500
DTSTAMP:20260422T035554
CREATED:20260409T202809Z
LAST-MODIFIED:20260409T202809Z
UID:10001907-1779218100-1779221700@bishoplocal.com
SUMMARY:Breath-Infused Vinyasa
DESCRIPTION:Vinyasa yoga class integrating intentional breathwork with flowing movement. Held at Sierra Shanti Studio in Bishop.
URL:https://bishoplocal.com/event/breath-infused-vinyasa-7/
LOCATION:Sierra Shanti Studio\, 275B S Main St\, Bishop\, CA\, 93514\, United States
CATEGORIES:Wellness
ORGANIZER;CN="Sierra Shanti Studio":MAILTO:sierrashanti108@gmail.com
END:VEVENT
BEGIN:VEVENT
DTSTART;TZID=America/Los_Angeles:20260520T053000
DTEND;TZID=America/Los_Angeles:20260520T061500
DTSTAMP:20260422T035554
CREATED:20260409T201939Z
LAST-MODIFIED:20260409T201939Z
UID:10002390-1779255000-1779257700@bishoplocal.com
SUMMARY:Spin
DESCRIPTION:Energizing indoor cycling class combining music\, motivating coaching\, and interval-based cycling drills for a full-body cardiovascular workout.
URL:https://bishoplocal.com/event/spin-7/
LOCATION:Hummingbird Movement Collective\, 126 N Main St\, Bishop\, 93514\, USA
CATEGORIES:Wellness
END:VEVENT
BEGIN:VEVENT
DTSTART;TZID=America/Los_Angeles:20260520T053000
DTEND;TZID=America/Los_Angeles:20260520T063000
DTSTAMP:20260422T035554
CREATED:20260415T192436Z
LAST-MODIFIED:20260415T192436Z
UID:10002610-1779255000-1779258600@bishoplocal.com
SUMMARY:Weightlifting (BTB)
DESCRIPTION:Barbell weightlifting class at Bishop Strength with Jared Waasdorp.
URL:https://bishoplocal.com/event/weightlifting-btb-12/
LOCATION:Bishop Strength\, 162 Willow St\, Bishop\, 93514\, USA
CATEGORIES:Wellness
END:VEVENT
BEGIN:VEVENT
DTSTART;TZID=America/Los_Angeles:20260520T081500
DTEND;TZID=America/Los_Angeles:20260520T091000
DTSTAMP:20260422T035554
CREATED:20260409T201939Z
LAST-MODIFIED:20260409T201939Z
UID:10002391-1779264900-1779268200@bishoplocal.com
SUMMARY:Gentle Flow Pilates
DESCRIPTION:All-levels reformer Pilates class using the reformer\, tower\, and stability chair. Suitable for all experience levels with options offered for beginners through advanced practitioners.
URL:https://bishoplocal.com/event/gentle-flow-pilates-25/
LOCATION:Hummingbird Movement Collective\, 126 N Main St\, Bishop\, 93514\, USA
CATEGORIES:Wellness
END:VEVENT
BEGIN:VEVENT
DTSTART;TZID=America/Los_Angeles:20260520T091500
DTEND;TZID=America/Los_Angeles:20260520T101000
DTSTAMP:20260422T035554
CREATED:20260409T201939Z
LAST-MODIFIED:20260409T201939Z
UID:10002392-1779268500-1779271800@bishoplocal.com
SUMMARY:Gentle Flow Pilates
DESCRIPTION:All-levels reformer Pilates class using the reformer\, tower\, and stability chair. Suitable for all experience levels with options offered for beginners through advanced practitioners.
URL:https://bishoplocal.com/event/gentle-flow-pilates-24/
LOCATION:Hummingbird Movement Collective\, 126 N Main St\, Bishop\, 93514\, USA
CATEGORIES:Wellness
END:VEVENT
BEGIN:VEVENT
DTSTART;TZID=America/Los_Angeles:20260520T101500
DTEND;TZID=America/Los_Angeles:20260520T111000
DTSTAMP:20260422T035554
CREATED:20260409T201939Z
LAST-MODIFIED:20260409T201939Z
UID:10002393-1779272100-1779275400@bishoplocal.com
SUMMARY:Gentle Flow Pilates
DESCRIPTION:All-levels reformer Pilates class using the reformer\, tower\, and stability chair. Suitable for all experience levels with options offered for beginners through advanced practitioners.
URL:https://bishoplocal.com/event/gentle-flow-pilates-23/
LOCATION:Hummingbird Movement Collective\, 126 N Main St\, Bishop\, 93514\, USA
CATEGORIES:Wellness
END:VEVENT
BEGIN:VEVENT
DTSTART;TZID=America/Los_Angeles:20260520T120000
DTEND;TZID=America/Los_Angeles:20260520T124500
DTSTAMP:20260422T035554
CREATED:20260409T202809Z
LAST-MODIFIED:20260409T202809Z
UID:10001908-1779278400-1779281100@bishoplocal.com
SUMMARY:Lunch Vinyasa Flow
DESCRIPTION:Midday vinyasa yoga flow class for an energizing lunchtime movement practice. Held at Sierra Shanti Studio in Bishop.
URL:https://bishoplocal.com/event/lunch-vinyasa-flow-13/
LOCATION:Sierra Shanti Studio\, 275B S Main St\, Bishop\, CA\, 93514\, United States
CATEGORIES:Wellness
ORGANIZER;CN="Sierra Shanti Studio":MAILTO:sierrashanti108@gmail.com
END:VEVENT
BEGIN:VEVENT
DTSTART;TZID=America/Los_Angeles:20260520T120000
DTEND;TZID=America/Los_Angeles:20260520T125500
DTSTAMP:20260422T035554
CREATED:20260409T201939Z
LAST-MODIFIED:20260409T201939Z
UID:10002394-1779278400-1779281700@bishoplocal.com
SUMMARY:Dynamic Flow Pilates
DESCRIPTION:Intermediate to advanced reformer Pilates class using the reformer\, Cadillac tower\, and stability chair. Best suited for Pilates-experienced clients or fit beginners.
URL:https://bishoplocal.com/event/dynamic-flow-pilates-19/
LOCATION:Hummingbird Movement Collective\, 126 N Main St\, Bishop\, 93514\, USA
CATEGORIES:Wellness
END:VEVENT
END:VCALENDAR