BEGIN:VCALENDAR
VERSION:2.0
PRODID:-//BishopLocal.com - ECPv6.15.18//NONSGML v1.0//EN
CALSCALE:GREGORIAN
METHOD:PUBLISH
X-ORIGINAL-URL:https://bishoplocal.com
X-WR-CALDESC:Events for BishopLocal.com
REFRESH-INTERVAL;VALUE=DURATION:PT1H
X-Robots-Tag:noindex
X-PUBLISHED-TTL:PT1H
BEGIN:VTIMEZONE
TZID:America/Los_Angeles
BEGIN:DAYLIGHT
TZOFFSETFROM:-0800
TZOFFSETTO:-0700
TZNAME:PDT
DTSTART:20250309T100000
END:DAYLIGHT
BEGIN:STANDARD
TZOFFSETFROM:-0700
TZOFFSETTO:-0800
TZNAME:PST
DTSTART:20251102T090000
END:STANDARD
BEGIN:DAYLIGHT
TZOFFSETFROM:-0800
TZOFFSETTO:-0700
TZNAME:PDT
DTSTART:20260308T100000
END:DAYLIGHT
BEGIN:STANDARD
TZOFFSETFROM:-0700
TZOFFSETTO:-0800
TZNAME:PST
DTSTART:20261101T090000
END:STANDARD
BEGIN:DAYLIGHT
TZOFFSETFROM:-0800
TZOFFSETTO:-0700
TZNAME:PDT
DTSTART:20270314T100000
END:DAYLIGHT
BEGIN:STANDARD
TZOFFSETFROM:-0700
TZOFFSETTO:-0800
TZNAME:PST
DTSTART:20271107T090000
END:STANDARD
END:VTIMEZONE
BEGIN:VEVENT
DTSTART;TZID=America/Los_Angeles:20260421T160000
DTEND;TZID=America/Los_Angeles:20260421T164500
DTSTAMP:20260422T062016
CREATED:20260409T202304Z
LAST-MODIFIED:20260409T202304Z
UID:10002197-1776787200-1776789900@bishoplocal.com
SUMMARY:Spin
DESCRIPTION:Energizing indoor cycling class combining music\, motivating coaching\, and interval-based cycling drills for a full-body cardiovascular workout.
URL:https://bishoplocal.com/event/spin-25/
LOCATION:Hummingbird Movement Collective\, 126 N Main St\, Bishop\, 93514\, USA
CATEGORIES:Wellness
END:VEVENT
BEGIN:VEVENT
DTSTART;TZID=America/Los_Angeles:20260421T160000
DTEND;TZID=America/Los_Angeles:20260421T170000
DTSTAMP:20260422T062016
CREATED:20260409T202956Z
LAST-MODIFIED:20260409T202956Z
UID:10001800-1776787200-1776790800@bishoplocal.com
SUMMARY:Pups (3-7) Jiu Jitsu
DESCRIPTION:Jiu jitsu class for kids ages 3-7. Focuses on body awareness\, discipline\, and fun games that build motor skills and muscle memory for martial arts progression.
URL:https://bishoplocal.com/event/pups-3-7-jiu-jitsu-8/
LOCATION:Cattle Dog Jiu Jitsu\, 364 Rose St\, Bishop\, CA\, 93514\, United States
CATEGORIES:sports-recreation
ATTACH;FMTTYPE=image/webp:https://bishoplocal.com/wp-content/uploads/2026/04/16643643750_9e92c5ccf0_o.webp
ORGANIZER;CN="Cattle Dog Jiu Jitsu":MAILTO:cattledogjiujitsu@gmail.com
END:VEVENT
BEGIN:VEVENT
DTSTART;TZID=America/Los_Angeles:20260421T170000
DTEND;TZID=America/Los_Angeles:20260421T175500
DTSTAMP:20260422T062016
CREATED:20260409T202304Z
LAST-MODIFIED:20260409T202304Z
UID:10002198-1776790800-1776794100@bishoplocal.com
SUMMARY:Gentle Flow Pilates
DESCRIPTION:All-levels reformer Pilates class using the reformer\, tower\, and stability chair. Suitable for all experience levels with options offered for beginners through advanced practitioners.
URL:https://bishoplocal.com/event/gentle-flow-pilates-93/
LOCATION:Hummingbird Movement Collective\, 126 N Main St\, Bishop\, 93514\, USA
CATEGORIES:Wellness
END:VEVENT
BEGIN:VEVENT
DTSTART;TZID=America/Los_Angeles:20260421T170000
DTEND;TZID=America/Los_Angeles:20260421T181500
DTSTAMP:20260422T062016
CREATED:20260415T192302Z
LAST-MODIFIED:20260415T192302Z
UID:10002532-1776790800-1776795300@bishoplocal.com
SUMMARY:Silks Fundamentals
DESCRIPTION:Aerial silks fundamentals class at Eastern Sierra Aerial Arts.
URL:https://bishoplocal.com/event/silks-fundamentals/
LOCATION:Eastern Sierra Aerial Arts\, Bishop\, 93514\, USA
CATEGORIES:sports-recreation
END:VEVENT
BEGIN:VEVENT
DTSTART;TZID=America/Los_Angeles:20260421T170000
DTEND;TZID=America/Los_Angeles:20260421T183000
DTSTAMP:20260422T062016
CREATED:20260409T202956Z
LAST-MODIFIED:20260409T202956Z
UID:10001801-1776790800-1776796200@bishoplocal.com
SUMMARY:Heelers (8 up) Jiu Jitsu
DESCRIPTION:Jiu jitsu class for kids ages 8 and up. Builds on fundamentals with more detailed instruction\, situational rolling\, and self-defense preparation.
URL:https://bishoplocal.com/event/heelers-8-up-jiu-jitsu-7/
LOCATION:Cattle Dog Jiu Jitsu\, 364 Rose St\, Bishop\, CA\, 93514\, United States
CATEGORIES:sports-recreation
ATTACH;FMTTYPE=image/webp:https://bishoplocal.com/wp-content/uploads/2026/04/16643643750_9e92c5ccf0_o.webp
ORGANIZER;CN="Cattle Dog Jiu Jitsu":MAILTO:cattledogjiujitsu@gmail.com
END:VEVENT
BEGIN:VEVENT
DTSTART;TZID=America/Los_Angeles:20260421T170000
DTEND;TZID=America/Los_Angeles:20260421T190000
DTSTAMP:20260422T062016
CREATED:20260415T192242Z
LAST-MODIFIED:20260415T192242Z
UID:10002522-1776790800-1776798000@bishoplocal.com
SUMMARY:Buttermilks Bouldering
DESCRIPTION:Bouldering session at Birthday Boulder in the Buttermilk Boulders. All skill levels welcome.
URL:https://bishoplocal.com/event/buttermilks-bouldering/
LOCATION:Buttermilk Boulders\, Buttermilk Rd\, Bishop\, 93514\, USA
CATEGORIES:sports-recreation
END:VEVENT
BEGIN:VEVENT
DTSTART;TZID=America/Los_Angeles:20260421T173000
DTEND;TZID=America/Los_Angeles:20260421T183000
DTSTAMP:20260422T062016
CREATED:20260415T192344Z
LAST-MODIFIED:20260415T192344Z
UID:10002568-1776792600-1776796200@bishoplocal.com
SUMMARY:Strength Training
DESCRIPTION:Strength training class at Bishop Strength with Shawn Fuller.
URL:https://bishoplocal.com/event/strength-training/
LOCATION:Bishop Strength\, 162 Willow St\, Bishop\, 93514\, USA
CATEGORIES:Wellness
END:VEVENT
BEGIN:VEVENT
DTSTART;TZID=America/Los_Angeles:20260421T173000
DTEND;TZID=America/Los_Angeles:20260421T190000
DTSTAMP:20260422T062016
CREATED:20260409T202549Z
LAST-MODIFIED:20260409T202549Z
UID:10002043-1776792600-1776798000@bishoplocal.com
SUMMARY:Stitch 'n' B*tch
DESCRIPTION:Sewing circle club for people of all abilities to create and communicate. Bring your own projects. No instruction given. Free for C5 Members or a one-time $10 donation to join.
URL:https://bishoplocal.com/event/stitch-n-btch/
LOCATION:C5 Studios\, 210 S Warren St\, Bishop\, CA\, 93514\, United States
CATEGORIES:arts-culture
ATTACH;FMTTYPE=image/jpeg:https://bishoplocal.com/wp-content/uploads/2026/04/Stitch-1.jpg
END:VEVENT
BEGIN:VEVENT
DTSTART;TZID=America/Los_Angeles:20260421T173000
DTEND;TZID=America/Los_Angeles:20260421T190000
DTSTAMP:20260422T062016
CREATED:20260409T202711Z
LAST-MODIFIED:20260409T202711Z
UID:10001962-1776792600-1776798000@bishoplocal.com
SUMMARY:Steady Flow
DESCRIPTION:Sustained vinyasa yoga flow class offering a balanced\, steady-paced practice. Held at Sierra Shanti Studio in Bishop.
URL:https://bishoplocal.com/event/steady-flow-3/
LOCATION:Sierra Shanti Studio\, 275B S Main St\, Bishop\, CA\, 93514\, United States
CATEGORIES:Wellness
ORGANIZER;CN="Sierra Shanti Studio":MAILTO:sierrashanti108@gmail.com
END:VEVENT
BEGIN:VEVENT
DTSTART;TZID=America/Los_Angeles:20260421T173000
DTEND;TZID=America/Los_Angeles:20260421T190000
DTSTAMP:20260422T062016
CREATED:20260409T202842Z
LAST-MODIFIED:20260409T202842Z
UID:10001878-1776792600-1776798000@bishoplocal.com
SUMMARY:Iyengar Yoga
DESCRIPTION:Iyengar yoga class focusing on proper alignment\, precision\, and the use of props. Suitable for all ages and abilities\, taught by a certified Iyengar yoga instructor at Bishop Yoga & Pilates Center.
URL:https://bishoplocal.com/event/iyengar-yoga-3/
LOCATION:Bishop Yoga & Pilates Center\, 621 W. Line St. #203\, Bishop\, CA\, 93514\, United States
CATEGORIES:Wellness
END:VEVENT
BEGIN:VEVENT
DTSTART;TZID=America/Los_Angeles:20260421T180000
DTEND;TZID=America/Los_Angeles:20260421T193000
DTSTAMP:20260422T062016
CREATED:20260409T202622Z
LAST-MODIFIED:20260409T202622Z
UID:10002007-1776794400-1776799800@bishoplocal.com
SUMMARY:UC WMRC Lecture Series: The Mine in the Sky
DESCRIPTION:Joe Kurtak examines the geology\, history\, economic impact\, and community involved with the Pine Creek Tungsten Mine in Pine Creek Canyon. Free online lecture.
URL:https://bishoplocal.com/event/uc-wmrc-lecture-series-the-mine-in-the-sky/
LOCATION:Owens Valley Station (UC WMRC)\, 3000 E Line St\, Bishop\, 93514
CATEGORIES:Community
ATTACH;FMTTYPE=image/jpeg:https://bishoplocal.com/wp-content/uploads/2026/04/16-9-Pine-Creek-2018-G-Kinzy-scaled-1.jpg
ORGANIZER;CN="UC White Mountain Research Center":MAILTO:wmrcinfo@ucla.edu
END:VEVENT
BEGIN:VEVENT
DTSTART;TZID=America/Los_Angeles:20260421T183000
DTEND;TZID=America/Los_Angeles:20260421T193000
DTSTAMP:20260422T062016
CREATED:20260415T192344Z
LAST-MODIFIED:20260415T192344Z
UID:10002569-1776796200-1776799800@bishoplocal.com
SUMMARY:Strength Training
DESCRIPTION:Strength training class at Bishop Strength with Shawn Fuller. Second session.
URL:https://bishoplocal.com/event/strength-training-2/
LOCATION:Bishop Strength\, 162 Willow St\, Bishop\, 93514\, USA
CATEGORIES:Wellness
END:VEVENT
BEGIN:VEVENT
DTSTART;TZID=America/Los_Angeles:20260421T183000
DTEND;TZID=America/Los_Angeles:20260421T200000
DTSTAMP:20260422T062016
CREATED:20260415T192303Z
LAST-MODIFIED:20260415T192303Z
UID:10002533-1776796200-1776801600@bishoplocal.com
SUMMARY:Beg/Int Pole
DESCRIPTION:Beginner to intermediate pole class at Eastern Sierra Aerial Arts.
URL:https://bishoplocal.com/event/beg-int-pole/
LOCATION:Eastern Sierra Aerial Arts\, Bishop\, 93514\, USA
CATEGORIES:sports-recreation
END:VEVENT
BEGIN:VEVENT
DTSTART;TZID=America/Los_Angeles:20260421T183000
DTEND;TZID=America/Los_Angeles:20260421T203000
DTSTAMP:20260422T062016
CREATED:20260409T202956Z
LAST-MODIFIED:20260409T202956Z
UID:10001802-1776796200-1776803400@bishoplocal.com
SUMMARY:Adult All Levels Jiu Jitsu
DESCRIPTION:Adult jiu jitsu class open to all levels\, ages 18 and older. Covers fundamentals and self-defense philosophy with situational and live sparring.
URL:https://bishoplocal.com/event/adult-all-levels-jiu-jitsu-8/
LOCATION:Cattle Dog Jiu Jitsu\, 364 Rose St\, Bishop\, CA\, 93514\, United States
CATEGORIES:sports-recreation
ATTACH;FMTTYPE=image/webp:https://bishoplocal.com/wp-content/uploads/2026/04/16643643750_9e92c5ccf0_o.webp
ORGANIZER;CN="Cattle Dog Jiu Jitsu":MAILTO:cattledogjiujitsu@gmail.com
END:VEVENT
BEGIN:VEVENT
DTSTART;TZID=America/Los_Angeles:20260421T190000
DTEND;TZID=America/Los_Angeles:20260421T210000
DTSTAMP:20260422T062016
CREATED:20260415T192151Z
LAST-MODIFIED:20260415T192151Z
UID:10002476-1776798000-1776805200@bishoplocal.com
SUMMARY:Jam Night with the Jamblers
DESCRIPTION:Weekly music jam night at Mountain Rambler Brewery. Every Tuesday 7-9 PM.
URL:https://bishoplocal.com/event/jam-night-with-the-jamblers/
LOCATION:Mountain Rambler Brewery\, 186 S Main St\, Bishop\, CA\, 93514\, United States
CATEGORIES:Music
END:VEVENT
BEGIN:VEVENT
DTSTART;TZID=America/Los_Angeles:20260421T191500
DTEND;TZID=America/Los_Angeles:20260421T201500
DTSTAMP:20260422T062016
CREATED:20260409T202711Z
LAST-MODIFIED:20260409T202711Z
UID:10001963-1776798900-1776802500@bishoplocal.com
SUMMARY:Breath-Infused Vinyasa
DESCRIPTION:Vinyasa yoga class integrating intentional breathwork with flowing movement. Held at Sierra Shanti Studio in Bishop.
URL:https://bishoplocal.com/event/breath-infused-vinyasa-3/
LOCATION:Sierra Shanti Studio\, 275B S Main St\, Bishop\, CA\, 93514\, United States
CATEGORIES:Wellness
ORGANIZER;CN="Sierra Shanti Studio":MAILTO:sierrashanti108@gmail.com
END:VEVENT
BEGIN:VEVENT
DTSTART;TZID=America/Los_Angeles:20260422T053000
DTEND;TZID=America/Los_Angeles:20260422T061500
DTSTAMP:20260422T062016
CREATED:20260409T202304Z
LAST-MODIFIED:20260409T202304Z
UID:10002199-1776835800-1776838500@bishoplocal.com
SUMMARY:Spin
DESCRIPTION:Energizing indoor cycling class combining music\, motivating coaching\, and interval-based cycling drills for a full-body cardiovascular workout.
URL:https://bishoplocal.com/event/spin-24/
LOCATION:Hummingbird Movement Collective\, 126 N Main St\, Bishop\, 93514\, USA
CATEGORIES:Wellness
END:VEVENT
BEGIN:VEVENT
DTSTART;TZID=America/Los_Angeles:20260422T090000
DTEND;TZID=America/Los_Angeles:20260422T180000
DTSTAMP:20260422T062016
CREATED:20260415T192223Z
LAST-MODIFIED:20260415T192223Z
UID:10002503-1776848400-1776880800@bishoplocal.com
SUMMARY:Produce Safety Training
DESCRIPTION:Certification course for local growers. Free admission with meals provided.
URL:https://bishoplocal.com/event/produce-safety-training/
LOCATION:Owens Valley Paiute-Shoshone Cultural Center\, 2300 W Line St\, Bishop\, CA\, 93514\, United States
CATEGORIES:Community
END:VEVENT
BEGIN:VEVENT
DTSTART;TZID=America/Los_Angeles:20260422T160000
DTEND;TZID=America/Los_Angeles:20260422T200000
DTSTAMP:20260422T062016
CREATED:20260409T202532Z
LAST-MODIFIED:20260409T202532Z
UID:10002061-1776873600-1776888000@bishoplocal.com
SUMMARY:Wine Wednesdays at Creekside Club
DESCRIPTION:Join Creekside Club for Wine Wednesdays and enjoy select bottles at 50% off. Settle in by the fireplace and unwind.
URL:https://bishoplocal.com/event/wine-wednesdays-at-creekside-club-6/
LOCATION:Creekside Club at Wayfinder Bishop\, 725 N Main Street\, Bishop\, 760-872-3044\, 93514
CATEGORIES:food-drink
ORGANIZER;CN="Wayfinder Bishop":MAILTO:hey@wayfinderbishop.com
END:VEVENT
BEGIN:VEVENT
DTSTART;TZID=America/Los_Angeles:20260422T173000
DTEND;TZID=America/Los_Angeles:20260422T193000
DTSTAMP:20260422T062016
CREATED:20260409T202549Z
LAST-MODIFIED:20260409T202549Z
UID:10002044-1776879000-1776886200@bishoplocal.com
SUMMARY:Making Spiral Baskets from Magazines with Marijke
DESCRIPTION:Workshop on turning magazines and paper into spiral baskets for home decor. Participants prep materials and build a vessel from the bottom up in a spiral weaving pattern.
URL:https://bishoplocal.com/event/making-spiral-baskets-from-magazines-with-marijke/
LOCATION:C5 Studios\, 210 S Warren St\, Bishop\, CA\, 93514\, United States
CATEGORIES:arts-culture
ATTACH;FMTTYPE=image/png:https://bishoplocal.com/wp-content/uploads/2026/04/ScreenShot2025-03-31at4.14.02PM.png
END:VEVENT
BEGIN:VEVENT
DTSTART;TZID=America/Los_Angeles:20260422T180000
DTEND;TZID=America/Los_Angeles:20260422T200000
DTSTAMP:20260422T062016
CREATED:20260415T192142Z
LAST-MODIFIED:20260415T192142Z
UID:10002470-1776880800-1776888000@bishoplocal.com
SUMMARY:Milo Cagle Locals Night
DESCRIPTION:Weekly live music event at Mountain Rambler Brewery featuring local musicians. Every Wednesday 6-8 PM.
URL:https://bishoplocal.com/event/milo-cagle-locals-night/
LOCATION:Mountain Rambler Brewery\, 186 S Main St\, Bishop\, CA\, 93514\, United States
CATEGORIES:Music
END:VEVENT
BEGIN:VEVENT
DTSTART;TZID=America/Los_Angeles:20260423T160000
DTEND;TZID=America/Los_Angeles:20260423T190000
DTSTAMP:20260422T062016
CREATED:20260409T202622Z
LAST-MODIFIED:20260409T202622Z
UID:10002009-1776960000-1776970800@bishoplocal.com
SUMMARY:Farm to Table Market
DESCRIPTION:Weekly community market featuring local vendors\, seasonal foods\, handmade goods\, live music\, and hands-on workshops at Bishop United Methodist Church.
URL:https://bishoplocal.com/event/farm-to-table-market-4/
LOCATION:First United Methodist Church\, 205 N Fowler St\, Bishop\, CA\, 93514\, United States
CATEGORIES:food-drink
ORGANIZER;CN="Eastern Sierra Farm Fresh":MAILTO:esffbishopinfo@gmail.com
END:VEVENT
BEGIN:VEVENT
DTSTART;TZID=America/Los_Angeles:20260423T163000
DTEND;TZID=America/Los_Angeles:20260423T193000
DTSTAMP:20260422T062016
CREATED:20260415T192223Z
LAST-MODIFIED:20260415T192223Z
UID:10002504-1776961800-1776972600@bishoplocal.com
SUMMARY:Thistle Throw Down!
DESCRIPTION:Volunteer weed pulling event at Happy Boulders organized by Bishop Area Climbers Coalition.
URL:https://bishoplocal.com/event/thistle-throw-down/
LOCATION:Happy Boulders\, Chalk Bluff Rd\, Bishop\, 93514\, USA
CATEGORIES:outdoors-nature
ORGANIZER;CN="Bishop Area Climbers Coalition":MAILTO:info@bishopclimbers.org
END:VEVENT
BEGIN:VEVENT
DTSTART;TZID=America/Los_Angeles:20260423T170000
DTEND;TZID=America/Los_Angeles:20260423T210000
DTSTAMP:20260422T062016
CREATED:20260409T202459Z
LAST-MODIFIED:20260409T202459Z
UID:10002087-1776963600-1776978000@bishoplocal.com
SUMMARY:Cloudripper Pop-Up Dinner
DESCRIPTION:Weekly pop-up dinner at Owens Valley Distilling Company. Rotating menu featuring East and Southeast Asian food\, falafel bowls\, and seasonal dishes made with local ingredients. Check @cloudripperbishop on Instagram for this week’s menu.
URL:https://bishoplocal.com/event/cloudripper-pop-up-dinner-11/
LOCATION:Owens Valley Distilling Company\, 237 E South Street\, Bishop\, 442-228-5041\, 93514
CATEGORIES:food-drink
END:VEVENT
BEGIN:VEVENT
DTSTART;TZID=America/Los_Angeles:20260423T180000
DTEND;TZID=America/Los_Angeles:20260423T193000
DTSTAMP:20260422T062016
CREATED:20260409T202622Z
LAST-MODIFIED:20260409T202622Z
UID:10002008-1776967200-1776972600@bishoplocal.com
SUMMARY:UC WMRC Lecture Series: Eastern Sierra avalanches- REDUX
DESCRIPTION:Local avalanche forecaster Sue Burak presents a brief history of the active avalanche paths in Inyo and Mono County that impact roads and residential areas. Free lecture.
URL:https://bishoplocal.com/event/uc-wmrc-lecture-series-eastern-sierra-avalanches-redux/
LOCATION:Owens Valley Station (UC WMRC)\, 3000 E Line St\, Bishop\, 93514
CATEGORIES:Community
ATTACH;FMTTYPE=image/jpeg:https://bishoplocal.com/wp-content/uploads/2026/04/16-9-SnoCat-High-road-2023-scaled-1.jpg
ORGANIZER;CN="UC White Mountain Research Center":MAILTO:wmrcinfo@ucla.edu
END:VEVENT
BEGIN:VEVENT
DTSTART;TZID=America/Los_Angeles:20260423T183000
DTEND;TZID=America/Los_Angeles:20260423T203000
DTSTAMP:20260422T062016
CREATED:20260409T202549Z
LAST-MODIFIED:20260409T202549Z
UID:10002045-1776969000-1776976200@bishoplocal.com
SUMMARY:Folk Around & Find Out
DESCRIPTION:Open mic event celebrating music\, sound\, spoken word\, performance and oral traditions. Open to all ages. Sign up in person at C5 Studios between 6-6:30pm. Session runs 6:30-8:30pm.
URL:https://bishoplocal.com/event/folk-around-find-out/
LOCATION:C5 Studios\, 210 S Warren St\, Bishop\, CA\, 93514\, United States
CATEGORIES:Music
ATTACH;FMTTYPE=image/jpeg:https://bishoplocal.com/wp-content/uploads/2026/04/FolkAroundandFindOut.jpg
END:VEVENT
BEGIN:VEVENT
DTSTART;TZID=America/Los_Angeles:20260423T190000
DTEND;TZID=America/Los_Angeles:20260423T210000
DTSTAMP:20260422T062016
CREATED:20260415T192202Z
LAST-MODIFIED:20260415T192202Z
UID:10002490-1776970800-1776978000@bishoplocal.com
SUMMARY:Leaves of Grass
DESCRIPTION:Sierra Classic Theatre presents a performance inspired by Walt Whitman’s work at The Event Center.
URL:https://bishoplocal.com/event/leaves-of-grass-5/
LOCATION:The Event Center\, Bishop\, 93514\, USA
CATEGORIES:arts-culture
END:VEVENT
BEGIN:VEVENT
DTSTART;TZID=America/Los_Angeles:20260424T140000
DTEND;TZID=America/Los_Angeles:20260424T160000
DTSTAMP:20260422T062016
CREATED:20260415T192223Z
LAST-MODIFIED:20260415T192223Z
UID:10002505-1777039200-1777046400@bishoplocal.com
SUMMARY:Fishing in the Eastern Sierra Seminar
DESCRIPTION:Free seminar with Berkley Pro Team member Marlon Meade at Cardinal Village Resort\, Hunter’s Hall.
URL:https://bishoplocal.com/event/fishing-in-the-eastern-sierra-seminar/
LOCATION:Cardinal Village Resort\, Bishop\, 93514\, USA
CATEGORIES:outdoors-nature
END:VEVENT
BEGIN:VEVENT
DTSTART;TZID=America/Los_Angeles:20260424T163000
DTEND;TZID=America/Los_Angeles:20260424T183000
DTSTAMP:20260422T062016
CREATED:20260415T192223Z
LAST-MODIFIED:20260415T192223Z
UID:10002506-1777048200-1777055400@bishoplocal.com
SUMMARY:Friday Evening Public Reception
DESCRIPTION:Public reception for the Manzanar Pilgrimage at the Eastern California Museum. Refreshments provided.
URL:https://bishoplocal.com/event/friday-evening-public-reception/
LOCATION:Eastern California Museum\, 155 N Grant St\, Independence\, 93526\, USA
CATEGORIES:arts-culture
END:VEVENT
BEGIN:VEVENT
DTSTART;TZID=America/Los_Angeles:20260424T173000
DTEND;TZID=America/Los_Angeles:20260424T203000
DTSTAMP:20260422T062016
CREATED:20260409T202631Z
LAST-MODIFIED:20260409T222659Z
UID:10002000-1777051800-1777062600@bishoplocal.com
SUMMARY:Foodie Fiesta 2026
DESCRIPTION:Spring kickoff event featuring local mobile food vendors\, a beer garden by Amigos\, and live music by The Midwatch. Presented by the City of Bishop at 267 Church Street.
URL:https://bishoplocal.com/event/foodie-fiesta-2026/
LOCATION:Bishop City Park\, 690 N Main St\, Bishop\, CA\, 93514\, United States
CATEGORIES:food-drink
END:VEVENT
END:VCALENDAR