BEGIN:VCALENDAR
VERSION:2.0
PRODID:-//BishopLocal.com - ECPv6.15.18//NONSGML v1.0//EN
CALSCALE:GREGORIAN
METHOD:PUBLISH
X-WR-CALNAME:BishopLocal.com
X-ORIGINAL-URL:https://bishoplocal.com
X-WR-CALDESC:Events for BishopLocal.com
REFRESH-INTERVAL;VALUE=DURATION:PT1H
X-Robots-Tag:noindex
X-PUBLISHED-TTL:PT1H
BEGIN:VTIMEZONE
TZID:America/Los_Angeles
BEGIN:DAYLIGHT
TZOFFSETFROM:-0800
TZOFFSETTO:-0700
TZNAME:PDT
DTSTART:20250309T100000
END:DAYLIGHT
BEGIN:STANDARD
TZOFFSETFROM:-0700
TZOFFSETTO:-0800
TZNAME:PST
DTSTART:20251102T090000
END:STANDARD
BEGIN:DAYLIGHT
TZOFFSETFROM:-0800
TZOFFSETTO:-0700
TZNAME:PDT
DTSTART:20260308T100000
END:DAYLIGHT
BEGIN:STANDARD
TZOFFSETFROM:-0700
TZOFFSETTO:-0800
TZNAME:PST
DTSTART:20261101T090000
END:STANDARD
BEGIN:DAYLIGHT
TZOFFSETFROM:-0800
TZOFFSETTO:-0700
TZNAME:PDT
DTSTART:20270314T100000
END:DAYLIGHT
BEGIN:STANDARD
TZOFFSETFROM:-0700
TZOFFSETTO:-0800
TZNAME:PST
DTSTART:20271107T090000
END:STANDARD
END:VTIMEZONE
BEGIN:VEVENT
DTSTART;TZID=America/Los_Angeles:20260507T051500
DTEND;TZID=America/Los_Angeles:20260507T061500
DTSTAMP:20260422T032554
CREATED:20260415T192505Z
LAST-MODIFIED:20260415T192505Z
UID:10002630-1778130900-1778134500@bishoplocal.com
SUMMARY:Bootcamp
DESCRIPTION:Bootcamp class at Bishop Strength with Kelly Ludwick.
URL:https://bishoplocal.com/event/bootcamp-19/
LOCATION:Bishop Strength\, 162 Willow St\, Bishop\, 93514\, USA
CATEGORIES:Wellness
END:VEVENT
BEGIN:VEVENT
DTSTART;TZID=America/Los_Angeles:20260507T064500
DTEND;TZID=America/Los_Angeles:20260507T074000
DTSTAMP:20260422T032554
CREATED:20260409T202114Z
LAST-MODIFIED:20260409T202114Z
UID:10002303-1778136300-1778139600@bishoplocal.com
SUMMARY:Dynamic Flow Pilates
DESCRIPTION:Intermediate to advanced reformer Pilates class using the reformer\, Cadillac tower\, and stability chair. Best suited for Pilates-experienced clients or fit beginners.
URL:https://bishoplocal.com/event/dynamic-flow-pilates-39/
LOCATION:Hummingbird Movement Collective\, 126 N Main St\, Bishop\, 93514\, USA
CATEGORIES:Wellness
END:VEVENT
BEGIN:VEVENT
DTSTART;TZID=America/Los_Angeles:20260507T070000
DTEND;TZID=America/Los_Angeles:20260507T074500
DTSTAMP:20260422T032554
CREATED:20260409T202858Z
LAST-MODIFIED:20260409T202858Z
UID:10001857-1778137200-1778139900@bishoplocal.com
SUMMARY:Vipassana Meditation
DESCRIPTION:Vipassana insight meditation class in the Buddhist tradition focusing on self-awareness and mindful observation. Donation-based class at Bishop Yoga & Pilates Center.
URL:https://bishoplocal.com/event/vipassana-meditation-6/
LOCATION:Bishop Yoga & Pilates Center\, 621 W. Line St. #203\, Bishop\, CA\, 93514\, United States
CATEGORIES:Wellness
END:VEVENT
BEGIN:VEVENT
DTSTART;TZID=America/Los_Angeles:20260507T070000
DTEND;TZID=America/Los_Angeles:20260507T080000
DTSTAMP:20260422T032554
CREATED:20260409T202744Z
LAST-MODIFIED:20260409T202744Z
UID:10001930-1778137200-1778140800@bishoplocal.com
SUMMARY:Wake Up & Flow Vinyasa
DESCRIPTION:Early morning vinyasa yoga class to start the day with flowing movement and mindful practice. Held at Sierra Shanti Studio in Bishop.
URL:https://bishoplocal.com/event/wake-up-flow-vinyasa-5/
LOCATION:Sierra Shanti Studio\, 275B S Main St\, Bishop\, CA\, 93514\, United States
CATEGORIES:Wellness
ORGANIZER;CN="Sierra Shanti Studio":MAILTO:sierrashanti108@gmail.com
END:VEVENT
BEGIN:VEVENT
DTSTART;TZID=America/Los_Angeles:20260507T080000
DTEND;TZID=America/Los_Angeles:20260507T090000
DTSTAMP:20260422T032554
CREATED:20260409T202858Z
LAST-MODIFIED:20260409T202858Z
UID:10001858-1778140800-1778144400@bishoplocal.com
SUMMARY:Mat/Springwall Pilates
DESCRIPTION:Mat and springwall Pilates class focusing on core strength\, body alignment\, mobility\, and breathing. Taught in the Stott Pilates method at Bishop Yoga & Pilates Center.
URL:https://bishoplocal.com/event/mat-springwall-pilates-10/
LOCATION:Bishop Yoga & Pilates Center\, 621 W. Line St. #203\, Bishop\, CA\, 93514\, United States
CATEGORIES:Wellness
END:VEVENT
BEGIN:VEVENT
DTSTART;TZID=America/Los_Angeles:20260507T081500
DTEND;TZID=America/Los_Angeles:20260507T091000
DTSTAMP:20260422T032554
CREATED:20260409T202114Z
LAST-MODIFIED:20260409T202114Z
UID:10002304-1778141700-1778145000@bishoplocal.com
SUMMARY:Spin & Strength
DESCRIPTION:A dynamic blend of cycling and strength training for a balanced full-body workout. Combines heart-pumping cycling intervals with strength exercises.
URL:https://bishoplocal.com/event/spin-strength-7/
LOCATION:Hummingbird Movement Collective\, 126 N Main St\, Bishop\, 93514\, USA
CATEGORIES:Wellness
END:VEVENT
BEGIN:VEVENT
DTSTART;TZID=America/Los_Angeles:20260507T083000
DTEND;TZID=America/Los_Angeles:20260507T093000
DTSTAMP:20260422T032555
CREATED:20260415T192505Z
LAST-MODIFIED:20260415T192505Z
UID:10002631-1778142600-1778146200@bishoplocal.com
SUMMARY:Bootcamp
DESCRIPTION:Morning bootcamp class at Bishop Strength with Kelly Ludwick.
URL:https://bishoplocal.com/event/bootcamp-20/
LOCATION:Bishop Strength\, 162 Willow St\, Bishop\, 93514\, USA
CATEGORIES:Wellness
END:VEVENT
BEGIN:VEVENT
DTSTART;TZID=America/Los_Angeles:20260507T090000
DTEND;TZID=America/Los_Angeles:20260507T095500
DTSTAMP:20260422T032555
CREATED:20260409T202114Z
LAST-MODIFIED:20260409T202114Z
UID:10002305-1778144400-1778147700@bishoplocal.com
SUMMARY:Gentle Flow Pilates
DESCRIPTION:All-levels reformer Pilates class using the reformer\, tower\, and stability chair. Suitable for all experience levels with options offered for beginners through advanced practitioners.
URL:https://bishoplocal.com/event/gentle-flow-pilates-53/
LOCATION:Hummingbird Movement Collective\, 126 N Main St\, Bishop\, 93514\, USA
CATEGORIES:Wellness
END:VEVENT
BEGIN:VEVENT
DTSTART;TZID=America/Los_Angeles:20260507T091500
DTEND;TZID=America/Los_Angeles:20260507T101000
DTSTAMP:20260422T032555
CREATED:20260409T202114Z
LAST-MODIFIED:20260409T202114Z
UID:10002306-1778145300-1778148600@bishoplocal.com
SUMMARY:Weight Lifting
DESCRIPTION:Small-group weight lifting class with simple programming and progressive instruction. Great for beginners or those who prefer a small-group setting for personalized guidance.
URL:https://bishoplocal.com/event/weight-lifting-29/
LOCATION:Hummingbird Movement Collective\, 126 N Main St\, Bishop\, 93514\, USA
CATEGORIES:Wellness
END:VEVENT
BEGIN:VEVENT
DTSTART;TZID=America/Los_Angeles:20260507T100000
DTEND;TZID=America/Los_Angeles:20260507T105500
DTSTAMP:20260422T032555
CREATED:20260409T202106Z
LAST-MODIFIED:20260409T202106Z
UID:10002307-1778148000-1778151300@bishoplocal.com
SUMMARY:Gentle Flow Pilates
DESCRIPTION:All-levels reformer Pilates class using the reformer\, tower\, and stability chair. Suitable for all experience levels with options offered for beginners through advanced practitioners.
URL:https://bishoplocal.com/event/gentle-flow-pilates-52/
LOCATION:Hummingbird Movement Collective\, 126 N Main St\, Bishop\, 93514\, USA
CATEGORIES:Wellness
END:VEVENT
BEGIN:VEVENT
DTSTART;TZID=America/Los_Angeles:20260507T101500
DTEND;TZID=America/Los_Angeles:20260507T111000
DTSTAMP:20260422T032555
CREATED:20260409T202106Z
LAST-MODIFIED:20260409T202106Z
UID:10002308-1778148900-1778152200@bishoplocal.com
SUMMARY:Weight Lifting
DESCRIPTION:Small-group weight lifting class with simple programming and progressive instruction. Great for beginners or those who prefer a small-group setting for personalized guidance.
URL:https://bishoplocal.com/event/weight-lifting-28/
LOCATION:Hummingbird Movement Collective\, 126 N Main St\, Bishop\, 93514\, USA
CATEGORIES:Wellness
END:VEVENT
BEGIN:VEVENT
DTSTART;TZID=America/Los_Angeles:20260507T111500
DTEND;TZID=America/Los_Angeles:20260507T121000
DTSTAMP:20260422T032555
CREATED:20260409T202106Z
LAST-MODIFIED:20260409T202106Z
UID:10002309-1778152500-1778155800@bishoplocal.com
SUMMARY:Weight Lifting
DESCRIPTION:Small-group weight lifting class with simple programming and progressive instruction. Great for beginners or those who prefer a small-group setting for personalized guidance.
URL:https://bishoplocal.com/event/weight-lifting-27/
LOCATION:Hummingbird Movement Collective\, 126 N Main St\, Bishop\, 93514\, USA
CATEGORIES:Wellness
END:VEVENT
BEGIN:VEVENT
DTSTART;TZID=America/Los_Angeles:20260507T120000
DTEND;TZID=America/Los_Angeles:20260507T125500
DTSTAMP:20260422T032555
CREATED:20260409T202106Z
LAST-MODIFIED:20260409T202106Z
UID:10002310-1778155200-1778158500@bishoplocal.com
SUMMARY:TRX
DESCRIPTION:TRX suspension training class for a full-body workout using bodyweight resistance.
URL:https://bishoplocal.com/event/trx-14/
LOCATION:Hummingbird Movement Collective\, 126 N Main St\, Bishop\, 93514\, USA
CATEGORIES:Wellness
END:VEVENT
BEGIN:VEVENT
DTSTART;TZID=America/Los_Angeles:20260507T143000
DTEND;TZID=America/Los_Angeles:20260507T170000
DTSTAMP:20260422T032555
CREATED:20260409T203140Z
LAST-MODIFIED:20260409T203140Z
UID:10001709-1778164200-1778173200@bishoplocal.com
SUMMARY:After-School Arts Program (ASAP)
DESCRIPTION:After-school arts program for children ages 6-12 featuring hands-on arts\, crafts\, storytelling\, movement\, and nature connection activities led by Teaching Artist Marijke IJff. Snack provided by Manor Market.
URL:https://bishoplocal.com/event/after-school-arts-program-asap-3/
LOCATION:C5 Studios\, 210 S Warren St\, Bishop\, CA\, 93514\, United States
CATEGORIES:kids-family
END:VEVENT
BEGIN:VEVENT
DTSTART;TZID=America/Los_Angeles:20260507T150000
DTEND;TZID=America/Los_Angeles:20260507T155500
DTSTAMP:20260422T032555
CREATED:20260409T202106Z
LAST-MODIFIED:20260409T202106Z
UID:10002311-1778166000-1778169300@bishoplocal.com
SUMMARY:TRX
DESCRIPTION:TRX suspension training class for a full-body workout using bodyweight resistance.
URL:https://bishoplocal.com/event/trx-13/
LOCATION:Hummingbird Movement Collective\, 126 N Main St\, Bishop\, 93514\, USA
CATEGORIES:Wellness
END:VEVENT
BEGIN:VEVENT
DTSTART;TZID=America/Los_Angeles:20260507T160000
DTEND;TZID=America/Los_Angeles:20260507T164500
DTSTAMP:20260422T032555
CREATED:20260409T202106Z
LAST-MODIFIED:20260409T202106Z
UID:10002312-1778169600-1778172300@bishoplocal.com
SUMMARY:Spin
DESCRIPTION:Energizing indoor cycling class combining music\, motivating coaching\, and interval-based cycling drills for a full-body cardiovascular workout.
URL:https://bishoplocal.com/event/spin-14/
LOCATION:Hummingbird Movement Collective\, 126 N Main St\, Bishop\, 93514\, USA
CATEGORIES:Wellness
END:VEVENT
BEGIN:VEVENT
DTSTART;TZID=America/Los_Angeles:20260507T160000
DTEND;TZID=America/Los_Angeles:20260507T170000
DTSTAMP:20260422T032555
CREATED:20260409T203031Z
LAST-MODIFIED:20260409T203031Z
UID:10001769-1778169600-1778173200@bishoplocal.com
SUMMARY:Pups (3-7) Jiu Jitsu
DESCRIPTION:Jiu jitsu class for kids ages 3-7. Focuses on body awareness\, discipline\, and fun games that build motor skills and muscle memory for martial arts progression.
URL:https://bishoplocal.com/event/pups-3-7-jiu-jitsu-15/
LOCATION:Cattle Dog Jiu Jitsu\, 364 Rose St\, Bishop\, CA\, 93514\, United States
CATEGORIES:sports-recreation
ATTACH;FMTTYPE=image/webp:https://bishoplocal.com/wp-content/uploads/2026/04/16643643750_9e92c5ccf0_o.webp
ORGANIZER;CN="Cattle Dog Jiu Jitsu":MAILTO:cattledogjiujitsu@gmail.com
END:VEVENT
BEGIN:VEVENT
DTSTART;TZID=America/Los_Angeles:20260507T160000
DTEND;TZID=America/Los_Angeles:20260507T190000
DTSTAMP:20260422T032555
CREATED:20260409T202631Z
LAST-MODIFIED:20260409T202631Z
UID:10002003-1778169600-1778180400@bishoplocal.com
SUMMARY:Farm to Table Market
DESCRIPTION:Weekly community market featuring local vendors\, seasonal foods\, handmade goods\, live music\, and hands-on workshops at Bishop United Methodist Church.
URL:https://bishoplocal.com/event/farm-to-table-market-8/
LOCATION:First United Methodist Church\, 205 N Fowler St\, Bishop\, CA\, 93514\, United States
CATEGORIES:food-drink
ORGANIZER;CN="Eastern Sierra Farm Fresh":MAILTO:esffbishopinfo@gmail.com
END:VEVENT
BEGIN:VEVENT
DTSTART;TZID=America/Los_Angeles:20260507T170000
DTEND;TZID=America/Los_Angeles:20260507T175500
DTSTAMP:20260422T032555
CREATED:20260409T202106Z
LAST-MODIFIED:20260409T202106Z
UID:10002313-1778173200-1778176500@bishoplocal.com
SUMMARY:Gentle Flow Pilates
DESCRIPTION:All-levels reformer Pilates class using the reformer\, tower\, and stability chair. Suitable for all experience levels with options offered for beginners through advanced practitioners.
URL:https://bishoplocal.com/event/gentle-flow-pilates-51/
LOCATION:Hummingbird Movement Collective\, 126 N Main St\, Bishop\, 93514\, USA
CATEGORIES:Wellness
END:VEVENT
BEGIN:VEVENT
DTSTART;TZID=America/Los_Angeles:20260507T170000
DTEND;TZID=America/Los_Angeles:20260507T190000
DTSTAMP:20260422T032555
CREATED:20260409T202622Z
LAST-MODIFIED:20260409T202622Z
UID:10002014-1778173200-1778180400@bishoplocal.com
SUMMARY:Hedgerow & Native Pollinator Workshop
DESCRIPTION:Workshop on making your garden more sustainable\, productive\, and pollinator friendly using hedgerows. Co-hosted by Bishop Paiute Tribe’s Food Sovereignty Program\, NRCS\, and ESLT. Free and open to the public with light refreshments.
URL:https://bishoplocal.com/event/hedgerow-native-pollinator-workshop/
LOCATION:Food Sovereignty Program Cultural Center Garden\, 2300 W Line St\, Bishop\, 93514
CATEGORIES:outdoors-nature
ATTACH;FMTTYPE=image/png:https://bishoplocal.com/wp-content/uploads/2026/04/Hedgerows.png
END:VEVENT
BEGIN:VEVENT
DTSTART;TZID=America/Los_Angeles:20260507T170000
DTEND;TZID=America/Los_Angeles:20260507T210000
DTSTAMP:20260422T032555
CREATED:20260409T202459Z
LAST-MODIFIED:20260409T202459Z
UID:10002090-1778173200-1778187600@bishoplocal.com
SUMMARY:Cloudripper Pop-Up Dinner
DESCRIPTION:Weekly pop-up dinner at Owens Valley Distilling Company. Rotating menu featuring East and Southeast Asian food\, falafel bowls\, and seasonal dishes made with local ingredients. Check @cloudripperbishop on Instagram for this week’s menu.
URL:https://bishoplocal.com/event/cloudripper-pop-up-dinner-8/
LOCATION:Owens Valley Distilling Company\, 237 E South Street\, Bishop\, 442-228-5041\, 93514
CATEGORIES:food-drink
END:VEVENT
BEGIN:VEVENT
DTSTART;TZID=America/Los_Angeles:20260507T173000
DTEND;TZID=America/Los_Angeles:20260507T183000
DTSTAMP:20260422T032555
CREATED:20260409T202744Z
LAST-MODIFIED:20260409T202744Z
UID:10001931-1778175000-1778178600@bishoplocal.com
SUMMARY:Vinyasa to Yin Flow
DESCRIPTION:Yoga class transitioning from active vinyasa movement into slower\, restorative yin holds. Held at Sierra Shanti Studio in Bishop.
URL:https://bishoplocal.com/event/vinyasa-to-yin-flow-5/
LOCATION:Sierra Shanti Studio\, 275B S Main St\, Bishop\, CA\, 93514\, United States
CATEGORIES:Wellness
ORGANIZER;CN="Sierra Shanti Studio":MAILTO:sierrashanti108@gmail.com
END:VEVENT
BEGIN:VEVENT
DTSTART;TZID=America/Los_Angeles:20260507T173000
DTEND;TZID=America/Los_Angeles:20260507T183000
DTSTAMP:20260422T032555
CREATED:20260415T192505Z
LAST-MODIFIED:20260415T192505Z
UID:10002632-1778175000-1778178600@bishoplocal.com
SUMMARY:Strength Training
DESCRIPTION:Strength training class at Bishop Strength with Paul Mandell.
URL:https://bishoplocal.com/event/strength-training-19/
LOCATION:Bishop Strength\, 162 Willow St\, Bishop\, 93514\, USA
CATEGORIES:Wellness
END:VEVENT
BEGIN:VEVENT
DTSTART;TZID=America/Los_Angeles:20260507T173000
DTEND;TZID=America/Los_Angeles:20260507T193000
DTSTAMP:20260422T032555
CREATED:20260409T202541Z
LAST-MODIFIED:20260409T202541Z
UID:10002052-1778175000-1778182200@bishoplocal.com
SUMMARY:Plein Air Watercolor Painting Series at Blue Heron Farm - Session 2
DESCRIPTION:Outdoor watercolor class led by Krystina Maixner of Chalk Fox Studio. Session 2 covers color mixing and creating natural colors. All levels welcome. Drop-ins encouraged.
URL:https://bishoplocal.com/event/plein-air-watercolor-painting-series-at-blue-heron-farm-session-2/
LOCATION:Blue Heron Farm\, 75 Sierra Grande St\, Bishop\, CA\, 93514\, United States
CATEGORIES:arts-culture
ATTACH;FMTTYPE=image/png:https://bishoplocal.com/wp-content/uploads/2026/04/NoQRCopyofPleinAirwatercolorpaintingseries.png
END:VEVENT
BEGIN:VEVENT
DTSTART;TZID=America/Los_Angeles:20260507T180000
DTEND;TZID=America/Los_Angeles:20260507T193000
DTSTAMP:20260422T032555
CREATED:20260415T192232Z
LAST-MODIFIED:20260415T192233Z
UID:10002510-1778176800-1778182200@bishoplocal.com
SUMMARY:Science on Tap: Fire Adapted Forests
DESCRIPTION:Lecture by Sarah M. Bisbing on fire-adapted forests\, presented by Whitebark Institute at Mountain Rambler Brewery.
URL:https://bishoplocal.com/event/science-on-tap-fire-adapted-forests/
LOCATION:Mountain Rambler Brewery\, 186 S Main St\, Bishop\, CA\, 93514\, United States
CATEGORIES:Community
END:VEVENT
BEGIN:VEVENT
DTSTART;TZID=America/Los_Angeles:20260507T183000
DTEND;TZID=America/Los_Angeles:20260507T193000
DTSTAMP:20260422T032555
CREATED:20260415T192505Z
LAST-MODIFIED:20260415T192505Z
UID:10002633-1778178600-1778182200@bishoplocal.com
SUMMARY:Strength Training
DESCRIPTION:Strength training class at Bishop Strength with Paul Mandell. Second session.
URL:https://bishoplocal.com/event/strength-training-20/
LOCATION:Bishop Strength\, 162 Willow St\, Bishop\, 93514\, USA
CATEGORIES:Wellness
END:VEVENT
BEGIN:VEVENT
DTSTART;TZID=America/Los_Angeles:20260508T053000
DTEND;TZID=America/Los_Angeles:20260508T063000
DTSTAMP:20260422T032555
CREATED:20260415T192525Z
LAST-MODIFIED:20260415T192525Z
UID:10002649-1778218200-1778221800@bishoplocal.com
SUMMARY:Weightlifting (BTB)
DESCRIPTION:Barbell weightlifting class at Bishop Strength with Jared Waasdorp.
URL:https://bishoplocal.com/event/weightlifting-btb-17/
LOCATION:Bishop Strength\, 162 Willow St\, Bishop\, 93514\, USA
CATEGORIES:Wellness
END:VEVENT
BEGIN:VEVENT
DTSTART;TZID=America/Los_Angeles:20260508T100000
DTEND;TZID=America/Los_Angeles:20260508T105500
DTSTAMP:20260422T032555
CREATED:20260409T202106Z
LAST-MODIFIED:20260409T202106Z
UID:10002314-1778234400-1778237700@bishoplocal.com
SUMMARY:Gentle Flow Pilates
DESCRIPTION:All-levels reformer Pilates class using the reformer\, tower\, and stability chair. Suitable for all experience levels with options offered for beginners through advanced practitioners.
URL:https://bishoplocal.com/event/gentle-flow-pilates-50/
LOCATION:Hummingbird Movement Collective\, 126 N Main St\, Bishop\, 93514\, USA
CATEGORIES:Wellness
END:VEVENT
BEGIN:VEVENT
DTSTART;TZID=America/Los_Angeles:20260508T110000
DTEND;TZID=America/Los_Angeles:20260508T115500
DTSTAMP:20260422T032555
CREATED:20260409T202058Z
LAST-MODIFIED:20260409T202058Z
UID:10002315-1778238000-1778241300@bishoplocal.com
SUMMARY:Dynamic Flow Pilates
DESCRIPTION:Intermediate to advanced reformer Pilates class using the reformer\, Cadillac tower\, and stability chair. Best suited for Pilates-experienced clients or fit beginners.
URL:https://bishoplocal.com/event/dynamic-flow-pilates-38/
LOCATION:Hummingbird Movement Collective\, 126 N Main St\, Bishop\, 93514\, USA
CATEGORIES:Wellness
END:VEVENT
BEGIN:VEVENT
DTSTART;TZID=America/Los_Angeles:20260508T150000
DTEND;TZID=America/Los_Angeles:20260508T155500
DTSTAMP:20260422T032555
CREATED:20260409T202058Z
LAST-MODIFIED:20260409T202058Z
UID:10002316-1778252400-1778255700@bishoplocal.com
SUMMARY:Dynamic Flow Pilates
DESCRIPTION:Intermediate to advanced reformer Pilates class using the reformer\, Cadillac tower\, and stability chair. Best suited for Pilates-experienced clients or fit beginners.
URL:https://bishoplocal.com/event/dynamic-flow-pilates-37/
LOCATION:Hummingbird Movement Collective\, 126 N Main St\, Bishop\, 93514\, USA
CATEGORIES:Wellness
END:VEVENT
END:VCALENDAR