BEGIN:VCALENDAR
VERSION:2.0
PRODID:-//BishopLocal.com - ECPv6.15.18//NONSGML v1.0//EN
CALSCALE:GREGORIAN
METHOD:PUBLISH
X-WR-CALNAME:BishopLocal.com
X-ORIGINAL-URL:https://bishoplocal.com
X-WR-CALDESC:Events for BishopLocal.com
REFRESH-INTERVAL;VALUE=DURATION:PT1H
X-Robots-Tag:noindex
X-PUBLISHED-TTL:PT1H
BEGIN:VTIMEZONE
TZID:America/Los_Angeles
BEGIN:DAYLIGHT
TZOFFSETFROM:-0800
TZOFFSETTO:-0700
TZNAME:PDT
DTSTART:20250309T100000
END:DAYLIGHT
BEGIN:STANDARD
TZOFFSETFROM:-0700
TZOFFSETTO:-0800
TZNAME:PST
DTSTART:20251102T090000
END:STANDARD
BEGIN:DAYLIGHT
TZOFFSETFROM:-0800
TZOFFSETTO:-0700
TZNAME:PDT
DTSTART:20260308T100000
END:DAYLIGHT
BEGIN:STANDARD
TZOFFSETFROM:-0700
TZOFFSETTO:-0800
TZNAME:PST
DTSTART:20261101T090000
END:STANDARD
BEGIN:DAYLIGHT
TZOFFSETFROM:-0800
TZOFFSETTO:-0700
TZNAME:PDT
DTSTART:20270314T100000
END:DAYLIGHT
BEGIN:STANDARD
TZOFFSETFROM:-0700
TZOFFSETTO:-0800
TZNAME:PST
DTSTART:20271107T090000
END:STANDARD
END:VTIMEZONE
BEGIN:VEVENT
DTSTART;TZID=America/Los_Angeles:20260430T101500
DTEND;TZID=America/Los_Angeles:20260430T111000
DTSTAMP:20260419T111629
CREATED:20260409T202157Z
LAST-MODIFIED:20260409T202157Z
UID:10002262-1777544100-1777547400@bishoplocal.com
SUMMARY:Weight Lifting
DESCRIPTION:Small-group weight lifting class with simple programming and progressive instruction. Great for beginners or those who prefer a small-group setting for personalized guidance.
URL:https://bishoplocal.com/event/weight-lifting-36/
LOCATION:Hummingbird Movement Collective\, 126 N Main St\, Bishop\, 93514\, USA
CATEGORIES:Wellness
END:VEVENT
BEGIN:VEVENT
DTSTART;TZID=America/Los_Angeles:20260430T111500
DTEND;TZID=America/Los_Angeles:20260430T121000
DTSTAMP:20260419T111629
CREATED:20260409T202157Z
LAST-MODIFIED:20260409T202157Z
UID:10002263-1777547700-1777551000@bishoplocal.com
SUMMARY:Weight Lifting
DESCRIPTION:Small-group weight lifting class with simple programming and progressive instruction. Great for beginners or those who prefer a small-group setting for personalized guidance.
URL:https://bishoplocal.com/event/weight-lifting-35/
LOCATION:Hummingbird Movement Collective\, 126 N Main St\, Bishop\, 93514\, USA
CATEGORIES:Wellness
END:VEVENT
BEGIN:VEVENT
DTSTART;TZID=America/Los_Angeles:20260430T120000
DTEND;TZID=America/Los_Angeles:20260430T125500
DTSTAMP:20260419T111629
CREATED:20260409T202157Z
LAST-MODIFIED:20260409T202157Z
UID:10002264-1777550400-1777553700@bishoplocal.com
SUMMARY:TRX
DESCRIPTION:TRX suspension training class for a full-body workout using bodyweight resistance.
URL:https://bishoplocal.com/event/trx-18/
LOCATION:Hummingbird Movement Collective\, 126 N Main St\, Bishop\, 93514\, USA
CATEGORIES:Wellness
END:VEVENT
BEGIN:VEVENT
DTSTART;TZID=America/Los_Angeles:20260430T150000
DTEND;TZID=America/Los_Angeles:20260430T155500
DTSTAMP:20260419T111629
CREATED:20260409T202157Z
LAST-MODIFIED:20260409T202157Z
UID:10002265-1777561200-1777564500@bishoplocal.com
SUMMARY:TRX
DESCRIPTION:TRX suspension training class for a full-body workout using bodyweight resistance.
URL:https://bishoplocal.com/event/trx-17/
LOCATION:Hummingbird Movement Collective\, 126 N Main St\, Bishop\, 93514\, USA
CATEGORIES:Wellness
END:VEVENT
BEGIN:VEVENT
DTSTART;TZID=America/Los_Angeles:20260430T160000
DTEND;TZID=America/Los_Angeles:20260430T164500
DTSTAMP:20260419T111629
CREATED:20260409T202157Z
LAST-MODIFIED:20260409T202157Z
UID:10002266-1777564800-1777567500@bishoplocal.com
SUMMARY:Spin
DESCRIPTION:Energizing indoor cycling class combining music\, motivating coaching\, and interval-based cycling drills for a full-body cardiovascular workout.
URL:https://bishoplocal.com/event/spin-18/
LOCATION:Hummingbird Movement Collective\, 126 N Main St\, Bishop\, 93514\, USA
CATEGORIES:Wellness
END:VEVENT
BEGIN:VEVENT
DTSTART;TZID=America/Los_Angeles:20260430T160000
DTEND;TZID=America/Los_Angeles:20260430T170000
DTSTAMP:20260419T111629
CREATED:20260409T203022Z
LAST-MODIFIED:20260409T203022Z
UID:10001781-1777564800-1777568400@bishoplocal.com
SUMMARY:Pups (3-7) Jiu Jitsu
DESCRIPTION:Jiu jitsu class for kids ages 3-7. Focuses on body awareness\, discipline\, and fun games that build motor skills and muscle memory for martial arts progression.
URL:https://bishoplocal.com/event/pups-3-7-jiu-jitsu-12/
LOCATION:Cattle Dog Jiu Jitsu\, 364 Rose St\, Bishop\, CA\, 93514\, United States
CATEGORIES:sports-recreation
ATTACH;FMTTYPE=image/webp:https://bishoplocal.com/wp-content/uploads/2026/04/16643643750_9e92c5ccf0_o.webp
ORGANIZER;CN="Cattle Dog Jiu Jitsu":MAILTO:cattledogjiujitsu@gmail.com
END:VEVENT
BEGIN:VEVENT
DTSTART;TZID=America/Los_Angeles:20260430T160000
DTEND;TZID=America/Los_Angeles:20260430T190000
DTSTAMP:20260419T111629
CREATED:20260409T202622Z
LAST-MODIFIED:20260409T202622Z
UID:10002010-1777564800-1777575600@bishoplocal.com
SUMMARY:Farm to Table Market
DESCRIPTION:Weekly community market featuring local vendors\, seasonal foods\, handmade goods\, live music\, and hands-on workshops at Bishop United Methodist Church.
URL:https://bishoplocal.com/event/farm-to-table-market-3/
LOCATION:First United Methodist Church\, 205 N Fowler St\, Bishop\, CA\, 93514\, United States
CATEGORIES:food-drink
ORGANIZER;CN="Eastern Sierra Farm Fresh":MAILTO:esffbishopinfo@gmail.com
END:VEVENT
BEGIN:VEVENT
DTSTART;TZID=America/Los_Angeles:20260430T170000
DTEND;TZID=America/Los_Angeles:20260430T175500
DTSTAMP:20260419T111629
CREATED:20260409T202149Z
LAST-MODIFIED:20260409T202149Z
UID:10002267-1777568400-1777571700@bishoplocal.com
SUMMARY:Gentle Flow Pilates
DESCRIPTION:All-levels reformer Pilates class using the reformer\, tower\, and stability chair. Suitable for all experience levels with options offered for beginners through advanced practitioners.
URL:https://bishoplocal.com/event/gentle-flow-pilates-67/
LOCATION:Hummingbird Movement Collective\, 126 N Main St\, Bishop\, 93514\, USA
CATEGORIES:Wellness
END:VEVENT
BEGIN:VEVENT
DTSTART;TZID=America/Los_Angeles:20260430T171500
DTEND;TZID=America/Los_Angeles:20260430T183000
DTSTAMP:20260419T111629
CREATED:20260415T192312Z
LAST-MODIFIED:20260415T192312Z
UID:10002541-1777569300-1777573800@bishoplocal.com
SUMMARY:Dance Trapeze (Series)
DESCRIPTION:Dance trapeze series class at Eastern Sierra Aerial Arts.
URL:https://bishoplocal.com/event/dance-trapeze-series-2/
LOCATION:Eastern Sierra Aerial Arts\, Bishop\, 93514\, USA
CATEGORIES:sports-recreation
END:VEVENT
BEGIN:VEVENT
DTSTART;TZID=America/Los_Angeles:20260430T173000
DTEND;TZID=America/Los_Angeles:20260430T183000
DTSTAMP:20260419T111629
CREATED:20260409T202727Z
LAST-MODIFIED:20260409T202727Z
UID:10001949-1777570200-1777573800@bishoplocal.com
SUMMARY:Vinyasa to Yin Flow
DESCRIPTION:Yoga class transitioning from active vinyasa movement into slower\, restorative yin holds. Held at Sierra Shanti Studio in Bishop.
URL:https://bishoplocal.com/event/vinyasa-to-yin-flow-4/
LOCATION:Sierra Shanti Studio\, 275B S Main St\, Bishop\, CA\, 93514\, United States
CATEGORIES:Wellness
ORGANIZER;CN="Sierra Shanti Studio":MAILTO:sierrashanti108@gmail.com
END:VEVENT
BEGIN:VEVENT
DTSTART;TZID=America/Los_Angeles:20260430T173000
DTEND;TZID=America/Los_Angeles:20260430T183000
DTSTAMP:20260419T111629
CREATED:20260415T192504Z
LAST-MODIFIED:20260415T192504Z
UID:10002628-1777570200-1777573800@bishoplocal.com
SUMMARY:Strength Training
DESCRIPTION:Strength training class at Bishop Strength with Paul Mandell.
URL:https://bishoplocal.com/event/strength-training-17/
LOCATION:Bishop Strength\, 162 Willow St\, Bishop\, 93514\, USA
CATEGORIES:Wellness
END:VEVENT
BEGIN:VEVENT
DTSTART;TZID=America/Los_Angeles:20260430T173000
DTEND;TZID=America/Los_Angeles:20260430T193000
DTSTAMP:20260419T111629
CREATED:20260415T192232Z
LAST-MODIFIED:20260415T192232Z
UID:10002508-1777570200-1777577400@bishoplocal.com
SUMMARY:BUSD Community Art Show
DESCRIPTION:Student community art show with light refreshments at C5 Studios.
URL:https://bishoplocal.com/event/busd-community-art-show/
LOCATION:C5 Studios\, 210 S Warren St\, Bishop\, CA\, 93514\, United States
CATEGORIES:arts-culture
END:VEVENT
BEGIN:VEVENT
DTSTART;TZID=America/Los_Angeles:20260430T180000
DTEND;TZID=America/Los_Angeles:20260430T193000
DTSTAMP:20260419T111629
CREATED:20260409T202541Z
LAST-MODIFIED:20260409T202541Z
UID:10002048-1777572000-1777577400@bishoplocal.com
SUMMARY:Salsa Dance Classes with Hallie
DESCRIPTION:Salsa dance class open to all skill levels. Beginners welcome and drop-ins encouraged. Bring a partner or come solo. Each class reviews prior skills and introduces new combinations. Instructor: Hallie Vickers.
URL:https://bishoplocal.com/event/salsa-dance-classes-with-hallie/
LOCATION:C5 Studios\, 210 S Warren St\, Bishop\, CA\, 93514\, United States
CATEGORIES:arts-culture
ATTACH;FMTTYPE=image/jpeg:https://bishoplocal.com/wp-content/uploads/2026/04/unnamed28229.jpg
END:VEVENT
BEGIN:VEVENT
DTSTART;TZID=America/Los_Angeles:20260430T180000
DTEND;TZID=America/Los_Angeles:20260430T193000
DTSTAMP:20260419T111629
CREATED:20260409T202631Z
LAST-MODIFIED:20260409T202631Z
UID:10002002-1777572000-1777577400@bishoplocal.com
SUMMARY:UC WMRC Lecture Series: High-elevation white pines of the Eastern Sierra
DESCRIPTION:Michèle Slaton from USFS Inyo National Forest discusses noteworthy high-elevation white pine forests\, including forest health\, fire\, and snow. Free lecture.
URL:https://bishoplocal.com/event/uc-wmrc-lecture-series-high-elevation-white-pines-of-the-eastern-sierra/
LOCATION:Owens Valley Station (UC WMRC)\, 3000 E Line St\, Bishop\, 93514
CATEGORIES:outdoors-nature
ATTACH;FMTTYPE=image/jpeg:https://bishoplocal.com/wp-content/uploads/2026/04/16-9-Slaton-et-al-2025-pines-fig.jpeg
ORGANIZER;CN="UC White Mountain Research Center":MAILTO:wmrcinfo@ucla.edu
END:VEVENT
BEGIN:VEVENT
DTSTART;TZID=America/Los_Angeles:20260430T183000
DTEND;TZID=America/Los_Angeles:20260430T193000
DTSTAMP:20260419T111629
CREATED:20260415T192505Z
LAST-MODIFIED:20260415T192505Z
UID:10002629-1777573800-1777577400@bishoplocal.com
SUMMARY:Strength Training
DESCRIPTION:Strength training class at Bishop Strength with Paul Mandell. Second session.
URL:https://bishoplocal.com/event/strength-training-18/
LOCATION:Bishop Strength\, 162 Willow St\, Bishop\, 93514\, USA
CATEGORIES:Wellness
END:VEVENT
BEGIN:VEVENT
DTSTART;TZID=America/Los_Angeles:20260430T183000
DTEND;TZID=America/Los_Angeles:20260430T200000
DTSTAMP:20260419T111629
CREATED:20260415T192313Z
LAST-MODIFIED:20260415T192313Z
UID:10002542-1777573800-1777579200@bishoplocal.com
SUMMARY:Beg/Int Pole Tricks
DESCRIPTION:Beginner to intermediate pole tricks class at Eastern Sierra Aerial Arts.
URL:https://bishoplocal.com/event/beg-int-pole-tricks-2/
LOCATION:Eastern Sierra Aerial Arts\, Bishop\, 93514\, USA
CATEGORIES:sports-recreation
END:VEVENT
BEGIN:VEVENT
DTSTART;TZID=America/Los_Angeles:20260501T053000
DTEND;TZID=America/Los_Angeles:20260501T063000
DTSTAMP:20260419T111629
CREATED:20260415T192525Z
LAST-MODIFIED:20260415T192525Z
UID:10002648-1777613400-1777617000@bishoplocal.com
SUMMARY:Weightlifting (BTB)
DESCRIPTION:Barbell weightlifting class at Bishop Strength with Jared Waasdorp.
URL:https://bishoplocal.com/event/weightlifting-btb-16/
LOCATION:Bishop Strength\, 162 Willow St\, Bishop\, 93514\, USA
CATEGORIES:Wellness
END:VEVENT
BEGIN:VEVENT
DTSTART;TZID=America/Los_Angeles:20260501T100000
DTEND;TZID=America/Los_Angeles:20260501T105500
DTSTAMP:20260419T111629
CREATED:20260409T202149Z
LAST-MODIFIED:20260409T202149Z
UID:10002268-1777629600-1777632900@bishoplocal.com
SUMMARY:Gentle Flow Pilates
DESCRIPTION:All-levels reformer Pilates class using the reformer\, tower\, and stability chair. Suitable for all experience levels with options offered for beginners through advanced practitioners.
URL:https://bishoplocal.com/event/gentle-flow-pilates-66/
LOCATION:Hummingbird Movement Collective\, 126 N Main St\, Bishop\, 93514\, USA
CATEGORIES:Wellness
END:VEVENT
BEGIN:VEVENT
DTSTART;TZID=America/Los_Angeles:20260501T110000
DTEND;TZID=America/Los_Angeles:20260501T115500
DTSTAMP:20260419T111629
CREATED:20260409T202148Z
LAST-MODIFIED:20260409T202148Z
UID:10002269-1777633200-1777636500@bishoplocal.com
SUMMARY:Dynamic Flow Pilates
DESCRIPTION:Intermediate to advanced reformer Pilates class using the reformer\, Cadillac tower\, and stability chair. Best suited for Pilates-experienced clients or fit beginners.
URL:https://bishoplocal.com/event/dynamic-flow-pilates-49/
LOCATION:Hummingbird Movement Collective\, 126 N Main St\, Bishop\, 93514\, USA
CATEGORIES:Wellness
END:VEVENT
BEGIN:VEVENT
DTSTART;TZID=America/Los_Angeles:20260501T150000
DTEND;TZID=America/Los_Angeles:20260501T155500
DTSTAMP:20260419T111629
CREATED:20260409T202148Z
LAST-MODIFIED:20260409T202148Z
UID:10002270-1777647600-1777650900@bishoplocal.com
SUMMARY:Dynamic Flow Pilates
DESCRIPTION:Intermediate to advanced reformer Pilates class using the reformer\, Cadillac tower\, and stability chair. Best suited for Pilates-experienced clients or fit beginners.
URL:https://bishoplocal.com/event/dynamic-flow-pilates-48/
LOCATION:Hummingbird Movement Collective\, 126 N Main St\, Bishop\, 93514\, USA
CATEGORIES:Wellness
END:VEVENT
BEGIN:VEVENT
DTSTART;TZID=America/Los_Angeles:20260501T170000
DTEND;TZID=America/Los_Angeles:20260501T183000
DTSTAMP:20260419T111629
CREATED:20260409T203022Z
LAST-MODIFIED:20260409T203022Z
UID:10001782-1777654800-1777660200@bishoplocal.com
SUMMARY:Heelers (8 up) Jiu Jitsu
DESCRIPTION:Jiu jitsu class for kids ages 8 and up. Builds on fundamentals with more detailed instruction\, situational rolling\, and self-defense preparation.
URL:https://bishoplocal.com/event/heelers-8-up-jiu-jitsu-12/
LOCATION:Cattle Dog Jiu Jitsu\, 364 Rose St\, Bishop\, CA\, 93514\, United States
CATEGORIES:sports-recreation
ATTACH;FMTTYPE=image/webp:https://bishoplocal.com/wp-content/uploads/2026/04/16643643750_9e92c5ccf0_o.webp
ORGANIZER;CN="Cattle Dog Jiu Jitsu":MAILTO:cattledogjiujitsu@gmail.com
END:VEVENT
BEGIN:VEVENT
DTSTART;TZID=America/Los_Angeles:20260501T173000
DTEND;TZID=America/Los_Angeles:20260501T183000
DTSTAMP:20260419T111629
CREATED:20260409T202727Z
LAST-MODIFIED:20260409T202727Z
UID:10001950-1777656600-1777660200@bishoplocal.com
SUMMARY:Friday Flow
DESCRIPTION:Friday evening yoga flow class offering a flowing vinyasa practice to close out the week. Held at Sierra Shanti Studio in Bishop.
URL:https://bishoplocal.com/event/friday-flow-4/
LOCATION:Sierra Shanti Studio\, 275B S Main St\, Bishop\, CA\, 93514\, United States
CATEGORIES:Wellness
ORGANIZER;CN="Sierra Shanti Studio":MAILTO:sierrashanti108@gmail.com
END:VEVENT
BEGIN:VEVENT
DTSTART;TZID=America/Los_Angeles:20260501T183000
DTEND;TZID=America/Los_Angeles:20260501T203000
DTSTAMP:20260419T111629
CREATED:20260409T203013Z
LAST-MODIFIED:20260409T203013Z
UID:10001783-1777660200-1777667400@bishoplocal.com
SUMMARY:Adult Combatives
DESCRIPTION:Adult combatives class allowing students to safely practice striking at controlled intensity with safety equipment\, building a complete self-defense system.
URL:https://bishoplocal.com/event/adult-combatives-4/
LOCATION:Cattle Dog Jiu Jitsu\, 364 Rose St\, Bishop\, CA\, 93514\, United States
CATEGORIES:sports-recreation
ATTACH;FMTTYPE=image/webp:https://bishoplocal.com/wp-content/uploads/2026/04/16643643750_9e92c5ccf0_o.webp
ORGANIZER;CN="Cattle Dog Jiu Jitsu":MAILTO:cattledogjiujitsu@gmail.com
END:VEVENT
BEGIN:VEVENT
DTSTART;TZID=America/Los_Angeles:20260501T183000
DTEND;TZID=America/Los_Angeles:20260501T203000
DTSTAMP:20260419T111629
CREATED:20260415T192553Z
LAST-MODIFIED:20260415T192553Z
UID:10002668-1777660200-1777667400@bishoplocal.com
SUMMARY:Root Down Open Mic Night
DESCRIPTION:Monthly open mic night at Root Down Community Hub. All ages and talents welcome. Light snacks and drinks provided.
URL:https://bishoplocal.com/event/root-down-open-mic-night/
LOCATION:Root Down Community Hub\, Bishop\, 93514\, USA
CATEGORIES:Music
END:VEVENT
BEGIN:VEVENT
DTSTART;TZID=America/Los_Angeles:20260501T183000
DTEND;TZID=America/Los_Angeles:20260501T210000
DTSTAMP:20260419T111629
CREATED:20260409T202541Z
LAST-MODIFIED:20260409T222837Z
UID:10002049-1777660200-1777669200@bishoplocal.com
SUMMARY:Yodeltone presents: The Faux Paws
DESCRIPTION:Live music performance by The Faux Paws at C5 Studios. Doors open at 6:30pm\, music starts at 7pm. Advance ticket purchase recommended as event is expected to fill up.
URL:https://bishoplocal.com/event/yodeltone-presents-the-faux-paws/
LOCATION:C5 Studios\, 210 S Warren St\, Bishop\, CA\, 93514\, United States
CATEGORIES:Music
ATTACH;FMTTYPE=image/jpeg:https://bishoplocal.com/wp-content/uploads/2026/04/FauxPaws2026pdfnoQR.jpg
END:VEVENT
BEGIN:VEVENT
DTSTART;TZID=America/Los_Angeles:20260502T000000
DTEND;TZID=America/Los_Angeles:20260502T000000
DTSTAMP:20260419T111629
CREATED:20260409T203205Z
LAST-MODIFIED:20260409T203205Z
UID:10001681-1777680000-1777680000@bishoplocal.com
SUMMARY:Wild West Marathon
DESCRIPTION:The oldest trail marathon in the United States\, hosted by the Lone Pine Chamber of Commerce. Scenic race through the Alabama Hills and foothills of Mt. Whitney with 50-mile\, 50K\, marathon\, and 10-mile distances. Clean air\, spectacular scenery\, and experienced local volunteers.
URL:https://bishoplocal.com/event/wild-west-marathon/
LOCATION:Lone Pine\, Lone Pine\, 93545\, USA
CATEGORIES:sports-recreation
ATTACH;FMTTYPE=image/png:https://bishoplocal.com/wp-content/uploads/2026/04/STU_0133-2k-1024x1024-1.png
ORGANIZER;CN="Lone Pine Chamber of Commerce":MAILTO:info@lonepinechamber.org
END:VEVENT
BEGIN:VEVENT
DTSTART;TZID=America/Los_Angeles:20260502T073000
DTEND;TZID=America/Los_Angeles:20260502T140000
DTSTAMP:20260419T111629
CREATED:20260409T202631Z
LAST-MODIFIED:20260409T202631Z
UID:10002001-1777707000-1777730400@bishoplocal.com
SUMMARY:3rd Annual Keeler Swap Meet and Raffle
DESCRIPTION:Community swap meet in Keeler featuring a wide variety of merchandise including vintage items. Raffle tickets available to support the Keeler Community and Fire Council’s fire suppression vehicle fund. Raffle tickets $1 each or 7 for $5.
URL:https://bishoplocal.com/event/3rd-annual-keeler-swap-meet-and-raffle/
LOCATION:Keeler Community Center\, Keeler\, 93530
CATEGORIES:Community
ATTACH;FMTTYPE=image/jpeg:https://bishoplocal.com/wp-content/uploads/2026/04/3rd-Annual-Swap-Meet-Flyer.Annie_.2pics_1.jpg
ORGANIZER;CN="Keeler Community and Fire Council":MAILTO:KCFC2024@hotmail.com
END:VEVENT
BEGIN:VEVENT
DTSTART;TZID=America/Los_Angeles:20260502T080000
DTEND;TZID=America/Los_Angeles:20260502T084500
DTSTAMP:20260419T111629
CREATED:20260409T202148Z
LAST-MODIFIED:20260409T202148Z
UID:10002272-1777708800-1777711500@bishoplocal.com
SUMMARY:Spin
DESCRIPTION:Energizing indoor cycling class combining music\, motivating coaching\, and interval-based cycling drills for a full-body cardiovascular workout.
URL:https://bishoplocal.com/event/spin-17/
LOCATION:Hummingbird Movement Collective\, 126 N Main St\, Bishop\, 93514\, USA
CATEGORIES:Wellness
END:VEVENT
BEGIN:VEVENT
DTSTART;TZID=America/Los_Angeles:20260502T080000
DTEND;TZID=America/Los_Angeles:20260502T085500
DTSTAMP:20260419T111629
CREATED:20260409T202148Z
LAST-MODIFIED:20260409T202148Z
UID:10002271-1777708800-1777712100@bishoplocal.com
SUMMARY:Weight Lifting
DESCRIPTION:Small-group weight lifting class with simple programming and progressive instruction. Great for beginners or those who prefer a small-group setting for personalized guidance.
URL:https://bishoplocal.com/event/weight-lifting-34/
LOCATION:Hummingbird Movement Collective\, 126 N Main St\, Bishop\, 93514\, USA
CATEGORIES:Wellness
END:VEVENT
BEGIN:VEVENT
DTSTART;TZID=America/Los_Angeles:20260502T080000
DTEND;TZID=America/Los_Angeles:20260502T093000
DTSTAMP:20260419T111629
CREATED:20260409T202851Z
LAST-MODIFIED:20260409T202851Z
UID:10001870-1777708800-1777714200@bishoplocal.com
SUMMARY:Iyengar Yoga
DESCRIPTION:Iyengar yoga class focusing on proper alignment\, precision\, and the use of props. Suitable for all ages and abilities\, taught by a certified Iyengar yoga instructor at Bishop Yoga & Pilates Center.
URL:https://bishoplocal.com/event/iyengar-yoga-7/
LOCATION:Bishop Yoga & Pilates Center\, 621 W. Line St. #203\, Bishop\, CA\, 93514\, United States
CATEGORIES:Wellness
END:VEVENT
END:VCALENDAR