BEGIN:VCALENDAR
VERSION:2.0
PRODID:-//BishopLocal.com - ECPv6.15.18//NONSGML v1.0//EN
CALSCALE:GREGORIAN
METHOD:PUBLISH
X-WR-CALNAME:BishopLocal.com
X-ORIGINAL-URL:https://bishoplocal.com
X-WR-CALDESC:Events for BishopLocal.com
REFRESH-INTERVAL;VALUE=DURATION:PT1H
X-Robots-Tag:noindex
X-PUBLISHED-TTL:PT1H
BEGIN:VTIMEZONE
TZID:America/Los_Angeles
BEGIN:DAYLIGHT
TZOFFSETFROM:-0800
TZOFFSETTO:-0700
TZNAME:PDT
DTSTART:20250309T100000
END:DAYLIGHT
BEGIN:STANDARD
TZOFFSETFROM:-0700
TZOFFSETTO:-0800
TZNAME:PST
DTSTART:20251102T090000
END:STANDARD
BEGIN:DAYLIGHT
TZOFFSETFROM:-0800
TZOFFSETTO:-0700
TZNAME:PDT
DTSTART:20260308T100000
END:DAYLIGHT
BEGIN:STANDARD
TZOFFSETFROM:-0700
TZOFFSETTO:-0800
TZNAME:PST
DTSTART:20261101T090000
END:STANDARD
BEGIN:DAYLIGHT
TZOFFSETFROM:-0800
TZOFFSETTO:-0700
TZNAME:PDT
DTSTART:20270314T100000
END:DAYLIGHT
BEGIN:STANDARD
TZOFFSETFROM:-0700
TZOFFSETTO:-0800
TZNAME:PST
DTSTART:20271107T090000
END:STANDARD
END:VTIMEZONE
BEGIN:VEVENT
DTSTART;TZID=America/Los_Angeles:20260516T083000
DTEND;TZID=America/Los_Angeles:20260516T130000
DTSTAMP:20260424T014100
CREATED:20260409T202614Z
LAST-MODIFIED:20260409T202614Z
UID:10002016-1778920200-1778936400@bishoplocal.com
SUMMARY:Pollinator Garden Inspiration Tour
DESCRIPTION:Self-guided tour of beautiful and creative pollinator-friendly gardens in the Bishop area. Pick up map and itinerary at ESLT’s office at 250 N. Fowler Street.
URL:https://bishoplocal.com/event/pollinator-garden-inspiration-tour/
LOCATION:Eastern Sierra Land Trust Office Backyard\, 250 N Fowler St\, Bishop\, 93514
CATEGORIES:outdoors-nature
ATTACH;FMTTYPE=image/jpeg:https://bishoplocal.com/wp-content/uploads/2026/04/Garden-Tour_.jpg
END:VEVENT
BEGIN:VEVENT
DTSTART;TZID=America/Los_Angeles:20260516T083000
DTEND;TZID=America/Los_Angeles:20260516T150000
DTSTAMP:20260424T014100
CREATED:20260415T192232Z
LAST-MODIFIED:20260415T192233Z
UID:10002513-1778920200-1778943600@bishoplocal.com
SUMMARY:Along the Rails\, Southern Inyo Railroad
DESCRIPTION:Guided field trip along historic railroad route starting at Eastern California Museum. Limited to 55 participants. $20 suggested donation.
URL:https://bishoplocal.com/event/along-the-rails-southern-inyo-railroad/
LOCATION:Eastern California Museum\, 155 N Grant St\, Independence\, 93526\, USA
CATEGORIES:arts-culture
END:VEVENT
BEGIN:VEVENT
DTSTART;TZID=America/Los_Angeles:20260516T090000
DTEND;TZID=America/Los_Angeles:20260516T095500
DTSTAMP:20260424T014100
CREATED:20260409T202006Z
LAST-MODIFIED:20260409T202006Z
UID:10002366-1778922000-1778925300@bishoplocal.com
SUMMARY:Dynamic Flow Pilates
DESCRIPTION:Intermediate to advanced reformer Pilates class using the reformer\, Cadillac tower\, and stability chair. Best suited for Pilates-experienced clients or fit beginners.
URL:https://bishoplocal.com/event/dynamic-flow-pilates-25/
LOCATION:Hummingbird Movement Collective\, 126 N Main St\, Bishop\, 93514\, USA
CATEGORIES:Wellness
END:VEVENT
BEGIN:VEVENT
DTSTART;TZID=America/Los_Angeles:20260516T090000
DTEND;TZID=America/Los_Angeles:20260516T101500
DTSTAMP:20260424T014100
CREATED:20260409T202800Z
LAST-MODIFIED:20260409T202800Z
UID:10001915-1778922000-1778926500@bishoplocal.com
SUMMARY:Foundational Flow
DESCRIPTION:Saturday morning foundational yoga flow class focusing on alignment\, breath\, and core movement patterns. Held at Sierra Shanti Studio in Bishop.
URL:https://bishoplocal.com/event/foundational-flow-7/
LOCATION:Sierra Shanti Studio\, 275B S Main St\, Bishop\, CA\, 93514\, United States
CATEGORIES:Wellness
ORGANIZER;CN="Sierra Shanti Studio":MAILTO:sierrashanti108@gmail.com
END:VEVENT
BEGIN:VEVENT
DTSTART;TZID=America/Los_Angeles:20260516T090000
DTEND;TZID=America/Los_Angeles:20260516T160000
DTSTAMP:20260424T014100
CREATED:20260422T154453Z
LAST-MODIFIED:20260422T160743Z
UID:10002692-1778922000-1778947200@bishoplocal.com
SUMMARY:The Art & Science of Gourmet Candy Making @ First United Methodist Church
DESCRIPTION:A 6-hour hands-on candy making class in the kitchen with Lynn Hawks. Learn to select the best products\, temper real couverture chocolate\, create perfect ganache\, work with sugar for caramels and toffees\, and understand shelf life and gift packaging. Take home 1 lb of delicious class-made confections. Held in the United Methodist Church kitchen and hall at 205 N Fowler St.\, Bishop.
URL:https://bishoplocal.com/event/the-art-science-of-gourmet-candy-making-first-united-methodist-church/
LOCATION:First United Methodist Church\, 205 N Fowler St\, Bishop\, CA\, 93514\, United States
CATEGORIES:Arts & Culture
ATTACH;FMTTYPE=image/png:https://bishoplocal.com/wp-content/uploads/2026/04/IMG_1154-e1776874046762.png
END:VEVENT
BEGIN:VEVENT
DTSTART;TZID=America/Los_Angeles:20260516T100000
DTEND;TZID=America/Los_Angeles:20260516T105500
DTSTAMP:20260424T014100
CREATED:20260409T202006Z
LAST-MODIFIED:20260409T202006Z
UID:10002367-1778925600-1778928900@bishoplocal.com
SUMMARY:Gentle Flow Pilates
DESCRIPTION:All-levels reformer Pilates class using the reformer\, tower\, and stability chair. Suitable for all experience levels with options offered for beginners through advanced practitioners.
URL:https://bishoplocal.com/event/gentle-flow-pilates-33/
LOCATION:Hummingbird Movement Collective\, 126 N Main St\, Bishop\, 93514\, USA
CATEGORIES:Wellness
END:VEVENT
BEGIN:VEVENT
DTSTART;TZID=America/Los_Angeles:20260516T100000
DTEND;TZID=America/Los_Angeles:20260516T113000
DTSTAMP:20260424T014100
CREATED:20260409T202533Z
LAST-MODIFIED:20260409T202533Z
UID:10002055-1778925600-1778931000@bishoplocal.com
SUMMARY:Dance for the People with Ally
DESCRIPTION:Expressive movement class blending ballet and modern dance techniques. Open to beginners and experienced dancers ages 13+. Wear comfortable clothes; no special shoes needed.
URL:https://bishoplocal.com/event/dance-for-the-people-with-ally/
LOCATION:C5 Studios\, 210 S Warren St\, Bishop\, CA\, 93514\, United States
CATEGORIES:arts-culture
ATTACH;FMTTYPE=image/jpeg:https://bishoplocal.com/wp-content/uploads/2026/04/dftp-poster-no-date-1.jpg
END:VEVENT
BEGIN:VEVENT
DTSTART;TZID=America/Los_Angeles:20260516T100000
DTEND;TZID=America/Los_Angeles:20260516T120000
DTSTAMP:20260424T014100
CREATED:20260409T203205Z
LAST-MODIFIED:20260409T203205Z
UID:10001679-1778925600-1778932800@bishoplocal.com
SUMMARY:Investing in Artists: Free Professional Development Monthly Series
DESCRIPTION:Free monthly professional development series for local artists\, sponsored by the Inyo Council for the Arts (ICA). Topics range from designing an artist website to reviewing contracts. No sign-up necessary. Beverages and snacks provided.
URL:https://bishoplocal.com/event/investing-in-artists-free-professional-development-monthly-series/
LOCATION:Inyo Council for the Arts\, 137 S Main St\, Bishop\, CA\, 93514\, United States
CATEGORIES:arts-culture
ATTACH;FMTTYPE=image/png:https://bishoplocal.com/wp-content/uploads/2026/04/Investing-in-Artists-2026.png
END:VEVENT
BEGIN:VEVENT
DTSTART;TZID=America/Los_Angeles:20260516T100000
DTEND;TZID=America/Los_Angeles:20260516T160000
DTSTAMP:20260424T014100
CREATED:20260409T202443Z
LAST-MODIFIED:20260409T202443Z
UID:10002106-1778925600-1778947200@bishoplocal.com
SUMMARY:Slim Princess Train Ride
DESCRIPTION:Ride the restored 1909 narrow-gauge Slim Princess steam locomotive at Laws Railroad Museum.
URL:https://bishoplocal.com/event/slim-princess-train-ride/
LOCATION:Laws Railroad Museum\, 200 Silver Canyon Rd\, Bishop\, CA\, 93514\, United States
CATEGORIES:arts-culture
ORGANIZER;CN="Laws Railroad Museum":MAILTO:lawsrailroadmuseum@gmail.com
END:VEVENT
BEGIN:VEVENT
DTSTART;TZID=America/Los_Angeles:20260516T110000
DTEND;TZID=America/Los_Angeles:20260516T115500
DTSTAMP:20260424T014100
CREATED:20260409T202006Z
LAST-MODIFIED:20260409T202006Z
UID:10002368-1778929200-1778932500@bishoplocal.com
SUMMARY:Weight Lifting
DESCRIPTION:Small-group weight lifting class with simple programming and progressive instruction. Great for beginners or those who prefer a small-group setting for personalized guidance.
URL:https://bishoplocal.com/event/weight-lifting-17/
LOCATION:Hummingbird Movement Collective\, 126 N Main St\, Bishop\, 93514\, USA
CATEGORIES:Wellness
END:VEVENT
BEGIN:VEVENT
DTSTART;TZID=America/Los_Angeles:20260516T120000
DTEND;TZID=America/Los_Angeles:20260516T160000
DTSTAMP:20260424T014100
CREATED:20260422T154454Z
LAST-MODIFIED:20260422T160803Z
UID:10002693-1778932800-1778947200@bishoplocal.com
SUMMARY:ICOE Adult Education Scholarship Fundraiser @ Millpond Recreation Area
DESCRIPTION:ICOE Adult Education invites you to a scholarship fundraiser featuring food trucks\, games\, music\, and a cash raffle. Active students and past graduates receive 2 free tickets. Focused on careers\, community\, and connection.
URL:https://bishoplocal.com/event/icoe-adult-education-scholarship-fundraiser-millpond-recreation-area/
LOCATION:Millpond Recreation Area\, 230 Sawmill Rd\, Bishop\, CA\, 93514\, United States
CATEGORIES:Community
ATTACH;FMTTYPE=image/png:https://bishoplocal.com/wp-content/uploads/2026/04/IMG_1139-e1776874077761.png
END:VEVENT
BEGIN:VEVENT
DTSTART;TZID=America/Los_Angeles:20260516T170000
DTEND;TZID=America/Los_Angeles:20260516T210000
DTSTAMP:20260424T014100
CREATED:20260409T202459Z
LAST-MODIFIED:20260409T202459Z
UID:10002093-1778950800-1778965200@bishoplocal.com
SUMMARY:Cloudripper Pop-Up Dinner
DESCRIPTION:Weekly pop-up dinner at Owens Valley Distilling Company. Rotating menu featuring East and Southeast Asian food\, falafel bowls\, and seasonal dishes made with local ingredients. Check @cloudripperbishop on Instagram for this week’s menu.
URL:https://bishoplocal.com/event/cloudripper-pop-up-dinner-5/
LOCATION:Owens Valley Distilling Company\, 237 E South Street\, Bishop\, 442-228-5041\, 93514
CATEGORIES:food-drink
END:VEVENT
BEGIN:VEVENT
DTSTART;TZID=America/Los_Angeles:20260516T180000
DTEND;TZID=America/Los_Angeles:20260516T210000
DTSTAMP:20260424T014100
CREATED:20260415T192141Z
LAST-MODIFIED:20260415T192141Z
UID:10002468-1778954400-1778965200@bishoplocal.com
SUMMARY:Easy Wind
DESCRIPTION:Celebrating the music of the Grateful Dead. Easy Wind delivers classic 70s-era Dead with authentic style. Live at Mill Creek Station in Bishop.
URL:https://bishoplocal.com/event/easy-wind/
LOCATION:Mill Creek Station\, 150 Millcreek Rd\, Bishop\, 93514\, USA
CATEGORIES:Music
ATTACH;FMTTYPE=image/png:https://bishoplocal.com/wp-content/uploads/2026/04/051626_3.png
END:VEVENT
BEGIN:VEVENT
DTSTART;TZID=America/Los_Angeles:20260517T080000
DTEND;TZID=America/Los_Angeles:20260517T090000
DTSTAMP:20260424T014100
CREATED:20260409T202907Z
LAST-MODIFIED:20260409T202907Z
UID:10001849-1779004800-1779008400@bishoplocal.com
SUMMARY:Mat/Springwall Pilates
DESCRIPTION:Mat and springwall Pilates class focusing on core strength\, body alignment\, mobility\, and breathing. Taught in the Stott Pilates method at Bishop Yoga & Pilates Center.
URL:https://bishoplocal.com/event/mat-springwall-pilates-14/
LOCATION:Bishop Yoga & Pilates Center\, 621 W. Line St. #203\, Bishop\, CA\, 93514\, United States
CATEGORIES:Wellness
END:VEVENT
BEGIN:VEVENT
DTSTART;TZID=America/Los_Angeles:20260517T080000
DTEND;TZID=America/Los_Angeles:20260517T120000
DTSTAMP:20260424T014100
CREATED:20260409T202507Z
LAST-MODIFIED:20260409T202507Z
UID:10002080-1779004800-1779019200@bishoplocal.com
SUMMARY:Coffee Church
DESCRIPTION:Weekly pop-up cafe at Indy Coffee Roasting Company. Organic European-style pour-overs\, Mexican and Scandinavian coffee drinks\, and artisan pastries. Enter at Lagoon Street behind Luxe Salon.
URL:https://bishoplocal.com/event/coffee-church-3/
LOCATION:Indy Coffee Roasting Company\, 307 S Main St\, Bishop\, CA\, 93514\, United States
CATEGORIES:food-drink
END:VEVENT
BEGIN:VEVENT
DTSTART;TZID=America/Los_Angeles:20260517T090000
DTEND;TZID=America/Los_Angeles:20260517T100000
DTSTAMP:20260424T014100
CREATED:20260409T202800Z
LAST-MODIFIED:20260409T202800Z
UID:10001916-1779008400-1779012000@bishoplocal.com
SUMMARY:Community Class - Donation Based
DESCRIPTION:Donation-based community yoga class open to all levels and abilities. Held at Sierra Shanti Studio in Bishop.
URL:https://bishoplocal.com/event/community-class-donation-based-7/
LOCATION:Sierra Shanti Studio\, 275B S Main St\, Bishop\, CA\, 93514\, United States
CATEGORIES:Wellness
ORGANIZER;CN="Sierra Shanti Studio":MAILTO:sierrashanti108@gmail.com
END:VEVENT
BEGIN:VEVENT
DTSTART;TZID=America/Los_Angeles:20260517T093000
DTEND;TZID=America/Los_Angeles:20260517T102500
DTSTAMP:20260424T014100
CREATED:20260409T202006Z
LAST-MODIFIED:20260409T202006Z
UID:10002369-1779010200-1779013500@bishoplocal.com
SUMMARY:Dynamic Flow Pilates
DESCRIPTION:Intermediate to advanced reformer Pilates class using the reformer\, Cadillac tower\, and stability chair. Best suited for Pilates-experienced clients or fit beginners.
URL:https://bishoplocal.com/event/dynamic-flow-pilates-24/
LOCATION:Hummingbird Movement Collective\, 126 N Main St\, Bishop\, 93514\, USA
CATEGORIES:Wellness
END:VEVENT
BEGIN:VEVENT
DTSTART;TZID=America/Los_Angeles:20260517T103000
DTEND;TZID=America/Los_Angeles:20260517T112500
DTSTAMP:20260424T014100
CREATED:20260409T202006Z
LAST-MODIFIED:20260409T202006Z
UID:10002370-1779013800-1779017100@bishoplocal.com
SUMMARY:GYROKINESIS
DESCRIPTION:Full-body movement workout accessible to athletes\, seniors\, and those recovering from injury. Focuses on fluid\, rhythmic sequences to improve mobility and coordination.
URL:https://bishoplocal.com/event/gyrokinesis-3/
LOCATION:Hummingbird Movement Collective\, 126 N Main St\, Bishop\, 93514\, USA
CATEGORIES:Wellness
END:VEVENT
BEGIN:VEVENT
DTSTART;TZID=America/Los_Angeles:20260517T110000
DTEND;TZID=America/Los_Angeles:20260517T120000
DTSTAMP:20260424T014100
CREATED:20260415T192233Z
LAST-MODIFIED:20260415T192233Z
UID:10002514-1779015600-1779019200@bishoplocal.com
SUMMARY:Plant Walk & Talk
DESCRIPTION:Walk and talk about local plants with the Bishop Paiute Tribe Food Sovereignty Program. Snacks provided.
URL:https://bishoplocal.com/event/plant-walk-talk/
LOCATION:Owens Valley Paiute-Shoshone Cultural Center\, 2300 W Line St\, Bishop\, CA\, 93514\, United States
CATEGORIES:outdoors-nature
END:VEVENT
BEGIN:VEVENT
DTSTART;TZID=America/Los_Angeles:20260517T113000
DTEND;TZID=America/Los_Angeles:20260517T122500
DTSTAMP:20260424T014100
CREATED:20260409T201958Z
LAST-MODIFIED:20260409T201958Z
UID:10002371-1779017400-1779020700@bishoplocal.com
SUMMARY:Dynamic Flow Pilates
DESCRIPTION:Intermediate to advanced reformer Pilates class using the reformer\, Cadillac tower\, and stability chair. Best suited for Pilates-experienced clients or fit beginners.
URL:https://bishoplocal.com/event/dynamic-flow-pilates-23/
LOCATION:Hummingbird Movement Collective\, 126 N Main St\, Bishop\, 93514\, USA
CATEGORIES:Wellness
END:VEVENT
BEGIN:VEVENT
DTSTART;TZID=America/Los_Angeles:20260517T130000
DTEND;TZID=America/Los_Angeles:20260517T135500
DTSTAMP:20260424T014100
CREATED:20260409T201957Z
LAST-MODIFIED:20260409T201957Z
UID:10002372-1779022800-1779026100@bishoplocal.com
SUMMARY:Cardio Tramp Pilates
DESCRIPTION:High-energy Pilates class using the cardio tramp reformer for plyometric movement on a soft landing surface. Designed for those looking to sweat and build cardiovascular endurance.
URL:https://bishoplocal.com/event/cardio-tramp-pilates-3/
LOCATION:Hummingbird Movement Collective\, 126 N Main St\, Bishop\, 93514\, USA
CATEGORIES:Wellness
END:VEVENT
BEGIN:VEVENT
DTSTART;TZID=America/Los_Angeles:20260517T150000
DTEND;TZID=America/Los_Angeles:20260517T170000
DTSTAMP:20260424T014100
CREATED:20260409T203059Z
LAST-MODIFIED:20260409T203059Z
UID:10001744-1779030000-1779037200@bishoplocal.com
SUMMARY:Womens Only Jiu Jitsu
DESCRIPTION:Women-only jiu jitsu class focused on fundamentals and self-defense in a supportive environment.
URL:https://bishoplocal.com/event/womens-only-jiu-jitsu-7/
LOCATION:Cattle Dog Jiu Jitsu\, 364 Rose St\, Bishop\, CA\, 93514\, United States
CATEGORIES:sports-recreation
ATTACH;FMTTYPE=image/webp:https://bishoplocal.com/wp-content/uploads/2026/04/16643643750_9e92c5ccf0_o.webp
ORGANIZER;CN="Cattle Dog Jiu Jitsu":MAILTO:cattledogjiujitsu@gmail.com
END:VEVENT
BEGIN:VEVENT
DTSTART;TZID=America/Los_Angeles:20260517T170000
DTEND;TZID=America/Los_Angeles:20260517T181500
DTSTAMP:20260424T014100
CREATED:20260415T192535Z
LAST-MODIFIED:20260415T192535Z
UID:10002657-1779037200-1779041700@bishoplocal.com
SUMMARY:Ashtanga Vinyasa
DESCRIPTION:Ashtanga vinyasa yoga class at Bishop Strength with Jen Fitzwater.
URL:https://bishoplocal.com/event/ashtanga-vinyasa-5/
LOCATION:Bishop Strength\, 162 Willow St\, Bishop\, 93514\, USA
CATEGORIES:Wellness
END:VEVENT
BEGIN:VEVENT
DTSTART;TZID=America/Los_Angeles:20260517T170000
DTEND;TZID=America/Los_Angeles:20260517T183000
DTSTAMP:20260424T014100
CREATED:20260409T203058Z
LAST-MODIFIED:20260409T203058Z
UID:10001745-1779037200-1779042600@bishoplocal.com
SUMMARY:All Ages Open Mat
DESCRIPTION:Open mat sparring session for all ages. An opportunity to practice skills learned in class through live rolling.
URL:https://bishoplocal.com/event/all-ages-open-mat-7/
LOCATION:Cattle Dog Jiu Jitsu\, 364 Rose St\, Bishop\, CA\, 93514\, United States
CATEGORIES:sports-recreation
ATTACH;FMTTYPE=image/webp:https://bishoplocal.com/wp-content/uploads/2026/04/16643643750_9e92c5ccf0_o.webp
ORGANIZER;CN="Cattle Dog Jiu Jitsu":MAILTO:cattledogjiujitsu@gmail.com
END:VEVENT
BEGIN:VEVENT
DTSTART;TZID=America/Los_Angeles:20260517T173000
DTEND;TZID=America/Los_Angeles:20260517T183000
DTSTAMP:20260424T014100
CREATED:20260409T202800Z
LAST-MODIFIED:20260409T202800Z
UID:10001917-1779039000-1779042600@bishoplocal.com
SUMMARY:Restorative Yoga for Athletes: Sunday Flow
DESCRIPTION:Restorative yoga class designed for athletes\, focusing on recovery\, flexibility\, and deep relaxation. Held at Sierra Shanti Studio in Bishop.
URL:https://bishoplocal.com/event/restorative-yoga-for-athletes-sunday-flow-7/
LOCATION:Sierra Shanti Studio\, 275B S Main St\, Bishop\, CA\, 93514\, United States
CATEGORIES:Wellness
ORGANIZER;CN="Sierra Shanti Studio":MAILTO:sierrashanti108@gmail.com
END:VEVENT
BEGIN:VEVENT
DTSTART;TZID=America/Los_Angeles:20260518T053000
DTEND;TZID=America/Los_Angeles:20260518T063000
DTSTAMP:20260424T014100
CREATED:20260415T192334Z
LAST-MODIFIED:20260415T192334Z
UID:10002560-1779082200-1779085800@bishoplocal.com
SUMMARY:Weightlifting (BTB)
DESCRIPTION:Barbell weightlifting class at Bishop Strength with Jared Waasdorp.
URL:https://bishoplocal.com/event/weightlifting-btb-5/
LOCATION:Bishop Strength\, 162 Willow St\, Bishop\, 93514\, USA
CATEGORIES:Wellness
END:VEVENT
BEGIN:VEVENT
DTSTART;TZID=America/Los_Angeles:20260518T081500
DTEND;TZID=America/Los_Angeles:20260518T091000
DTSTAMP:20260424T014100
CREATED:20260409T201957Z
LAST-MODIFIED:20260409T201957Z
UID:10002373-1779092100-1779095400@bishoplocal.com
SUMMARY:Gentle Flow Pilates
DESCRIPTION:All-levels reformer Pilates class using the reformer\, tower\, and stability chair. Suitable for all experience levels with options offered for beginners through advanced practitioners.
URL:https://bishoplocal.com/event/gentle-flow-pilates-32/
LOCATION:Hummingbird Movement Collective\, 126 N Main St\, Bishop\, 93514\, USA
CATEGORIES:Wellness
END:VEVENT
BEGIN:VEVENT
DTSTART;TZID=America/Los_Angeles:20260518T091500
DTEND;TZID=America/Los_Angeles:20260518T101000
DTSTAMP:20260424T014100
CREATED:20260409T201957Z
LAST-MODIFIED:20260409T201957Z
UID:10002374-1779095700-1779099000@bishoplocal.com
SUMMARY:Gentle Flow Pilates
DESCRIPTION:All-levels reformer Pilates class using the reformer\, tower\, and stability chair. Suitable for all experience levels with options offered for beginners through advanced practitioners.
URL:https://bishoplocal.com/event/gentle-flow-pilates-31/
LOCATION:Hummingbird Movement Collective\, 126 N Main St\, Bishop\, 93514\, USA
CATEGORIES:Wellness
END:VEVENT
BEGIN:VEVENT
DTSTART;TZID=America/Los_Angeles:20260518T101500
DTEND;TZID=America/Los_Angeles:20260518T111000
DTSTAMP:20260424T014100
CREATED:20260409T201957Z
LAST-MODIFIED:20260409T201957Z
UID:10002375-1779099300-1779102600@bishoplocal.com
SUMMARY:Gentle Flow Pilates
DESCRIPTION:All-levels reformer Pilates class using the reformer\, tower\, and stability chair. Suitable for all experience levels with options offered for beginners through advanced practitioners.
URL:https://bishoplocal.com/event/gentle-flow-pilates-30/
LOCATION:Hummingbird Movement Collective\, 126 N Main St\, Bishop\, 93514\, USA
CATEGORIES:Wellness
END:VEVENT
BEGIN:VEVENT
DTSTART;TZID=America/Los_Angeles:20260518T113000
DTEND;TZID=America/Los_Angeles:20260518T130000
DTSTAMP:20260424T014100
CREATED:20260409T202800Z
LAST-MODIFIED:20260409T202800Z
UID:10001918-1779103800-1779109200@bishoplocal.com
SUMMARY:Tai Chi
DESCRIPTION:Tai chi class focused on mindful movement\, balance\, and wellness practice. Held at Sierra Shanti Studio in Bishop.
URL:https://bishoplocal.com/event/tai-chi-7/
LOCATION:Sierra Shanti Studio\, 275B S Main St\, Bishop\, CA\, 93514\, United States
CATEGORIES:Wellness
ORGANIZER;CN="Sierra Shanti Studio":MAILTO:sierrashanti108@gmail.com
END:VEVENT
END:VCALENDAR