BEGIN:VCALENDAR
VERSION:2.0
PRODID:-//BishopLocal.com - ECPv6.15.18//NONSGML v1.0//EN
CALSCALE:GREGORIAN
METHOD:PUBLISH
X-ORIGINAL-URL:https://bishoplocal.com
X-WR-CALDESC:Events for BishopLocal.com
REFRESH-INTERVAL;VALUE=DURATION:PT1H
X-Robots-Tag:noindex
X-PUBLISHED-TTL:PT1H
BEGIN:VTIMEZONE
TZID:America/Los_Angeles
BEGIN:DAYLIGHT
TZOFFSETFROM:-0800
TZOFFSETTO:-0700
TZNAME:PDT
DTSTART:20250309T100000
END:DAYLIGHT
BEGIN:STANDARD
TZOFFSETFROM:-0700
TZOFFSETTO:-0800
TZNAME:PST
DTSTART:20251102T090000
END:STANDARD
BEGIN:DAYLIGHT
TZOFFSETFROM:-0800
TZOFFSETTO:-0700
TZNAME:PDT
DTSTART:20260308T100000
END:DAYLIGHT
BEGIN:STANDARD
TZOFFSETFROM:-0700
TZOFFSETTO:-0800
TZNAME:PST
DTSTART:20261101T090000
END:STANDARD
BEGIN:DAYLIGHT
TZOFFSETFROM:-0800
TZOFFSETTO:-0700
TZNAME:PDT
DTSTART:20270314T100000
END:DAYLIGHT
BEGIN:STANDARD
TZOFFSETFROM:-0700
TZOFFSETTO:-0800
TZNAME:PST
DTSTART:20271107T090000
END:STANDARD
END:VTIMEZONE
BEGIN:VEVENT
DTSTART;TZID=America/Los_Angeles:20260511T120000
DTEND;TZID=America/Los_Angeles:20260511T140000
DTSTAMP:20260424T085040
CREATED:20260409T203040Z
LAST-MODIFIED:20260409T203040Z
UID:10001760-1778500800-1778508000@bishoplocal.com
SUMMARY:Adult All Levels Jiu Jitsu
DESCRIPTION:Adult jiu jitsu class open to all levels\, ages 18 and older. Covers fundamentals and self-defense philosophy with situational and live sparring.
URL:https://bishoplocal.com/event/adult-all-levels-jiu-jitsu-17/
LOCATION:Cattle Dog Jiu Jitsu\, 364 Rose St\, Bishop\, CA\, 93514\, United States
CATEGORIES:sports-recreation
ATTACH;FMTTYPE=image/webp:https://bishoplocal.com/wp-content/uploads/2026/04/16643643750_9e92c5ccf0_o.webp
ORGANIZER;CN="Cattle Dog Jiu Jitsu":MAILTO:cattledogjiujitsu@gmail.com
END:VEVENT
BEGIN:VEVENT
DTSTART;TZID=America/Los_Angeles:20260511T160000
DTEND;TZID=America/Los_Angeles:20260511T170000
DTSTAMP:20260424T085040
CREATED:20260409T203040Z
LAST-MODIFIED:20260409T203040Z
UID:10001761-1778515200-1778518800@bishoplocal.com
SUMMARY:Pups (3-7) Jiu Jitsu
DESCRIPTION:Jiu jitsu class for kids ages 3-7. Focuses on body awareness\, discipline\, and fun games that build motor skills and muscle memory for martial arts progression.
URL:https://bishoplocal.com/event/pups-3-7-jiu-jitsu-16/
LOCATION:Cattle Dog Jiu Jitsu\, 364 Rose St\, Bishop\, CA\, 93514\, United States
CATEGORIES:sports-recreation
ATTACH;FMTTYPE=image/webp:https://bishoplocal.com/wp-content/uploads/2026/04/16643643750_9e92c5ccf0_o.webp
ORGANIZER;CN="Cattle Dog Jiu Jitsu":MAILTO:cattledogjiujitsu@gmail.com
END:VEVENT
BEGIN:VEVENT
DTSTART;TZID=America/Los_Angeles:20260511T170000
DTEND;TZID=America/Los_Angeles:20260511T183000
DTSTAMP:20260424T085040
CREATED:20260409T203040Z
LAST-MODIFIED:20260409T203040Z
UID:10001762-1778518800-1778524200@bishoplocal.com
SUMMARY:Heelers (8 up) Jiu Jitsu
DESCRIPTION:Jiu jitsu class for kids ages 8 and up. Builds on fundamentals with more detailed instruction\, situational rolling\, and self-defense preparation.
URL:https://bishoplocal.com/event/heelers-8-up-jiu-jitsu-15/
LOCATION:Cattle Dog Jiu Jitsu\, 364 Rose St\, Bishop\, CA\, 93514\, United States
CATEGORIES:sports-recreation
ATTACH;FMTTYPE=image/webp:https://bishoplocal.com/wp-content/uploads/2026/04/16643643750_9e92c5ccf0_o.webp
ORGANIZER;CN="Cattle Dog Jiu Jitsu":MAILTO:cattledogjiujitsu@gmail.com
END:VEVENT
BEGIN:VEVENT
DTSTART;TZID=America/Los_Angeles:20260511T183000
DTEND;TZID=America/Los_Angeles:20260511T203000
DTSTAMP:20260424T085040
CREATED:20260409T203040Z
LAST-MODIFIED:20260409T203040Z
UID:10001763-1778524200-1778531400@bishoplocal.com
SUMMARY:Adult All Levels Jiu Jitsu
DESCRIPTION:Adult jiu jitsu class open to all levels\, ages 18 and older. Covers fundamentals and self-defense philosophy with situational and live sparring.
URL:https://bishoplocal.com/event/adult-all-levels-jiu-jitsu-16/
LOCATION:Cattle Dog Jiu Jitsu\, 364 Rose St\, Bishop\, CA\, 93514\, United States
CATEGORIES:sports-recreation
ATTACH;FMTTYPE=image/webp:https://bishoplocal.com/wp-content/uploads/2026/04/16643643750_9e92c5ccf0_o.webp
ORGANIZER;CN="Cattle Dog Jiu Jitsu":MAILTO:cattledogjiujitsu@gmail.com
END:VEVENT
BEGIN:VEVENT
DTSTART;TZID=America/Los_Angeles:20260512T160000
DTEND;TZID=America/Los_Angeles:20260512T170000
DTSTAMP:20260424T085040
CREATED:20260409T203058Z
LAST-MODIFIED:20260409T203058Z
UID:10001748-1778601600-1778605200@bishoplocal.com
SUMMARY:Pups (3-7) Jiu Jitsu
DESCRIPTION:Jiu jitsu class for kids ages 3-7. Focuses on body awareness\, discipline\, and fun games that build motor skills and muscle memory for martial arts progression.
URL:https://bishoplocal.com/event/pups-3-7-jiu-jitsu-18/
LOCATION:Cattle Dog Jiu Jitsu\, 364 Rose St\, Bishop\, CA\, 93514\, United States
CATEGORIES:sports-recreation
ATTACH;FMTTYPE=image/webp:https://bishoplocal.com/wp-content/uploads/2026/04/16643643750_9e92c5ccf0_o.webp
ORGANIZER;CN="Cattle Dog Jiu Jitsu":MAILTO:cattledogjiujitsu@gmail.com
END:VEVENT
BEGIN:VEVENT
DTSTART;TZID=America/Los_Angeles:20260512T170000
DTEND;TZID=America/Los_Angeles:20260512T183000
DTSTAMP:20260424T085040
CREATED:20260409T203058Z
LAST-MODIFIED:20260409T203058Z
UID:10001749-1778605200-1778610600@bishoplocal.com
SUMMARY:Heelers (8 up) Jiu Jitsu
DESCRIPTION:Jiu jitsu class for kids ages 8 and up. Builds on fundamentals with more detailed instruction\, situational rolling\, and self-defense preparation.
URL:https://bishoplocal.com/event/heelers-8-up-jiu-jitsu-17/
LOCATION:Cattle Dog Jiu Jitsu\, 364 Rose St\, Bishop\, CA\, 93514\, United States
CATEGORIES:sports-recreation
ATTACH;FMTTYPE=image/webp:https://bishoplocal.com/wp-content/uploads/2026/04/16643643750_9e92c5ccf0_o.webp
ORGANIZER;CN="Cattle Dog Jiu Jitsu":MAILTO:cattledogjiujitsu@gmail.com
END:VEVENT
BEGIN:VEVENT
DTSTART;TZID=America/Los_Angeles:20260512T170000
DTEND;TZID=America/Los_Angeles:20260512T190000
DTSTAMP:20260424T085040
CREATED:20260415T192253Z
LAST-MODIFIED:20260415T192253Z
UID:10002525-1778605200-1778612400@bishoplocal.com
SUMMARY:Buttermilks Bouldering
DESCRIPTION:Bouldering session at Birthday Boulder in the Buttermilk Boulders. All skill levels welcome.
URL:https://bishoplocal.com/event/buttermilks-bouldering-4/
LOCATION:Buttermilk Boulders\, Buttermilk Rd\, Bishop\, 93514\, USA
CATEGORIES:sports-recreation
END:VEVENT
BEGIN:VEVENT
DTSTART;TZID=America/Los_Angeles:20260512T183000
DTEND;TZID=America/Los_Angeles:20260512T203000
DTSTAMP:20260424T085040
CREATED:20260409T203058Z
LAST-MODIFIED:20260409T203058Z
UID:10001750-1778610600-1778617800@bishoplocal.com
SUMMARY:Adult All Levels Jiu Jitsu
DESCRIPTION:Adult jiu jitsu class open to all levels\, ages 18 and older. Covers fundamentals and self-defense philosophy with situational and live sparring.
URL:https://bishoplocal.com/event/adult-all-levels-jiu-jitsu-18/
LOCATION:Cattle Dog Jiu Jitsu\, 364 Rose St\, Bishop\, CA\, 93514\, United States
CATEGORIES:sports-recreation
ATTACH;FMTTYPE=image/webp:https://bishoplocal.com/wp-content/uploads/2026/04/16643643750_9e92c5ccf0_o.webp
ORGANIZER;CN="Cattle Dog Jiu Jitsu":MAILTO:cattledogjiujitsu@gmail.com
END:VEVENT
BEGIN:VEVENT
DTSTART;TZID=America/Los_Angeles:20260513T120000
DTEND;TZID=America/Los_Angeles:20260513T140000
DTSTAMP:20260424T085040
CREATED:20260409T203049Z
LAST-MODIFIED:20260409T203049Z
UID:10001751-1778673600-1778680800@bishoplocal.com
SUMMARY:Adult Jiu Jitsu
DESCRIPTION:Adult jiu jitsu class open to all levels. Covers fundamentals and self-defense philosophy with situational and live sparring.
URL:https://bishoplocal.com/event/adult-jiu-jitsu-6/
LOCATION:Cattle Dog Jiu Jitsu\, 364 Rose St\, Bishop\, CA\, 93514\, United States
CATEGORIES:sports-recreation
ATTACH;FMTTYPE=image/webp:https://bishoplocal.com/wp-content/uploads/2026/04/16643643750_9e92c5ccf0_o.webp
ORGANIZER;CN="Cattle Dog Jiu Jitsu":MAILTO:cattledogjiujitsu@gmail.com
END:VEVENT
BEGIN:VEVENT
DTSTART;TZID=America/Los_Angeles:20260513T160000
DTEND;TZID=America/Los_Angeles:20260513T170000
DTSTAMP:20260424T085040
CREATED:20260409T203049Z
LAST-MODIFIED:20260409T203049Z
UID:10001752-1778688000-1778691600@bishoplocal.com
SUMMARY:Pups (3-7) Judo
DESCRIPTION:Judo class for kids ages 3-7. Introduction to judo fundamentals through body awareness\, discipline\, and movement games.
URL:https://bishoplocal.com/event/pups-3-7-judo-6/
LOCATION:Cattle Dog Jiu Jitsu\, 364 Rose St\, Bishop\, CA\, 93514\, United States
CATEGORIES:sports-recreation
ATTACH;FMTTYPE=image/webp:https://bishoplocal.com/wp-content/uploads/2026/04/16643643750_9e92c5ccf0_o.webp
ORGANIZER;CN="Cattle Dog Jiu Jitsu":MAILTO:cattledogjiujitsu@gmail.com
END:VEVENT
BEGIN:VEVENT
DTSTART;TZID=America/Los_Angeles:20260513T170000
DTEND;TZID=America/Los_Angeles:20260513T183000
DTSTAMP:20260424T085040
CREATED:20260409T203049Z
LAST-MODIFIED:20260409T203049Z
UID:10001753-1778691600-1778697000@bishoplocal.com
SUMMARY:Heelers (8 up) Judo
DESCRIPTION:Judo class for kids ages 8 and up. Builds judo technique with more detailed instruction and situational practice.
URL:https://bishoplocal.com/event/heelers-8-up-judo-6/
LOCATION:Cattle Dog Jiu Jitsu\, 364 Rose St\, Bishop\, CA\, 93514\, United States
CATEGORIES:sports-recreation
ATTACH;FMTTYPE=image/webp:https://bishoplocal.com/wp-content/uploads/2026/04/16643643750_9e92c5ccf0_o.webp
ORGANIZER;CN="Cattle Dog Jiu Jitsu":MAILTO:cattledogjiujitsu@gmail.com
END:VEVENT
BEGIN:VEVENT
DTSTART;TZID=America/Los_Angeles:20260513T183000
DTEND;TZID=America/Los_Angeles:20260513T203000
DTSTAMP:20260424T085040
CREATED:20260409T203049Z
LAST-MODIFIED:20260409T203049Z
UID:10001754-1778697000-1778704200@bishoplocal.com
SUMMARY:Adult Judo
DESCRIPTION:Adult judo class open to all levels. Practiced in the gi with focus on throws\, takedowns\, and groundwork.
URL:https://bishoplocal.com/event/adult-judo-6/
LOCATION:Cattle Dog Jiu Jitsu\, 364 Rose St\, Bishop\, CA\, 93514\, United States
CATEGORIES:sports-recreation
ATTACH;FMTTYPE=image/webp:https://bishoplocal.com/wp-content/uploads/2026/04/16643643750_9e92c5ccf0_o.webp
ORGANIZER;CN="Cattle Dog Jiu Jitsu":MAILTO:cattledogjiujitsu@gmail.com
END:VEVENT
BEGIN:VEVENT
DTSTART;TZID=America/Los_Angeles:20260514T160000
DTEND;TZID=America/Los_Angeles:20260514T170000
DTSTAMP:20260424T085040
CREATED:20260409T203049Z
LAST-MODIFIED:20260409T203049Z
UID:10001755-1778774400-1778778000@bishoplocal.com
SUMMARY:Pups (3-7) Jiu Jitsu
DESCRIPTION:Jiu jitsu class for kids ages 3-7. Focuses on body awareness\, discipline\, and fun games that build motor skills and muscle memory for martial arts progression.
URL:https://bishoplocal.com/event/pups-3-7-jiu-jitsu-17/
LOCATION:Cattle Dog Jiu Jitsu\, 364 Rose St\, Bishop\, CA\, 93514\, United States
CATEGORIES:sports-recreation
ATTACH;FMTTYPE=image/webp:https://bishoplocal.com/wp-content/uploads/2026/04/16643643750_9e92c5ccf0_o.webp
ORGANIZER;CN="Cattle Dog Jiu Jitsu":MAILTO:cattledogjiujitsu@gmail.com
END:VEVENT
BEGIN:VEVENT
DTSTART;TZID=America/Los_Angeles:20260515T070000
DTEND;TZID=America/Los_Angeles:20260518T150000
DTSTAMP:20260424T085040
CREATED:20260409T202443Z
LAST-MODIFIED:20260409T202443Z
UID:10002103-1778828400-1779116400@bishoplocal.com
SUMMARY:Ladies Weekend Out 2.0 – Bishop Multi-Pitch Climbing
DESCRIPTION:Three-day guided multi-pitch climbing weekend for women at Millpond Campground. Includes camping\, guided climbing\, and social event at Têra Kaia on Main Street.
URL:https://bishoplocal.com/event/ladies-weekend-out-2-0-bishop-multi-pitch-climbing/
LOCATION:Millpond Recreation Area\, 230 Sawmill Rd\, Bishop\, CA\, 93514\, United States
CATEGORIES:sports-recreation
END:VEVENT
BEGIN:VEVENT
DTSTART;TZID=America/Los_Angeles:20260515T170000
DTEND;TZID=America/Los_Angeles:20260515T183000
DTSTAMP:20260424T085040
CREATED:20260409T203107Z
LAST-MODIFIED:20260409T203107Z
UID:10001742-1778864400-1778869800@bishoplocal.com
SUMMARY:Heelers (8 up) Jiu Jitsu
DESCRIPTION:Jiu jitsu class for kids ages 8 and up. Builds on fundamentals with more detailed instruction\, situational rolling\, and self-defense preparation.
URL:https://bishoplocal.com/event/heelers-8-up-jiu-jitsu-18/
LOCATION:Cattle Dog Jiu Jitsu\, 364 Rose St\, Bishop\, CA\, 93514\, United States
CATEGORIES:sports-recreation
ATTACH;FMTTYPE=image/webp:https://bishoplocal.com/wp-content/uploads/2026/04/16643643750_9e92c5ccf0_o.webp
ORGANIZER;CN="Cattle Dog Jiu Jitsu":MAILTO:cattledogjiujitsu@gmail.com
END:VEVENT
BEGIN:VEVENT
DTSTART;TZID=America/Los_Angeles:20260515T183000
DTEND;TZID=America/Los_Angeles:20260515T203000
DTSTAMP:20260424T085040
CREATED:20260409T203059Z
LAST-MODIFIED:20260409T203059Z
UID:10001743-1778869800-1778877000@bishoplocal.com
SUMMARY:Adult Combatives
DESCRIPTION:Adult combatives class allowing students to safely practice striking at controlled intensity with safety equipment\, building a complete self-defense system.
URL:https://bishoplocal.com/event/adult-combatives-6/
LOCATION:Cattle Dog Jiu Jitsu\, 364 Rose St\, Bishop\, CA\, 93514\, United States
CATEGORIES:sports-recreation
ATTACH;FMTTYPE=image/webp:https://bishoplocal.com/wp-content/uploads/2026/04/16643643750_9e92c5ccf0_o.webp
ORGANIZER;CN="Cattle Dog Jiu Jitsu":MAILTO:cattledogjiujitsu@gmail.com
END:VEVENT
BEGIN:VEVENT
DTSTART;TZID=America/Los_Angeles:20260516T050000
DTEND;TZID=America/Los_Angeles:20260516T190000
DTSTAMP:20260424T085040
CREATED:20260409T203205Z
LAST-MODIFIED:20260409T223005Z
UID:10001680-1778907600-1778958000@bishoplocal.com
SUMMARY:Bishop Ultras 100K\, 50M\, 53K\, 20M\, 6K
DESCRIPTION:High-altitude ultra-distance trail races in the Eastern Sierra with distances including 100K\, 50 mile\, 53K\, 20 mile\, and 6K. Courses reach above 7\,000 feet on dirt roads and single-track. Net proceeds benefit the Eastern Sierra Youth Outdoor Program and Inyo County Search and Rescue.
URL:https://bishoplocal.com/event/bishop-ultras-100k-50m-53k-20m-6k/
LOCATION:Millpond Recreation Area\, 230 Sawmill Rd\, Bishop\, CA\, 93514\, United States
CATEGORIES:sports-recreation
ATTACH;FMTTYPE=image/jpeg:https://bishoplocal.com/wp-content/uploads/2026/04/visitbishop-Instagram-1779-ig-17969892601070102.jpg
END:VEVENT
BEGIN:VEVENT
DTSTART;TZID=America/Los_Angeles:20260517T150000
DTEND;TZID=America/Los_Angeles:20260517T170000
DTSTAMP:20260424T085040
CREATED:20260409T203059Z
LAST-MODIFIED:20260409T203059Z
UID:10001744-1779030000-1779037200@bishoplocal.com
SUMMARY:Womens Only Jiu Jitsu
DESCRIPTION:Women-only jiu jitsu class focused on fundamentals and self-defense in a supportive environment.
URL:https://bishoplocal.com/event/womens-only-jiu-jitsu-7/
LOCATION:Cattle Dog Jiu Jitsu\, 364 Rose St\, Bishop\, CA\, 93514\, United States
CATEGORIES:sports-recreation
ATTACH;FMTTYPE=image/webp:https://bishoplocal.com/wp-content/uploads/2026/04/16643643750_9e92c5ccf0_o.webp
ORGANIZER;CN="Cattle Dog Jiu Jitsu":MAILTO:cattledogjiujitsu@gmail.com
END:VEVENT
BEGIN:VEVENT
DTSTART;TZID=America/Los_Angeles:20260517T170000
DTEND;TZID=America/Los_Angeles:20260517T183000
DTSTAMP:20260424T085040
CREATED:20260409T203058Z
LAST-MODIFIED:20260409T203058Z
UID:10001745-1779037200-1779042600@bishoplocal.com
SUMMARY:All Ages Open Mat
DESCRIPTION:Open mat sparring session for all ages. An opportunity to practice skills learned in class through live rolling.
URL:https://bishoplocal.com/event/all-ages-open-mat-7/
LOCATION:Cattle Dog Jiu Jitsu\, 364 Rose St\, Bishop\, CA\, 93514\, United States
CATEGORIES:sports-recreation
ATTACH;FMTTYPE=image/webp:https://bishoplocal.com/wp-content/uploads/2026/04/16643643750_9e92c5ccf0_o.webp
ORGANIZER;CN="Cattle Dog Jiu Jitsu":MAILTO:cattledogjiujitsu@gmail.com
END:VEVENT
END:VCALENDAR